From mboxrd@z Thu Jan  1 00:00:00 1970
Return-Path: <test-report-bounces@dpdk.org>
Received: from mails.dpdk.org (mails.dpdk.org [217.70.189.124])
	by inbox.dpdk.org (Postfix) with ESMTP id 9D7DD455E4
	for <public@inbox.dpdk.org>; Tue,  9 Jul 2024 17:09:49 +0200 (CEST)
Received: from mails.dpdk.org (localhost [127.0.0.1])
	by mails.dpdk.org (Postfix) with ESMTP id 99338402A9;
	Tue,  9 Jul 2024 17:09:49 +0200 (CEST)
Received: from mail-qt1-f227.google.com (mail-qt1-f227.google.com
 [209.85.160.227])
 by mails.dpdk.org (Postfix) with ESMTP id 9840D4025C
 for <test-report@dpdk.org>; Tue,  9 Jul 2024 17:09:48 +0200 (CEST)
Received: by mail-qt1-f227.google.com with SMTP id
 d75a77b69052e-447fda5a010so4475971cf.3
 for <test-report@dpdk.org>; Tue, 09 Jul 2024 08:09:48 -0700 (PDT)
DKIM-Signature: v=1; a=rsa-sha256; c=relaxed/relaxed;
 d=iol.unh.edu; s=unh-iol; t=1720537788; x=1721142588; darn=dpdk.org;
 h=references:in-reply-to:cc:to:from:subject:message-id:date:from:to
 :cc:subject:date:message-id:reply-to;
 bh=oCKDKraXOc9lyzd2z9gygjhE5U4d6hu7ajX5jl356RI=;
 b=b59ZD/BGjXEFem+ABppeGmLxTD9PsxecJLXcyevqdFHwpI2SmurCaBw0/sHInKxjcj
 +FdnsCMXfhAZL8AOreZVXdjSlV0SnSDcqPAUYRxX3JH8MjkFkn71rIITD42LmJiqM42s
 YrIK5+vlabAIsrEQNzSQJ00fu3ztA340M+kVk=
X-Google-DKIM-Signature: v=1; a=rsa-sha256; c=relaxed/relaxed;
 d=1e100.net; s=20230601; t=1720537788; x=1721142588;
 h=references:in-reply-to:cc:to:from:subject:message-id:date
 :x-gm-message-state:from:to:cc:subject:date:message-id:reply-to;
 bh=oCKDKraXOc9lyzd2z9gygjhE5U4d6hu7ajX5jl356RI=;
 b=f8zK6C0UEkksN1Y9krgy41wPuvRhmb6Ep5JalmNCVLNMKmxp4sinnhHlqe89iHMnJe
 TWmiGGhjiW9BwE5t7DFplJeWICsfH9Q06TNNHrTGioY9Y+bUcLFSrtBaUdtu/pzFjhIE
 SrmgQmuifE4s+wG9nn2FWyar8Uw+7D0jmBOjntpSL/GHDCf64McNDbqEaqoXHTCVcKl3
 iT6I0IS6+WwjcFIqjnzvlnCOYa1IeOLk57GFlZcSxyNfiDxZ4hthkjyucuHDQaRupTdE
 XuBJi1vaGf9cHBQZQwk99mhL2f6BqyLC9fWA6swxSOJXpCFfT1vAAd05p/JoEoiYFs4f
 jtPA==
X-Gm-Message-State: AOJu0YzoLWYwIK47ymu5MwwS/cb/Rq6uKmXKlnc4SOnT8M5Cn+fFEdeP
 TcrFqTya8i1LWLRjkh3iZIuElSzpNoCeiOKq7+gUtfTxFbQXaqLM4iaUvUVDp0AWxHFgPsvyG1T
 0Hsd1IFPbT+7VjeDbsKy0mSfqYVeuQrRVtW5wB1sa
X-Google-Smtp-Source: AGHT+IHBAdrjrT5jJBm74QICjQOglR1yaQ1Q/60j63ny0xex7L8yeaZEmM3jVttg8ad8hbRZI7akIDXG8Cue
X-Received: by 2002:a05:622a:106:b0:446:5ee0:d1e with SMTP id
 d75a77b69052e-447fa93365dmr34495971cf.39.1720537787992; 
 Tue, 09 Jul 2024 08:09:47 -0700 (PDT)
Received: from postal.iol.unh.edu (postal.iol.unh.edu. [132.177.123.84])
 by smtp-relay.gmail.com with ESMTPS id
 d75a77b69052e-447f9bce094sm901461cf.22.2024.07.09.08.09.47
 (version=TLS1_2 cipher=ECDHE-ECDSA-AES128-GCM-SHA256 bits=128/128);
 Tue, 09 Jul 2024 08:09:47 -0700 (PDT)
X-Relaying-Domain: iol.unh.edu
Date: Tue, 09 Jul 2024 08:09:47 -0700 (PDT)
Message-ID: <668d52bb.c80a0220.a27dc.67bbSMTPIN_ADDED_MISSING@mx.google.com>
Received: from [172.21.0.7] (unknown [172.18.0.240])
 by postal.iol.unh.edu (Postfix) with ESMTP id AF6906050A6D;
 Tue,  9 Jul 2024 11:09:47 -0400 (EDT)
Subject: |SUCCESS| pw142250-142254 [PATCH] [v4,5/5] net/nfp: vector Rx functi
From: dpdklab@iol.unh.edu
To: Test Report <test-report@dpdk.org>
Cc: dpdk-test-reports@iol.unh.edu
In-Reply-To: <20240709082405.248641-6-chaoyong.he@corigine.com>
References: <20240709082405.248641-6-chaoyong.he@corigine.com>
Content-Type: text/plain
X-BeenThere: test-report@dpdk.org
X-Mailman-Version: 2.1.29
Precedence: list
List-Id: automatic DPDK test reports <test-report.dpdk.org>
List-Unsubscribe: <https://mails.dpdk.org/options/test-report>,
 <mailto:test-report-request@dpdk.org?subject=unsubscribe>
List-Archive: <http://mails.dpdk.org/archives/test-report/>
List-Post: <mailto:test-report@dpdk.org>
List-Help: <mailto:test-report-request@dpdk.org?subject=help>
List-Subscribe: <https://mails.dpdk.org/listinfo/test-report>,
 <mailto:test-report-request@dpdk.org?subject=subscribe>
Errors-To: test-report-bounces@dpdk.org

Test-Label: iol-abi-testing
Test-Status: SUCCESS
http://dpdk.org/patch/142254

_Testing PASS_

Submitter: Chaoyong He <chaoyong.he@corigine.com>
Date: Tuesday, July 09 2024 08:24:05 
DPDK git baseline: Repo:dpdk
  Branch: master
  CommitID:b0fd604534d435cad3ac75fe4fb96b0841084af3

142250-142254 --> testing pass

Test environment and result as below:

+-------------------+----------+
|    Environment    | abi_test |
+===================+==========+
| CentOS Stream 8   | PASS     |
+-------------------+----------+
| Debian Bullseye   | PASS     |
+-------------------+----------+
| CentOS Stream 9   | PASS     |
+-------------------+----------+
| Fedora 37         | PASS     |
+-------------------+----------+
| Debian 12         | PASS     |
+-------------------+----------+
| Fedora 38 (Clang) | PASS     |
+-------------------+----------+
| Fedora 40         | PASS     |
+-------------------+----------+
| Fedora 38         | PASS     |
+-------------------+----------+
| Fedora 39 (Clang) | PASS     |
+-------------------+----------+
| Fedora 39         | PASS     |
+-------------------+----------+
| Fedora 40 (Clang) | PASS     |
+-------------------+----------+
| openSUSE Leap 15  | PASS     |
+-------------------+----------+
| RHEL8             | PASS     |
+-------------------+----------+
| RHEL9             | PASS     |
+-------------------+----------+
| Ubuntu 24.04      | PASS     |
+-------------------+----------+
| Ubuntu 22.04      | PASS     |
+-------------------+----------+


CentOS Stream 8
	Kernel: 5.4.0-167-generic
	Compiler: gcc 8.5.0 20210514

Debian Bullseye
	Kernel: 5.4.0-167-generic
	Compiler: gcc 10.2.1-6

CentOS Stream 9
	Kernel: 5.4.0-167-generic
	Compiler: gcc 11.4.1 20230605

Fedora 37
	Kernel: Depends on container host system
	Compiler: gcc 12.3.1

Debian 12
	Kernel: Container Host Kernel
	Compiler: gcc 12.2.0

Fedora 38 (Clang)
	Kernel: Depends on container host
	Compiler: clang 16.0.6

Fedora 40
	Kernel: Depends on container host
	Compiler: gcc 14.1.1

Fedora 38
	Kernel: Depends on container host
	Compiler: gcc 13.2.1

Fedora 39 (Clang)
	Kernel: Depends on container host
	Compiler: clang 17.0.6

Fedora 39
	Kernel: Depends on container host
	Compiler: gcc 13.2.1

Fedora 40 (Clang)
	Kernel: Depends on container host
	Compiler: clang 18.1.6

openSUSE Leap 15
	Kernel: 5.4.0-167-generic
	Compiler: gcc 7.5.0

RHEL8
	Kernel: 5.4.0-167-generic
	Compiler: gcc 8.5.0 20210514 (Red Hat 8.5.0-20)

RHEL9
	Kernel: Depends on container host
	Compiler: gcc 11.4.1

Ubuntu 24.04
	Kernel: 5.4.0-167-generic
	Compiler: gcc 13.2.0

Ubuntu 22.04
	Kernel: 5.4.0-167-generic
	Compiler: gcc 11.4.0

To view detailed results, visit:
https://lab.dpdk.org/results/dashboard/patchsets/30475/

UNH-IOL DPDK Community Lab

To manage your email subscriptions, visit: 
https://lab.dpdk.org/results/dashboard/preferences/subscriptions/