From mboxrd@z Thu Jan  1 00:00:00 1970
Return-Path: <test-report-bounces@dpdk.org>
Received: from mails.dpdk.org (mails.dpdk.org [217.70.189.124])
	by inbox.dpdk.org (Postfix) with ESMTP id A3F31455E4
	for <public@inbox.dpdk.org>; Tue,  9 Jul 2024 17:40:39 +0200 (CEST)
Received: from mails.dpdk.org (localhost [127.0.0.1])
	by mails.dpdk.org (Postfix) with ESMTP id A0FB8402A9;
	Tue,  9 Jul 2024 17:40:39 +0200 (CEST)
Received: from mail-yb1-f228.google.com (mail-yb1-f228.google.com
 [209.85.219.228])
 by mails.dpdk.org (Postfix) with ESMTP id 413534025C
 for <test-report@dpdk.org>; Tue,  9 Jul 2024 17:40:36 +0200 (CEST)
Received: by mail-yb1-f228.google.com with SMTP id
 3f1490d57ef6-e03c6892e31so4969924276.1
 for <test-report@dpdk.org>; Tue, 09 Jul 2024 08:40:36 -0700 (PDT)
DKIM-Signature: v=1; a=rsa-sha256; c=relaxed/relaxed;
 d=iol.unh.edu; s=unh-iol; t=1720539635; x=1721144435; darn=dpdk.org;
 h=references:in-reply-to:cc:to:from:subject:message-id:date:from:to
 :cc:subject:date:message-id:reply-to;
 bh=7TNmKnJNbwa5ggvFy/wI/TsWvSdPqKyRhK6lakIst6w=;
 b=GF5MK8NWlFilv2txy+t7ROpM/PyOfgL398CM97xDqbLy3IBPOecNx/FfPIK5Q/kf/z
 EULQKX93Nq4QXw3hsOewuTzeTcBnI+hVqBZEKw7s+GXFkREb2okOOtvFYzIZbfOI3Jie
 odaUO4m6aweETJSugaszLary7YFlMSUJfcHhA=
X-Google-DKIM-Signature: v=1; a=rsa-sha256; c=relaxed/relaxed;
 d=1e100.net; s=20230601; t=1720539635; x=1721144435;
 h=references:in-reply-to:cc:to:from:subject:message-id:date
 :x-gm-message-state:from:to:cc:subject:date:message-id:reply-to;
 bh=7TNmKnJNbwa5ggvFy/wI/TsWvSdPqKyRhK6lakIst6w=;
 b=fVqpXOb9pdOyKb4ak04PZ1pSVK6nGQ0Cl+1z2a58Qi66s3J7VlDm68IV+ZE6J91DAM
 2NnI0kjZXAWiUDOdIwZ30g5Wh/jsJK2bXUWUdGYTGxO72lPdzRZlZOgU4jUYrRnnm9JF
 bZuGh4Bner80ptT6Hg/ArfmRUC54XUWO+4EQFbiOXb5TXpjTRq4NzqrC9tElbW7lijEX
 g6QCDVbb1yRv6KLMLypaat0gdRo7BbU1ovMicIg/12jb92WOblnfB4lz/BStVZ7SWWgf
 R+ibYOINpJQ+YRrLB3ESGwXfOOPgKqAZps+2DTkjE60n5O5oq6mH6QCl/5yRcZRKeOBa
 3CYQ==
X-Gm-Message-State: AOJu0YxesUwblU7NH0+lSNE0WC3edwn19xHYOdCEe3IsFLkJ34BtBZBJ
 Qyk2u3yT3Bjr2bhZoFkWjMlbpcPa711xIfiCWnd7JNHwDKRhm4HZZneCeq2ogXhEv8N0/bRTMxm
 ZbxmgNy3c/Meeem0e4gK3sGCdFAmqCaeuFNQUV0ln
X-Google-Smtp-Source: AGHT+IGcFRel6eznvqmbHVAbvsCd2UqgcXaHOz9yliu3afOzer1lWzbd/btPss+Z8Ak1IiyRm95vteCMPqI4
X-Received: by 2002:a05:6902:52b:b0:e03:b3be:2bca with SMTP id
 3f1490d57ef6-e041b1d73abmr3367502276.58.1720539635577; 
 Tue, 09 Jul 2024 08:40:35 -0700 (PDT)
Received: from postal.iol.unh.edu (postal.iol.unh.edu. [132.177.123.84])
 by smtp-relay.gmail.com with ESMTPS id
 3f1490d57ef6-e041a957d2esm67167276.28.2024.07.09.08.40.35
 (version=TLS1_2 cipher=ECDHE-ECDSA-AES128-GCM-SHA256 bits=128/128);
 Tue, 09 Jul 2024 08:40:35 -0700 (PDT)
X-Relaying-Domain: iol.unh.edu
Date: Tue, 09 Jul 2024 08:40:35 -0700 (PDT)
Message-ID: <668d59f3.050a0220.14ad6a.5e94SMTPIN_ADDED_MISSING@mx.google.com>
Received: from [172.21.0.6] (unknown [172.18.0.240])
 by postal.iol.unh.edu (Postfix) with ESMTP id 3B962605C351;
 Tue,  9 Jul 2024 11:40:35 -0400 (EDT)
Subject: |PENDING| pw142240-142239 [PATCH] [v6,2/2] examples/l3fwd-power: add
From: dpdklab@iol.unh.edu
To: Test Report <test-report@dpdk.org>
Cc: dpdk-test-reports@iol.unh.edu
In-Reply-To: <20240709022927.26625-3-lihuisong@huawei.com>
References: <20240709022927.26625-3-lihuisong@huawei.com>
Content-Type: text/plain
X-BeenThere: test-report@dpdk.org
X-Mailman-Version: 2.1.29
Precedence: list
List-Id: automatic DPDK test reports <test-report.dpdk.org>
List-Unsubscribe: <https://mails.dpdk.org/options/test-report>,
 <mailto:test-report-request@dpdk.org?subject=unsubscribe>
List-Archive: <http://mails.dpdk.org/archives/test-report/>
List-Post: <mailto:test-report@dpdk.org>
List-Help: <mailto:test-report-request@dpdk.org?subject=help>
List-Subscribe: <https://mails.dpdk.org/listinfo/test-report>,
 <mailto:test-report-request@dpdk.org?subject=subscribe>
Errors-To: test-report-bounces@dpdk.org

Test-Label: iol-unit-amd64-testing
Test-Status: PENDING
http://dpdk.org/patch/142239

_Testing pending_

Submitter: Huisong Li <lihuisong@huawei.com>
Date: Tuesday, July 09 2024 02:29:27 
DPDK git baseline: Repo:dpdk
  Branch: master
  CommitID:e6bfd9676109f904b4f263402e77105fdca8e67c

142240-142239 --> testing pending

Test environment and result as below:

+---------------------+----------------+
|     Environment     | dpdk_unit_test |
+=====================+================+
| Windows Server 2022 | PASS           |
+---------------------+----------------+
| CentOS Stream 8     | PASS           |
+---------------------+----------------+
| CentOS Stream 9     | PASS           |
+---------------------+----------------+
| Fedora 37           | PASS           |
+---------------------+----------------+
| Debian Bullseye     | PASS           |
+---------------------+----------------+
| Debian 12           | PASS           |
+---------------------+----------------+
| Fedora 38 (Clang)   | PASS           |
+---------------------+----------------+
| Fedora 38           | PASS           |
+---------------------+----------------+
| Windows Server 2019 | PASS           |
+---------------------+----------------+
| Fedora 39           | PASS           |
+---------------------+----------------+
| Fedora 39 (Clang)   | PASS           |
+---------------------+----------------+
| Fedora 40           | PEND           |
+---------------------+----------------+
| Fedora 40 (Clang)   | PASS           |
+---------------------+----------------+
| openSUSE Leap 15    | PEND           |
+---------------------+----------------+
| RHEL8               | PEND           |
+---------------------+----------------+
| RHEL9               | PEND           |
+---------------------+----------------+
| Ubuntu 20.04        | PEND           |
+---------------------+----------------+
| Ubuntu 22.04        | PEND           |
+---------------------+----------------+
| Ubuntu 24.04        | PEND           |
+---------------------+----------------+


Windows Server 2022
	Kernel: 10.0.20348.2031
	Compiler: clang 15.0.7, gcc 8.1.0 (MinGW), and MSVC VS 17.9

CentOS Stream 8
	Kernel: 5.4.0-167-generic
	Compiler: gcc 8.5.0 20210514

CentOS Stream 9
	Kernel: 5.4.0-167-generic
	Compiler: gcc 11.4.1 20230605

Fedora 37
	Kernel: Depends on container host system
	Compiler: gcc 12.3.1

Debian Bullseye
	Kernel: 5.4.0-167-generic
	Compiler: gcc 10.2.1-6

Debian 12
	Kernel: Container Host Kernel
	Compiler: gcc 12.2.0

Fedora 38 (Clang)
	Kernel: Depends on container host
	Compiler: clang 16.0.6

Fedora 38
	Kernel: Depends on container host
	Compiler: gcc 13.2.1

Windows Server 2019
	Kernel: 10.0.17763
	Compiler: clang 14.0 and gcc 8.1.0 (MinGW)

Fedora 39
	Kernel: Depends on container host
	Compiler: gcc 13.2.1

Fedora 39 (Clang)
	Kernel: Depends on container host
	Compiler: clang 17.0.6

Fedora 40
	Kernel: Depends on container host
	Compiler: gcc 14.1.1

Fedora 40 (Clang)
	Kernel: Depends on container host
	Compiler: clang 18.1.6

openSUSE Leap 15
	Kernel: 5.4.0-167-generic
	Compiler: gcc 7.5.0

RHEL8
	Kernel: 5.4.0-167-generic
	Compiler: gcc 8.5.0 20210514 (Red Hat 8.5.0-20)

RHEL9
	Kernel: Depends on container host
	Compiler: gcc 11.4.1

Ubuntu 20.04
	Kernel: 5.4.0-167-generic
	Compiler: gcc 9.4.0-1ubuntu1~20.04.1

Ubuntu 22.04
	Kernel: 5.4.0-167-generic
	Compiler: gcc 11.4.0

Ubuntu 24.04
	Kernel: 5.4.0-167-generic
	Compiler: gcc 13.2.0

To view detailed results, visit:
https://lab.dpdk.org/results/dashboard/patchsets/30470/

UNH-IOL DPDK Community Lab

To manage your email subscriptions, visit: 
https://lab.dpdk.org/results/dashboard/preferences/subscriptions/