From mboxrd@z Thu Jan  1 00:00:00 1970
Return-Path: <test-report-bounces@dpdk.org>
Received: from mails.dpdk.org (mails.dpdk.org [217.70.189.124])
	by inbox.dpdk.org (Postfix) with ESMTP id DB6B1455E4
	for <public@inbox.dpdk.org>; Tue,  9 Jul 2024 17:46:40 +0200 (CEST)
Received: from mails.dpdk.org (localhost [127.0.0.1])
	by mails.dpdk.org (Postfix) with ESMTP id D7B44402A9;
	Tue,  9 Jul 2024 17:46:40 +0200 (CEST)
Received: from mail-oo1-f98.google.com (mail-oo1-f98.google.com
 [209.85.161.98]) by mails.dpdk.org (Postfix) with ESMTP id 965064025C
 for <test-report@dpdk.org>; Tue,  9 Jul 2024 17:46:39 +0200 (CEST)
Received: by mail-oo1-f98.google.com with SMTP id
 006d021491bc7-5c477d97159so2720820eaf.3
 for <test-report@dpdk.org>; Tue, 09 Jul 2024 08:46:39 -0700 (PDT)
DKIM-Signature: v=1; a=rsa-sha256; c=relaxed/relaxed;
 d=iol.unh.edu; s=unh-iol; t=1720539998; x=1721144798; darn=dpdk.org;
 h=references:in-reply-to:cc:to:from:subject:message-id:date:from:to
 :cc:subject:date:message-id:reply-to;
 bh=HbnGUFKyEqSaehmW/mqGcr1T/RkJMk+XBy7zgtMASPc=;
 b=GBwGUfBc8dQi15z1CbiQ8gwDoE9BMeXc+MXrWToPRVsqnfOdSPQh7L3C+QXfn1Rxtz
 CRQQV6Lf71SBkz0dViyoV1LmPXo6wAD25DLElecakvabIbz4kkCX0CWULOh+RIkrbejO
 6CN7BaLyu/FnjkALIPHkojGjy5rOjaaFPSMEo=
X-Google-DKIM-Signature: v=1; a=rsa-sha256; c=relaxed/relaxed;
 d=1e100.net; s=20230601; t=1720539998; x=1721144798;
 h=references:in-reply-to:cc:to:from:subject:message-id:date
 :x-gm-message-state:from:to:cc:subject:date:message-id:reply-to;
 bh=HbnGUFKyEqSaehmW/mqGcr1T/RkJMk+XBy7zgtMASPc=;
 b=s9rL4N2nXUNVO/+irB6Qn+6wDOeudUGtoErRHIV9VhWdJK9/lAAVCWjChwmThdnzNb
 9IRJYOgqrfvDx4bBXOGOSnO20LWy3CEacCTE/SQjMgXoOhVcibCN3pZTDIEmBrq8dtAH
 sZ4WYB8mu1OlJk88jdkE2iWzOJb96AJ9ibsQ795vHDunaMsKQBvfbiOtmfWM0z74ZiAb
 CeokGfKo2jUpTY3FlgrV7D1Lt9/fJW4DbSnepsp3zFn1jSkvanyG1qAC/TcCUMmSuxor
 EbfC6sonRDTXkSqDT8yk1nFuqyRRv/CTqTmlylwH010ri5Yzy3jgyqbOjmGVeDO6hoca
 exEA==
X-Gm-Message-State: AOJu0YzAyWuGZ35L6w4Lj3YaaxBmdE4hwSV2Pl21bq/LHWtwhIOPg8lh
 6Eya/Sb3CoUqFRvSVx+uB+WwqmJc6pnDk4A1K6tLW9qs/lHkB9mUYU1w7DszK60SLfIRNsawp0j
 3MJG8vYkTPwbbJCSLC4BAQl4JPqo5dv5yT9kPBrOV
X-Google-Smtp-Source: AGHT+IFGbzxnUdPQtEeWqJvmfmAQIlXhlgBLaLebxCAxt3QBY9xenWPNEHKzNIH+V8K1y/OfYZ00Oztr1lbE
X-Received: by 2002:a05:6870:310e:b0:25d:f8fa:b53a with SMTP id
 586e51a60fabf-25eae7ce03emr2520475fac.9.1720539998522; 
 Tue, 09 Jul 2024 08:46:38 -0700 (PDT)
Received: from postal.iol.unh.edu (postal.iol.unh.edu. [132.177.123.84])
 by smtp-relay.gmail.com with ESMTPS id
 586e51a60fabf-25ea9c296f0sm62097fac.0.2024.07.09.08.46.38
 (version=TLS1_2 cipher=ECDHE-ECDSA-AES128-GCM-SHA256 bits=128/128);
 Tue, 09 Jul 2024 08:46:38 -0700 (PDT)
X-Relaying-Domain: iol.unh.edu
Date: Tue, 09 Jul 2024 08:46:38 -0700 (PDT)
Message-ID: <668d5b5e.050a0220.dd32.4525SMTPIN_ADDED_MISSING@mx.google.com>
Received: from [172.21.0.6] (unknown [172.18.0.240])
 by postal.iol.unh.edu (Postfix) with ESMTP id 05207605C351;
 Tue,  9 Jul 2024 11:46:38 -0400 (EDT)
Subject: |PENDING| pw142240-142239 [PATCH] [v6,2/2] examples/l3fwd-power: add
From: dpdklab@iol.unh.edu
To: Test Report <test-report@dpdk.org>
Cc: dpdk-test-reports@iol.unh.edu
In-Reply-To: <20240709022927.26625-3-lihuisong@huawei.com>
References: <20240709022927.26625-3-lihuisong@huawei.com>
Content-Type: text/plain
X-BeenThere: test-report@dpdk.org
X-Mailman-Version: 2.1.29
Precedence: list
List-Id: automatic DPDK test reports <test-report.dpdk.org>
List-Unsubscribe: <https://mails.dpdk.org/options/test-report>,
 <mailto:test-report-request@dpdk.org?subject=unsubscribe>
List-Archive: <http://mails.dpdk.org/archives/test-report/>
List-Post: <mailto:test-report@dpdk.org>
List-Help: <mailto:test-report-request@dpdk.org?subject=help>
List-Subscribe: <https://mails.dpdk.org/listinfo/test-report>,
 <mailto:test-report-request@dpdk.org?subject=subscribe>
Errors-To: test-report-bounces@dpdk.org

Test-Label: iol-unit-amd64-testing
Test-Status: PENDING
http://dpdk.org/patch/142239

_Testing pending_

Submitter: Huisong Li <lihuisong@huawei.com>
Date: Tuesday, July 09 2024 02:29:27 
DPDK git baseline: Repo:dpdk
  Branch: master
  CommitID:e6bfd9676109f904b4f263402e77105fdca8e67c

142240-142239 --> testing pending

Test environment and result as below:

+---------------------+----------------+
|     Environment     | dpdk_unit_test |
+=====================+================+
| Windows Server 2022 | PASS           |
+---------------------+----------------+
| CentOS Stream 8     | PASS           |
+---------------------+----------------+
| CentOS Stream 9     | PASS           |
+---------------------+----------------+
| Fedora 37           | PASS           |
+---------------------+----------------+
| Debian Bullseye     | PASS           |
+---------------------+----------------+
| Debian 12           | PASS           |
+---------------------+----------------+
| Fedora 38 (Clang)   | PASS           |
+---------------------+----------------+
| Fedora 38           | PASS           |
+---------------------+----------------+
| Windows Server 2019 | PASS           |
+---------------------+----------------+
| Fedora 39           | PASS           |
+---------------------+----------------+
| Fedora 39 (Clang)   | PASS           |
+---------------------+----------------+
| Fedora 40           | PEND           |
+---------------------+----------------+
| Fedora 40 (Clang)   | PASS           |
+---------------------+----------------+
| openSUSE Leap 15    | PASS           |
+---------------------+----------------+
| RHEL8               | PEND           |
+---------------------+----------------+
| RHEL9               | PEND           |
+---------------------+----------------+
| Ubuntu 20.04        | PEND           |
+---------------------+----------------+
| Ubuntu 22.04        | PEND           |
+---------------------+----------------+
| Ubuntu 24.04        | PEND           |
+---------------------+----------------+


Windows Server 2022
	Kernel: 10.0.20348.2031
	Compiler: clang 15.0.7, gcc 8.1.0 (MinGW), and MSVC VS 17.9

CentOS Stream 8
	Kernel: 5.4.0-167-generic
	Compiler: gcc 8.5.0 20210514

CentOS Stream 9
	Kernel: 5.4.0-167-generic
	Compiler: gcc 11.4.1 20230605

Fedora 37
	Kernel: Depends on container host system
	Compiler: gcc 12.3.1

Debian Bullseye
	Kernel: 5.4.0-167-generic
	Compiler: gcc 10.2.1-6

Debian 12
	Kernel: Container Host Kernel
	Compiler: gcc 12.2.0

Fedora 38 (Clang)
	Kernel: Depends on container host
	Compiler: clang 16.0.6

Fedora 38
	Kernel: Depends on container host
	Compiler: gcc 13.2.1

Windows Server 2019
	Kernel: 10.0.17763
	Compiler: clang 14.0 and gcc 8.1.0 (MinGW)

Fedora 39
	Kernel: Depends on container host
	Compiler: gcc 13.2.1

Fedora 39 (Clang)
	Kernel: Depends on container host
	Compiler: clang 17.0.6

Fedora 40
	Kernel: Depends on container host
	Compiler: gcc 14.1.1

Fedora 40 (Clang)
	Kernel: Depends on container host
	Compiler: clang 18.1.6

openSUSE Leap 15
	Kernel: 5.4.0-167-generic
	Compiler: gcc 7.5.0

RHEL8
	Kernel: 5.4.0-167-generic
	Compiler: gcc 8.5.0 20210514 (Red Hat 8.5.0-20)

RHEL9
	Kernel: Depends on container host
	Compiler: gcc 11.4.1

Ubuntu 20.04
	Kernel: 5.4.0-167-generic
	Compiler: gcc 9.4.0-1ubuntu1~20.04.1

Ubuntu 22.04
	Kernel: 5.4.0-167-generic
	Compiler: gcc 11.4.0

Ubuntu 24.04
	Kernel: 5.4.0-167-generic
	Compiler: gcc 13.2.0

To view detailed results, visit:
https://lab.dpdk.org/results/dashboard/patchsets/30470/

UNH-IOL DPDK Community Lab

To manage your email subscriptions, visit: 
https://lab.dpdk.org/results/dashboard/preferences/subscriptions/