From mboxrd@z Thu Jan  1 00:00:00 1970
Return-Path: <test-report-bounces@dpdk.org>
Received: from mails.dpdk.org (mails.dpdk.org [217.70.189.124])
	by inbox.dpdk.org (Postfix) with ESMTP id 97865455E7
	for <public@inbox.dpdk.org>; Tue,  9 Jul 2024 19:57:22 +0200 (CEST)
Received: from mails.dpdk.org (localhost [127.0.0.1])
	by mails.dpdk.org (Postfix) with ESMTP id 948DA402A9;
	Tue,  9 Jul 2024 19:57:22 +0200 (CEST)
Received: from mail-yw1-f227.google.com (mail-yw1-f227.google.com
 [209.85.128.227])
 by mails.dpdk.org (Postfix) with ESMTP id 26FDD4025C
 for <test-report@dpdk.org>; Tue,  9 Jul 2024 19:57:21 +0200 (CEST)
Received: by mail-yw1-f227.google.com with SMTP id
 00721157ae682-6512866fa87so48489187b3.2
 for <test-report@dpdk.org>; Tue, 09 Jul 2024 10:57:21 -0700 (PDT)
DKIM-Signature: v=1; a=rsa-sha256; c=relaxed/relaxed;
 d=iol.unh.edu; s=unh-iol; t=1720547840; x=1721152640; darn=dpdk.org;
 h=references:in-reply-to:cc:to:from:subject:message-id:date:from:to
 :cc:subject:date:message-id:reply-to;
 bh=nVUwUsCoCfIf8w1tpe2nqlRaMunMCy7PpT7KYqbqukA=;
 b=Cde+zYwGZMnUvkagD3+tyDNV/nOYLzEhgD86l1HkGW9XaA72zFvw3e9p5dMWWajJNE
 XsZgSHZ+Lhi4NK4Q1+ViDgjdQ/nocd8WLyJtHOXVF8rKv0xAfKapH03EpFDkiy4j4HcS
 OBMlB66C53OUV0TLGLbHYTIuIWYQnlXjRCPDY=
X-Google-DKIM-Signature: v=1; a=rsa-sha256; c=relaxed/relaxed;
 d=1e100.net; s=20230601; t=1720547840; x=1721152640;
 h=references:in-reply-to:cc:to:from:subject:message-id:date
 :x-gm-message-state:from:to:cc:subject:date:message-id:reply-to;
 bh=nVUwUsCoCfIf8w1tpe2nqlRaMunMCy7PpT7KYqbqukA=;
 b=dL9G8TlTXBRkGueGnlgPVQqteS5E5M28Zn/hQIoAEAPFs9j0x5zJoB9hOZZK75wFPl
 yjP0+A3KD01dPAUZC4YUDkizuHcmAO1Ji8l+p4lgzwU+Iu3ZG8Pd0W6w6Wu5R1QJtebT
 Pq/bR/Z7NHB/MJI7H/EeL4/GI5gm6eJh6ZKzM/1O9G3f9O12dPWOcGnUh9608qT1cwm0
 otDSdqRCUcbtvnwM0f7jQMSh6ACkLH/azmJzxQdqxlBkoE5TsIeRYDZw0KM9Ddis1eqV
 Z2NcOJxYGAXPCiUh26H0Tib+5nqjwJVsuw/45rwCLfrU5ALkJq2BVIEG1vU78zCP33kJ
 4JuA==
X-Gm-Message-State: AOJu0YxGkxRMgepR7fvPzRxJJ2nNwkUkjnv259NndLkMgJ+91Yct9uLd
 kvglCUocCBxpwDeA3McQmnJMwOVFYwcafc4UUreeGEmLVkvfRw18xWawu0BirlyB7hLYLLZNCE4
 4QX+RRP6bfaOYvcNOjC6LyVkUjnZc9zC7/Me8wrQqXqA03LaMbGBmvPbs
X-Google-Smtp-Source: AGHT+IFFFt5NBO4enH7l8nAi7Pdf6xzVNzam8a0K6+LY2VeAIBMMIUsPuJiIqY7QWziUVmGdsvZwMkkh+0N9
X-Received: by 2002:a0d:c886:0:b0:62c:c5ea:407 with SMTP id
 00721157ae682-658ef341494mr38226387b3.29.1720547840580; 
 Tue, 09 Jul 2024 10:57:20 -0700 (PDT)
Received: from postal.iol.unh.edu (postal.iol.unh.edu.
 [2606:4100:3880:1234::84]) by smtp-relay.gmail.com with ESMTPS id
 00721157ae682-658e62f3d4csm654757b3.58.2024.07.09.10.57.20
 (version=TLS1_2 cipher=ECDHE-ECDSA-AES128-GCM-SHA256 bits=128/128);
 Tue, 09 Jul 2024 10:57:20 -0700 (PDT)
X-Relaying-Domain: iol.unh.edu
Date: Tue, 09 Jul 2024 10:57:20 -0700 (PDT)
Message-ID: <668d7a00.050a0220.ee08d.4980SMTPIN_ADDED_MISSING@mx.google.com>
Received: from [172.17.0.4] (unknown [172.18.0.217])
 by postal.iol.unh.edu (Postfix) with ESMTP id 3CD08605C351;
 Tue,  9 Jul 2024 13:57:20 -0400 (EDT)
Subject: |PENDING| pw142264-142271 [PATCH] [8/8] net/mlx5/hws: fix NA64 copy 
From: dpdklab@iol.unh.edu
To: Test Report <test-report@dpdk.org>
Cc: dpdk-test-reports@iol.unh.edu
In-Reply-To: <20240709123103.2101902-9-igozlan@nvidia.com>
References: <20240709123103.2101902-9-igozlan@nvidia.com>
Content-Type: text/plain
X-BeenThere: test-report@dpdk.org
X-Mailman-Version: 2.1.29
Precedence: list
List-Id: automatic DPDK test reports <test-report.dpdk.org>
List-Unsubscribe: <https://mails.dpdk.org/options/test-report>,
 <mailto:test-report-request@dpdk.org?subject=unsubscribe>
List-Archive: <http://mails.dpdk.org/archives/test-report/>
List-Post: <mailto:test-report@dpdk.org>
List-Help: <mailto:test-report-request@dpdk.org?subject=help>
List-Subscribe: <https://mails.dpdk.org/listinfo/test-report>,
 <mailto:test-report-request@dpdk.org?subject=subscribe>
Errors-To: test-report-bounces@dpdk.org

Test-Label: iol-abi-testing
Test-Status: PENDING
http://dpdk.org/patch/142271

_Testing pending_

Submitter: Itamar Gozlan <igozlan@nvidia.com>
Date: Tuesday, July 09 2024 12:31:03 
DPDK git baseline: Repo:dpdk
  Branch: master
  CommitID:b31811d96c1d0fb36df78dc34ef8325bce447bfc

142264-142271 --> testing pending

Test environment and result as below:

+-------------------+----------+
|    Environment    | abi_test |
+===================+==========+
| CentOS Stream 8   | PASS     |
+-------------------+----------+
| CentOS Stream 9   | PASS     |
+-------------------+----------+
| Debian Bullseye   | PASS     |
+-------------------+----------+
| Debian 12         | PASS     |
+-------------------+----------+
| Fedora 37         | PEND     |
+-------------------+----------+
| Fedora 38 (Clang) | PASS     |
+-------------------+----------+
| Fedora 38         | PASS     |
+-------------------+----------+
| Fedora 39 (Clang) | PASS     |
+-------------------+----------+
| Fedora 39         | PEND     |
+-------------------+----------+
| Fedora 40 (Clang) | PASS     |
+-------------------+----------+
| openSUSE Leap 15  | PEND     |
+-------------------+----------+
| Fedora 40         | PEND     |
+-------------------+----------+
| RHEL8             | PEND     |
+-------------------+----------+
| RHEL9             | PEND     |
+-------------------+----------+
| Ubuntu 22.04      | PEND     |
+-------------------+----------+
| Ubuntu 24.04      | PEND     |
+-------------------+----------+


CentOS Stream 8
	Kernel: 5.4.0-167-generic
	Compiler: gcc 8.5.0 20210514

CentOS Stream 9
	Kernel: 5.4.0-167-generic
	Compiler: gcc 11.4.1 20230605

Debian Bullseye
	Kernel: 5.4.0-167-generic
	Compiler: gcc 10.2.1-6

Debian 12
	Kernel: Container Host Kernel
	Compiler: gcc 12.2.0

Fedora 37
	Kernel: Depends on container host system
	Compiler: gcc 12.3.1

Fedora 38 (Clang)
	Kernel: Depends on container host
	Compiler: clang 16.0.6

Fedora 38
	Kernel: Depends on container host
	Compiler: gcc 13.2.1

Fedora 39 (Clang)
	Kernel: Depends on container host
	Compiler: clang 17.0.6

Fedora 39
	Kernel: Depends on container host
	Compiler: gcc 13.2.1

Fedora 40 (Clang)
	Kernel: Depends on container host
	Compiler: clang 18.1.6

openSUSE Leap 15
	Kernel: 5.4.0-167-generic
	Compiler: gcc 7.5.0

Fedora 40
	Kernel: Depends on container host
	Compiler: gcc 14.1.1

RHEL8
	Kernel: 5.4.0-167-generic
	Compiler: gcc 8.5.0 20210514 (Red Hat 8.5.0-20)

RHEL9
	Kernel: Depends on container host
	Compiler: gcc 11.4.1

Ubuntu 22.04
	Kernel: 5.4.0-167-generic
	Compiler: gcc 11.4.0

Ubuntu 24.04
	Kernel: 5.4.0-167-generic
	Compiler: gcc 13.2.0

To view detailed results, visit:
https://lab.dpdk.org/results/dashboard/patchsets/30478/

UNH-IOL DPDK Community Lab

To manage your email subscriptions, visit: 
https://lab.dpdk.org/results/dashboard/preferences/subscriptions/