From mboxrd@z Thu Jan  1 00:00:00 1970
Return-Path: <test-report-bounces@dpdk.org>
Received: from mails.dpdk.org (mails.dpdk.org [217.70.189.124])
	by inbox.dpdk.org (Postfix) with ESMTP id E3CCD455E8
	for <public@inbox.dpdk.org>; Tue,  9 Jul 2024 20:23:50 +0200 (CEST)
Received: from mails.dpdk.org (localhost [127.0.0.1])
	by mails.dpdk.org (Postfix) with ESMTP id DFFA5402A9;
	Tue,  9 Jul 2024 20:23:50 +0200 (CEST)
Received: from mail-pl1-f225.google.com (mail-pl1-f225.google.com
 [209.85.214.225])
 by mails.dpdk.org (Postfix) with ESMTP id 0A1064025C
 for <test-report@dpdk.org>; Tue,  9 Jul 2024 20:23:50 +0200 (CEST)
Received: by mail-pl1-f225.google.com with SMTP id
 d9443c01a7336-1fb64d627b0so16313185ad.0
 for <test-report@dpdk.org>; Tue, 09 Jul 2024 11:23:49 -0700 (PDT)
DKIM-Signature: v=1; a=rsa-sha256; c=relaxed/relaxed;
 d=iol.unh.edu; s=unh-iol; t=1720549429; x=1721154229; darn=dpdk.org;
 h=references:in-reply-to:cc:to:from:subject:message-id:date:from:to
 :cc:subject:date:message-id:reply-to;
 bh=3lEuhojv3A0cpYuvp9poNmfOyRhFgDJOAxLmWLPhW6Q=;
 b=RDjhxyJMEDK+fB6TYjA00i4yC2JdWQrcJdP7clJkW2NvjTmUNHvWhfP4vYu2jvtmeh
 dTEJFehh+kGZhD6RXhTM5dXWQf6UQcjo0f3xKDLPFinvmuWHKglhHcsq5qZd5s8CPv6H
 mH3MiB423nOLcSEYGJtNub6/u1CpHpzX1JVpI=
X-Google-DKIM-Signature: v=1; a=rsa-sha256; c=relaxed/relaxed;
 d=1e100.net; s=20230601; t=1720549429; x=1721154229;
 h=references:in-reply-to:cc:to:from:subject:message-id:date
 :x-gm-message-state:from:to:cc:subject:date:message-id:reply-to;
 bh=3lEuhojv3A0cpYuvp9poNmfOyRhFgDJOAxLmWLPhW6Q=;
 b=Gc0ijZeZ3BTYlDH1MvaBf/xFFTqS5YPtQqaPWYWz9ALE4LRX/6eUeEuNCTCftXvfJo
 /RuxbAV03b1K/0k9fGRDE5/zOYChTdjmWk/m+DOCrNZFjT/Nf+NkdcGCH1wqiJsVmSmy
 /QoAs+k76uCOGziGpb5k6dsGOZLWsItIE8+JB4eLUv/ZDEr26nKMqXAU1HM40glL2m/B
 Mrw0tKy4nfJKWer3jwYwJmEvcyRReHn0YY8U4exZPnB/3dZFDvJ6hpcTzcpDnfdgrRMQ
 cQizLQo4ortbQNR9gplViDI/iW8q8a55KYKdtkA8ZjMVaaAgdIJNPRYyWgw0dQ+WezVb
 ySPw==
X-Gm-Message-State: AOJu0Yw2dHC6FOagabdQRR2HW8AXLAMZv5N21LDzCA69AmaC/WBuYLXo
 LZ2CS1ZiK8oKv2P+hSXCDxN1DkDYRC1PBU6YpVMtUS6YBE5BLLzxaIWHFKbbXW7vJ9AswBMitBU
 jgjO/htfODw/oPy3qSJY9Dvz9KLg4PAbFJqI8wf4X
X-Google-Smtp-Source: AGHT+IHNio4rPyXvSxfoJUax6G8bWg/rfyJIoKl27mBdKM5KJr1oBbM1jd6+m67yGYi+0JFi6UGXEkBo+TDn
X-Received: by 2002:a17:902:cec2:b0:1fb:9b9f:cb38 with SMTP id
 d9443c01a7336-1fbb6ea43f3mr27403785ad.46.1720549429261; 
 Tue, 09 Jul 2024 11:23:49 -0700 (PDT)
Received: from postal.iol.unh.edu (postal.iol.unh.edu. [132.177.123.84])
 by smtp-relay.gmail.com with ESMTPS id
 d9443c01a7336-1fbb6ab9129sm568515ad.88.2024.07.09.11.23.49
 (version=TLS1_2 cipher=ECDHE-ECDSA-AES128-GCM-SHA256 bits=128/128);
 Tue, 09 Jul 2024 11:23:49 -0700 (PDT)
X-Relaying-Domain: iol.unh.edu
Date: Tue, 09 Jul 2024 11:23:49 -0700 (PDT)
Message-ID: <668d8035.170a0220.55867.3fdeSMTPIN_ADDED_MISSING@mx.google.com>
Received: from [172.21.0.9] (unknown [172.18.0.240])
 by postal.iol.unh.edu (Postfix) with ESMTP id A2669605C351;
 Tue,  9 Jul 2024 14:23:48 -0400 (EDT)
Subject: |PENDING| pw142274-142275 [PATCH] [v1,2/2] dts: improve starting and
From: dpdklab@iol.unh.edu
To: Test Report <test-report@dpdk.org>
Cc: dpdk-test-reports@iol.unh.edu
In-Reply-To: <20240709163145.110030-3-jspewock@iol.unh.edu>
References: <20240709163145.110030-3-jspewock@iol.unh.edu>
Content-Type: text/plain
X-BeenThere: test-report@dpdk.org
X-Mailman-Version: 2.1.29
Precedence: list
List-Id: automatic DPDK test reports <test-report.dpdk.org>
List-Unsubscribe: <https://mails.dpdk.org/options/test-report>,
 <mailto:test-report-request@dpdk.org?subject=unsubscribe>
List-Archive: <http://mails.dpdk.org/archives/test-report/>
List-Post: <mailto:test-report@dpdk.org>
List-Help: <mailto:test-report-request@dpdk.org?subject=help>
List-Subscribe: <https://mails.dpdk.org/listinfo/test-report>,
 <mailto:test-report-request@dpdk.org?subject=subscribe>
Errors-To: test-report-bounces@dpdk.org

Test-Label: iol-compile-amd64-testing
Test-Status: PENDING
http://dpdk.org/patch/142275

_Testing pending_

Submitter: Jeremy Spewock <jspewock@iol.unh.edu>
Date: Tuesday, July 09 2024 16:31:45 
DPDK git baseline: Repo:dpdk
  Branch: master
  CommitID:8e8aa4a4f90dce1fcea03a93f508e3d9bc0c98c0

142274-142275 --> testing pending

Test environment and result as below:

+---------------------+--------------------+----------------------+-------------------+
|     Environment     | dpdk_meson_compile | dpdk_mingw64_compile | dpdk_msvc_compile |
+=====================+====================+======================+===================+
| Windows Server 2022 | PASS               | PASS                 | PASS              |
+---------------------+--------------------+----------------------+-------------------+
| Windows Server 2019 | PEND               | PASS                 | SKIPPED           |
+---------------------+--------------------+----------------------+-------------------+
| FreeBSD 13.3        | PASS               | SKIPPED              | SKIPPED           |
+---------------------+--------------------+----------------------+-------------------+
| FreeBSD 14.1        | PASS               | SKIPPED              | SKIPPED           |
+---------------------+--------------------+----------------------+-------------------+


Windows Server 2022
	Kernel: 10.0.20348.2031
	Compiler: clang 15.0.7, gcc 8.1.0 (MinGW), and MSVC VS 17.9

Windows Server 2019
	Kernel: 10.0.17763
	Compiler: clang 14.0 and gcc 8.1.0 (MinGW)

FreeBSD 13.3
	Kernel: 13.3-RELEASE-p1
	Compiler: clang 17.0.6

FreeBSD 14.1
	Kernel: 14.1
	Compiler: clang 18.1.5

To view detailed results, visit:
https://lab.dpdk.org/results/dashboard/patchsets/30481/

UNH-IOL DPDK Community Lab

To manage your email subscriptions, visit: 
https://lab.dpdk.org/results/dashboard/preferences/subscriptions/