From mboxrd@z Thu Jan  1 00:00:00 1970
Return-Path: <test-report-bounces@dpdk.org>
Received: from mails.dpdk.org (mails.dpdk.org [217.70.189.124])
	by inbox.dpdk.org (Postfix) with ESMTP id DCBD945556
	for <public@inbox.dpdk.org>; Tue,  9 Jul 2024 22:07:25 +0200 (CEST)
Received: from mails.dpdk.org (localhost [127.0.0.1])
	by mails.dpdk.org (Postfix) with ESMTP id DA191402A9;
	Tue,  9 Jul 2024 22:07:25 +0200 (CEST)
Received: from mail-il1-f228.google.com (mail-il1-f228.google.com
 [209.85.166.228])
 by mails.dpdk.org (Postfix) with ESMTP id BD8024025C
 for <test-report@dpdk.org>; Tue,  9 Jul 2024 22:07:23 +0200 (CEST)
Received: by mail-il1-f228.google.com with SMTP id
 e9e14a558f8ab-375858224adso21538565ab.0
 for <test-report@dpdk.org>; Tue, 09 Jul 2024 13:07:23 -0700 (PDT)
DKIM-Signature: v=1; a=rsa-sha256; c=relaxed/relaxed;
 d=iol.unh.edu; s=unh-iol; t=1720555643; x=1721160443; darn=dpdk.org;
 h=references:in-reply-to:cc:to:from:subject:message-id:date:from:to
 :cc:subject:date:message-id:reply-to;
 bh=ZdGTr+X1BgrFAZAPz2YNX8VEqXgliOIXZwIWMhihjjM=;
 b=jR9LQOjgJ9dvUFBgPTWKLV0exobTf6xT5e5BNjvUDxNjwnY0tPdHSn58lip5cZrRjy
 gg4RJTBsvtyLoiBySqKkZSuXiRWMJSWqLGn/0o3P39aDycg+qN1YRcWo2LZrLZrRUxh8
 Aviv1grB4rUU1H9u2hgAIPJ3iePoeE/gJ7s8M=
X-Google-DKIM-Signature: v=1; a=rsa-sha256; c=relaxed/relaxed;
 d=1e100.net; s=20230601; t=1720555643; x=1721160443;
 h=references:in-reply-to:cc:to:from:subject:message-id:date
 :x-gm-message-state:from:to:cc:subject:date:message-id:reply-to;
 bh=ZdGTr+X1BgrFAZAPz2YNX8VEqXgliOIXZwIWMhihjjM=;
 b=FVg66p7nx4iYvFQ312fOf/3EGoThXFuoo9+QY+010pt6ahC2xpzgA4cFgzzN4dxazZ
 IpEz46D/ejlVMUKrXCtTu+ABRU6POhlYEOXZC/TVC6hSF3nLmslH6WIpiTb8vVBapwVm
 HcLUsCJQ0UwhtYNHNkAmXIXPX1YmEuGM1AINtDJ5EJ/vsBGKDu4XnO0W8Q5NtU3H3ASz
 8eXmYvpbvKy00kIYP2LlqyBV49skW7xQRRHsUxVdpv8oZckOkWNzxN6wg5EYA4RgBfAI
 J0FIBEn0X8OsdV1t20hDPG3djNmRQGkM0+NAzmJ6+3Vqli541ttEAG4CJkM29LmwOL74
 c9fA==
X-Gm-Message-State: AOJu0Yw1J+4eZlQssqb3NWSah1c3mUrqPeNHLlxGd0xmux1MD1Jx2LHs
 cozHwGp73iD9/oNqc/oaLir1p8E+JL0/mJnco8SaJ4vGAIFU6U7W6nvjJ5saL8dUOUM1jtgaMx0
 W/NbYfo7ZLR4CTkxDsdnRJspUFBYsZ2vQwDCj4YET
X-Google-Smtp-Source: AGHT+IFoGLV/Fy4IEt1GAFKImMVo4Dd8yRZAobHqupYPTIL7wq3RH4J1HDo/pgV4cHmiymrXNXNC0/boB7Om
X-Received: by 2002:a05:6e02:138e:b0:374:9916:92 with SMTP id
 e9e14a558f8ab-38a5a0798e5mr42927545ab.22.1720555642937; 
 Tue, 09 Jul 2024 13:07:22 -0700 (PDT)
Received: from postal.iol.unh.edu (postal.iol.unh.edu. [132.177.123.84])
 by smtp-relay.gmail.com with ESMTPS id
 e9e14a558f8ab-38a4b581d81sm1067515ab.50.2024.07.09.13.07.22
 (version=TLS1_2 cipher=ECDHE-ECDSA-AES128-GCM-SHA256 bits=128/128);
 Tue, 09 Jul 2024 13:07:22 -0700 (PDT)
X-Relaying-Domain: iol.unh.edu
Date: Tue, 09 Jul 2024 13:07:22 -0700 (PDT)
Message-ID: <668d987a.050a0220.1024b.89f1SMTPIN_ADDED_MISSING@mx.google.com>
Received: from [172.21.0.7] (unknown [172.18.0.240])
 by postal.iol.unh.edu (Postfix) with ESMTP id 73C62605C351;
 Tue,  9 Jul 2024 16:07:22 -0400 (EDT)
Subject: |PENDING| pw142240-142239 [PATCH] [v6,2/2] examples/l3fwd-power: add
From: dpdklab@iol.unh.edu
To: Test Report <test-report@dpdk.org>
Cc: dpdk-test-reports@iol.unh.edu
In-Reply-To: <20240709022927.26625-3-lihuisong@huawei.com>
References: <20240709022927.26625-3-lihuisong@huawei.com>
Content-Type: text/plain
X-BeenThere: test-report@dpdk.org
X-Mailman-Version: 2.1.29
Precedence: list
List-Id: automatic DPDK test reports <test-report.dpdk.org>
List-Unsubscribe: <https://mails.dpdk.org/options/test-report>,
 <mailto:test-report-request@dpdk.org?subject=unsubscribe>
List-Archive: <http://mails.dpdk.org/archives/test-report/>
List-Post: <mailto:test-report@dpdk.org>
List-Help: <mailto:test-report-request@dpdk.org?subject=help>
List-Subscribe: <https://mails.dpdk.org/listinfo/test-report>,
 <mailto:test-report-request@dpdk.org?subject=subscribe>
Errors-To: test-report-bounces@dpdk.org

Test-Label: iol-unit-arm64-testing
Test-Status: PENDING
http://dpdk.org/patch/142239

_Testing pending_

Submitter: Huisong Li <lihuisong@huawei.com>
Date: Tuesday, July 09 2024 02:29:27 
DPDK git baseline: Repo:dpdk
  Branch: master
  CommitID:e6bfd9676109f904b4f263402e77105fdca8e67c

142240-142239 --> testing pending

Test environment and result as below:

+-----------------------------+--------------+------------------------------+---------------------------+----------------+
|         Environment         | lpm_autotest | cryptodev_sw_snow3g_autotest | cryptodev_sw_zuc_autotest | dpdk_unit_test |
+=============================+==============+==============================+===========================+================+
| Ubuntu 20.04 ARM SVE        | PASS         | SKIPPED                      | SKIPPED                   | SKIPPED        |
+-----------------------------+--------------+------------------------------+---------------------------+----------------+
| Debian 12 (arm)             | SKIPPED      | PASS                         | PASS                      | PEND           |
+-----------------------------+--------------+------------------------------+---------------------------+----------------+
| Fedora 37 (ARM)             | SKIPPED      | SKIPPED                      | SKIPPED                   | PASS           |
+-----------------------------+--------------+------------------------------+---------------------------+----------------+
| CentOS Stream 9 (ARM)       | SKIPPED      | SKIPPED                      | SKIPPED                   | PEND           |
+-----------------------------+--------------+------------------------------+---------------------------+----------------+
| Debian 11 (Buster) (ARM)    | SKIPPED      | SKIPPED                      | SKIPPED                   | PEND           |
+-----------------------------+--------------+------------------------------+---------------------------+----------------+
| 32-bit Ubuntu 20.04.4 (ARM) | SKIPPED      | SKIPPED                      | SKIPPED                   | PASS           |
+-----------------------------+--------------+------------------------------+---------------------------+----------------+
| Fedora 38 (ARM Clang)       | SKIPPED      | SKIPPED                      | SKIPPED                   | PEND           |
+-----------------------------+--------------+------------------------------+---------------------------+----------------+
| Fedora 38 (ARM)             | SKIPPED      | SKIPPED                      | SKIPPED                   | PASS           |
+-----------------------------+--------------+------------------------------+---------------------------+----------------+
| Fedora 39 (ARM)             | SKIPPED      | SKIPPED                      | SKIPPED                   | PASS           |
+-----------------------------+--------------+------------------------------+---------------------------+----------------+
| Fedora 39 (ARM Clang)       | SKIPPED      | SKIPPED                      | SKIPPED                   | PEND           |
+-----------------------------+--------------+------------------------------+---------------------------+----------------+
| Fedora 40 (ARM)             | SKIPPED      | SKIPPED                      | SKIPPED                   | PEND           |
+-----------------------------+--------------+------------------------------+---------------------------+----------------+
| Fedora 40 (ARM Clang)       | SKIPPED      | SKIPPED                      | SKIPPED                   | PEND           |
+-----------------------------+--------------+------------------------------+---------------------------+----------------+
| RHEL9 (ARM)                 | SKIPPED      | SKIPPED                      | SKIPPED                   | PEND           |
+-----------------------------+--------------+------------------------------+---------------------------+----------------+
| Ubuntu 20.04 (ARM)          | SKIPPED      | SKIPPED                      | SKIPPED                   | PEND           |
+-----------------------------+--------------+------------------------------+---------------------------+----------------+
| Ubuntu 22.04 (ARM)          | SKIPPED      | SKIPPED                      | SKIPPED                   | PEND           |
+-----------------------------+--------------+------------------------------+---------------------------+----------------+
| Ubuntu 24.04 (ARM)          | SKIPPED      | SKIPPED                      | SKIPPED                   | PEND           |
+-----------------------------+--------------+------------------------------+---------------------------+----------------+


Ubuntu 20.04 ARM SVE
	Kernel: 5.4.0-167-generic
	Compiler: gcc (Ubuntu 10.5.0-1ubuntu1~20.04) 10.5.0

Debian 12 (arm)
	Kernel: Container Host Kernel
	Compiler: gcc 12.2.0

Fedora 37 (ARM)
	Kernel: Depends on container host
	Compiler: gcc 12.3.1

CentOS Stream 9 (ARM)
	Kernel: Container Host Kernel
	Compiler: gcc 11.4.1

Debian 11 (Buster) (ARM)
	Kernel: Container Host Kernel
	Compiler: gcc 10.2.1

32-bit Ubuntu 20.04.4 (ARM)
	Kernel: 5.4.0-155-generic aarch64
	Compiler: gcc 9.4

Fedora 38 (ARM Clang)
	Kernel: Depends on container host
	Compiler: clang 16.0.6

Fedora 38 (ARM)
	Kernel: Depends on container host
	Compiler: gcc 13.2.1

Fedora 39 (ARM)
	Kernel: Depends on container host
	Compiler: gcc 13.2.1

Fedora 39 (ARM Clang)
	Kernel: Depends on container host
	Compiler: clang 17.0.6

Fedora 40 (ARM)
	Kernel: Depends on container host
	Compiler: gcc 14.1.1

Fedora 40 (ARM Clang)
	Kernel: Depends on container host
	Compiler: clang 18.1.6

RHEL9 (ARM)
	Kernel: Depends on container host
	Compiler: gcc 11.4.1

Ubuntu 20.04 (ARM)
	Kernel: Container Host Kernel
	Compiler: gcc 9.4.0

Ubuntu 22.04 (ARM)
	Kernel: Container Host Kernel
	Compiler: gcc 11.4.0

Ubuntu 24.04 (ARM)
	Kernel: 5.4.0-167-generic
	Compiler: gcc 13.2.0

To view detailed results, visit:
https://lab.dpdk.org/results/dashboard/patchsets/30470/

UNH-IOL DPDK Community Lab

To manage your email subscriptions, visit: 
https://lab.dpdk.org/results/dashboard/preferences/subscriptions/