From mboxrd@z Thu Jan  1 00:00:00 1970
Return-Path: <test-report-bounces@dpdk.org>
Received: from mails.dpdk.org (mails.dpdk.org [217.70.189.124])
	by inbox.dpdk.org (Postfix) with ESMTP id 1AC3A4558F
	for <public@inbox.dpdk.org>; Wed, 10 Jul 2024 03:13:02 +0200 (CEST)
Received: from mails.dpdk.org (localhost [127.0.0.1])
	by mails.dpdk.org (Postfix) with ESMTP id 12750402DE;
	Wed, 10 Jul 2024 03:13:02 +0200 (CEST)
Received: from mail-pl1-f225.google.com (mail-pl1-f225.google.com
 [209.85.214.225])
 by mails.dpdk.org (Postfix) with ESMTP id 5E3C440281
 for <test-report@dpdk.org>; Wed, 10 Jul 2024 03:13:00 +0200 (CEST)
Received: by mail-pl1-f225.google.com with SMTP id
 d9443c01a7336-1fb457b53c8so37604975ad.0
 for <test-report@dpdk.org>; Tue, 09 Jul 2024 18:13:00 -0700 (PDT)
DKIM-Signature: v=1; a=rsa-sha256; c=relaxed/relaxed;
 d=iol.unh.edu; s=unh-iol; t=1720573979; x=1721178779; darn=dpdk.org;
 h=references:in-reply-to:cc:to:from:subject:message-id:date:from:to
 :cc:subject:date:message-id:reply-to;
 bh=bBliuczXytNUH6u8PbUPJDl3ea3OPh+rot90+Uctsg4=;
 b=UiVntVAA6iI7me+mku6HPEPufVrGy3HorMjIcSjGWpy5KSp+06EWvvzQAF5F38wqjv
 V8/naPJgXYm3KjENJepICUHUIFNPOc7r2yLG2gtAjdcdxUu+lYyprB2ReQgUdNq1uGav
 rICwXNDr+lVNPQWHdKcDGJEtLcknx8kvZVDPk=
X-Google-DKIM-Signature: v=1; a=rsa-sha256; c=relaxed/relaxed;
 d=1e100.net; s=20230601; t=1720573979; x=1721178779;
 h=references:in-reply-to:cc:to:from:subject:message-id:date
 :x-gm-message-state:from:to:cc:subject:date:message-id:reply-to;
 bh=bBliuczXytNUH6u8PbUPJDl3ea3OPh+rot90+Uctsg4=;
 b=JJgG0NoruGQTasYf6RfNwm7LJWWBuyomVla8XvnITbb2g4B62ROKzJj7ug4K7LUkej
 khFgxL30VuvoA+i8ZVBfOGBURGe6BUgrs0Qe0jAHwKq4RHOabfRCS7vMhH0dS9XW/kS7
 z0a6c5b8ENMlg06rvmuW8ujAvVji9Hbke7cYXh3Slh61yUFxmeFmdXolwV8V0nIMkTI5
 L4hLCl4H83QF4UHpTS5Zzw8Snx5f9w7IEuj0lMGkf309s4JZKCliMxLC2QLP3n5qVQVd
 6k/5MgmvsUxtZNyJEpACfGnQPYuLQWEXrhxqmPy9LJ+ovc1RT3+MpDrCrNe/Mw1K+I9U
 7LFg==
X-Gm-Message-State: AOJu0YxpH/PKdQ+AqgghmTv58I3oesmbpWvT+xhviIz5+PlpCHqwVpav
 /TGPJAr7ai/nT20nyygeOpSWC7M8qEbcXfZSxtleVy5UC/gK2aZCFJGCrpKB9LdZhrcDASnzcTa
 0vt1OwoaaKadeFrfQgEXVcZqrFAG/WpREURi+FVy3
X-Google-Smtp-Source: AGHT+IGNzlsyL56oO+k1/84D0Sud1anTzT5e0DYMXNKInBJ5ufmZBfTou/9U13GDLvXTm/LjJ7yuCR/PFH7B
X-Received: by 2002:a17:902:ecc3:b0:1fb:29e1:7635 with SMTP id
 d9443c01a7336-1fbb6d34b64mr34394985ad.13.1720573979420; 
 Tue, 09 Jul 2024 18:12:59 -0700 (PDT)
Received: from postal.iol.unh.edu (postal.iol.unh.edu. [132.177.123.84])
 by smtp-relay.gmail.com with ESMTPS id
 d9443c01a7336-1fbb6a2b6a6sm820645ad.43.2024.07.09.18.12.50
 (version=TLS1_2 cipher=ECDHE-ECDSA-AES128-GCM-SHA256 bits=128/128);
 Tue, 09 Jul 2024 18:12:50 -0700 (PDT)
X-Relaying-Domain: iol.unh.edu
Date: Tue, 09 Jul 2024 18:12:50 -0700 (PDT)
Message-ID: <668de012.170a0220.36e8f.58b3SMTPIN_ADDED_MISSING@mx.google.com>
Received: from [172.17.0.5] (unknown [172.18.0.217])
 by postal.iol.unh.edu (Postfix) with ESMTP id F2C5B605C351;
 Tue,  9 Jul 2024 21:12:49 -0400 (EDT)
Subject: |PENDING| pw142249-142248 [PATCH] [v8,2/2] examples/l3fwd-power: add
From: dpdklab@iol.unh.edu
To: Test Report <test-report@dpdk.org>
Cc: dpdk-test-reports@iol.unh.edu
In-Reply-To: <20240709072518.4225-3-lihuisong@huawei.com>
References: <20240709072518.4225-3-lihuisong@huawei.com>
Content-Type: text/plain
X-BeenThere: test-report@dpdk.org
X-Mailman-Version: 2.1.29
Precedence: list
List-Id: automatic DPDK test reports <test-report.dpdk.org>
List-Unsubscribe: <https://mails.dpdk.org/options/test-report>,
 <mailto:test-report-request@dpdk.org?subject=unsubscribe>
List-Archive: <http://mails.dpdk.org/archives/test-report/>
List-Post: <mailto:test-report@dpdk.org>
List-Help: <mailto:test-report-request@dpdk.org?subject=help>
List-Subscribe: <https://mails.dpdk.org/listinfo/test-report>,
 <mailto:test-report-request@dpdk.org?subject=subscribe>
Errors-To: test-report-bounces@dpdk.org

Test-Label: iol-unit-arm64-testing
Test-Status: PENDING
http://dpdk.org/patch/142248

_Testing pending_

Submitter: Huisong Li <lihuisong@huawei.com>
Date: Tuesday, July 09 2024 07:25:18 
DPDK git baseline: Repo:dpdk
  Branch: master
  CommitID:8e8aa4a4f90dce1fcea03a93f508e3d9bc0c98c0

142249-142248 --> testing pending

Test environment and result as below:

+-----------------------------+--------------+----------------+---------------------------+------------------------------+
|         Environment         | lpm_autotest | dpdk_unit_test | cryptodev_sw_zuc_autotest | cryptodev_sw_snow3g_autotest |
+=============================+==============+================+===========================+==============================+
| Ubuntu 20.04 ARM SVE        | PASS         | SKIPPED        | SKIPPED                   | SKIPPED                      |
+-----------------------------+--------------+----------------+---------------------------+------------------------------+
| 32-bit Ubuntu 20.04.4 (ARM) | SKIPPED      | PASS           | SKIPPED                   | SKIPPED                      |
+-----------------------------+--------------+----------------+---------------------------+------------------------------+
| CentOS Stream 9 (ARM)       | SKIPPED      | PASS           | SKIPPED                   | SKIPPED                      |
+-----------------------------+--------------+----------------+---------------------------+------------------------------+
| Debian 11 (Buster) (ARM)    | SKIPPED      | PASS           | SKIPPED                   | SKIPPED                      |
+-----------------------------+--------------+----------------+---------------------------+------------------------------+
| Debian 12 (arm)             | SKIPPED      | PASS           | PASS                      | PASS                         |
+-----------------------------+--------------+----------------+---------------------------+------------------------------+
| Fedora 37 (ARM)             | SKIPPED      | PASS           | SKIPPED                   | SKIPPED                      |
+-----------------------------+--------------+----------------+---------------------------+------------------------------+
| Fedora 38 (ARM)             | SKIPPED      | PASS           | SKIPPED                   | SKIPPED                      |
+-----------------------------+--------------+----------------+---------------------------+------------------------------+
| Fedora 39 (ARM)             | SKIPPED      | PASS           | SKIPPED                   | SKIPPED                      |
+-----------------------------+--------------+----------------+---------------------------+------------------------------+
| Fedora 38 (ARM Clang)       | SKIPPED      | PASS           | SKIPPED                   | SKIPPED                      |
+-----------------------------+--------------+----------------+---------------------------+------------------------------+
| Fedora 39 (ARM Clang)       | SKIPPED      | PEND           | SKIPPED                   | SKIPPED                      |
+-----------------------------+--------------+----------------+---------------------------+------------------------------+
| Fedora 40 (ARM)             | SKIPPED      | PASS           | SKIPPED                   | SKIPPED                      |
+-----------------------------+--------------+----------------+---------------------------+------------------------------+
| Fedora 40 (ARM Clang)       | SKIPPED      | PEND           | SKIPPED                   | SKIPPED                      |
+-----------------------------+--------------+----------------+---------------------------+------------------------------+
| Ubuntu 20.04 (ARM)          | SKIPPED      | PEND           | SKIPPED                   | SKIPPED                      |
+-----------------------------+--------------+----------------+---------------------------+------------------------------+
| Ubuntu 22.04 (ARM)          | SKIPPED      | PEND           | SKIPPED                   | SKIPPED                      |
+-----------------------------+--------------+----------------+---------------------------+------------------------------+
| Ubuntu 24.04 (ARM)          | SKIPPED      | PEND           | SKIPPED                   | SKIPPED                      |
+-----------------------------+--------------+----------------+---------------------------+------------------------------+
| RHEL9 (ARM)                 | SKIPPED      | PEND           | SKIPPED                   | SKIPPED                      |
+-----------------------------+--------------+----------------+---------------------------+------------------------------+


Ubuntu 20.04 ARM SVE
	Kernel: 5.4.0-167-generic
	Compiler: gcc (Ubuntu 10.5.0-1ubuntu1~20.04) 10.5.0

32-bit Ubuntu 20.04.4 (ARM)
	Kernel: 5.4.0-155-generic aarch64
	Compiler: gcc 9.4

CentOS Stream 9 (ARM)
	Kernel: Container Host Kernel
	Compiler: gcc 11.4.1

Debian 11 (Buster) (ARM)
	Kernel: Container Host Kernel
	Compiler: gcc 10.2.1

Debian 12 (arm)
	Kernel: Container Host Kernel
	Compiler: gcc 12.2.0

Fedora 37 (ARM)
	Kernel: Depends on container host
	Compiler: gcc 12.3.1

Fedora 38 (ARM)
	Kernel: Depends on container host
	Compiler: gcc 13.2.1

Fedora 39 (ARM)
	Kernel: Depends on container host
	Compiler: gcc 13.2.1

Fedora 38 (ARM Clang)
	Kernel: Depends on container host
	Compiler: clang 16.0.6

Fedora 39 (ARM Clang)
	Kernel: Depends on container host
	Compiler: clang 17.0.6

Fedora 40 (ARM)
	Kernel: Depends on container host
	Compiler: gcc 14.1.1

Fedora 40 (ARM Clang)
	Kernel: Depends on container host
	Compiler: clang 18.1.6

Ubuntu 20.04 (ARM)
	Kernel: Container Host Kernel
	Compiler: gcc 9.4.0

Ubuntu 22.04 (ARM)
	Kernel: Container Host Kernel
	Compiler: gcc 11.4.0

Ubuntu 24.04 (ARM)
	Kernel: 5.4.0-167-generic
	Compiler: gcc 13.2.0

RHEL9 (ARM)
	Kernel: Depends on container host
	Compiler: gcc 11.4.1

To view detailed results, visit:
https://lab.dpdk.org/results/dashboard/patchsets/30474/

UNH-IOL DPDK Community Lab

To manage your email subscriptions, visit: 
https://lab.dpdk.org/results/dashboard/preferences/subscriptions/