From mboxrd@z Thu Jan  1 00:00:00 1970
Return-Path: <test-report-bounces@dpdk.org>
Received: from mails.dpdk.org (mails.dpdk.org [217.70.189.124])
	by inbox.dpdk.org (Postfix) with ESMTP id 098C1455CC
	for <public@inbox.dpdk.org>; Wed, 10 Jul 2024 06:54:50 +0200 (CEST)
Received: from mails.dpdk.org (localhost [127.0.0.1])
	by mails.dpdk.org (Postfix) with ESMTP id 044AA402DE;
	Wed, 10 Jul 2024 06:54:50 +0200 (CEST)
Received: from mail-io1-f100.google.com (mail-io1-f100.google.com
 [209.85.166.100])
 by mails.dpdk.org (Postfix) with ESMTP id 4F869402AF
 for <test-report@dpdk.org>; Wed, 10 Jul 2024 06:54:48 +0200 (CEST)
Received: by mail-io1-f100.google.com with SMTP id
 ca18e2360f4ac-7fa8ffd03aaso126545039f.0
 for <test-report@dpdk.org>; Tue, 09 Jul 2024 21:54:48 -0700 (PDT)
DKIM-Signature: v=1; a=rsa-sha256; c=relaxed/relaxed;
 d=iol.unh.edu; s=unh-iol; t=1720587287; x=1721192087; darn=dpdk.org;
 h=references:in-reply-to:cc:to:from:subject:message-id:date:from:to
 :cc:subject:date:message-id:reply-to;
 bh=T1i3jFDXWXFbCLaIlvH6grGnzUyFug0Eyb905lynxUA=;
 b=Ivsf4PzRUAobi1Yh0evl6mz5ZD5GdlGq+mxWG5nvVpOr7Gi9/PsXZEkuva3/jGrqpR
 v7f+IDpHhvrj+WXUNkbIgdoV2cQVHEnQX0EGWGb22TK3zxo0pJb2tHm5ZL77EmfIksas
 evMr77MRMh04T778x5gO86yGR5rINsymmnXsA=
X-Google-DKIM-Signature: v=1; a=rsa-sha256; c=relaxed/relaxed;
 d=1e100.net; s=20230601; t=1720587287; x=1721192087;
 h=references:in-reply-to:cc:to:from:subject:message-id:date
 :x-gm-message-state:from:to:cc:subject:date:message-id:reply-to;
 bh=T1i3jFDXWXFbCLaIlvH6grGnzUyFug0Eyb905lynxUA=;
 b=X9tg2w56cOyr4ROaNDKaDQDBLl0bz7vzL6Ac84gWiLfAhQRObGbwTyLZMDmS4E9Fq8
 OIwZkpPbB97wBL4jBTtpUdjm44kYvkuhNXdjLcGwPYXGN8HZuS3bLugKmz/8A+fxtqHD
 eaRWPuNeKCGZO4VnQzPwphFIclF42N1YnvRr4eH3d514KMkevOPU5jrHuWDdGarwcA1j
 NheUfX0oGg2dI7lxvARkk5eb05U6mrEG+K1EhMJm0NSX5qxZu0AOkTcEdiRMToJt2YcC
 iQ/DiIyxWi6so5AS3Lc16Unzxey4LS7sAgC57QH13WNE/liMl03nTkka0r8qzX4cjmX4
 vhxw==
X-Gm-Message-State: AOJu0YxzYZu0HJ1njgBPBXlQzck+LXOnrrsQb8NbadFyRbIs0UxGdfZ5
 g4QvAXuLm/+RI/RM+xaDv8av3rZDpta8JBOEv238rZB41s+eyg3sfr6fE9z6VuvBFcRcHYIGInA
 c+cz75wAhVMj+3Q46wNXXqeymDLWyemEtBwAu5ORzKVWsySRBXXqaqcW4
X-Google-Smtp-Source: AGHT+IES4ksKNE/4LByG2FoHqBBrIl3xJ+9wcLYzJJ+4VL5ElukPUphOet2qXLjHb1D6wm8AWijAEE8o2vOl
X-Received: by 2002:a05:6602:2dc6:b0:7f6:565d:9046 with SMTP id
 ca18e2360f4ac-8000330a9c0mr576332739f.19.1720587287722; 
 Tue, 09 Jul 2024 21:54:47 -0700 (PDT)
Received: from postal.iol.unh.edu (postal.iol.unh.edu.
 [2606:4100:3880:1234::84]) by smtp-relay.gmail.com with ESMTPS id
 8926c6da1cb9f-4c0b1bfc208sm112636173.67.2024.07.09.21.54.47
 (version=TLS1_2 cipher=ECDHE-ECDSA-AES128-GCM-SHA256 bits=128/128);
 Tue, 09 Jul 2024 21:54:47 -0700 (PDT)
X-Relaying-Domain: iol.unh.edu
Date: Tue, 09 Jul 2024 21:54:47 -0700 (PDT)
Message-ID: <668e1417.050a0220.76880.765cSMTPIN_ADDED_MISSING@mx.google.com>
Received: from [172.21.0.6] (unknown [172.18.0.240])
 by postal.iol.unh.edu (Postfix) with ESMTP id 3006D605C351;
 Wed, 10 Jul 2024 00:54:47 -0400 (EDT)
Subject: |SUCCESS| pw142274-142275 [PATCH] [v1,2/2] dts: improve starting and
From: dpdklab@iol.unh.edu
To: Test Report <test-report@dpdk.org>
Cc: dpdk-test-reports@iol.unh.edu
In-Reply-To: <20240709163145.110030-3-jspewock@iol.unh.edu>
References: <20240709163145.110030-3-jspewock@iol.unh.edu>
Content-Type: text/plain
X-BeenThere: test-report@dpdk.org
X-Mailman-Version: 2.1.29
Precedence: list
List-Id: automatic DPDK test reports <test-report.dpdk.org>
List-Unsubscribe: <https://mails.dpdk.org/options/test-report>,
 <mailto:test-report-request@dpdk.org?subject=unsubscribe>
List-Archive: <http://mails.dpdk.org/archives/test-report/>
List-Post: <mailto:test-report@dpdk.org>
List-Help: <mailto:test-report-request@dpdk.org?subject=help>
List-Subscribe: <https://mails.dpdk.org/listinfo/test-report>,
 <mailto:test-report-request@dpdk.org?subject=subscribe>
Errors-To: test-report-bounces@dpdk.org

Test-Label: iol-sample-apps-testing
Test-Status: SUCCESS
http://dpdk.org/patch/142275

_Testing PASS_

Submitter: Jeremy Spewock <jspewock@iol.unh.edu>
Date: Tuesday, July 09 2024 16:31:45 
DPDK git baseline: Repo:dpdk
  Branch: master
  CommitID:8e8aa4a4f90dce1fcea03a93f508e3d9bc0c98c0

142274-142275 --> testing pass

Test environment and result as below:

+--------------------+----------------------+----------------------+
|    Environment     | compressdev_zlib_pmd | dpdk_fips_validation |
+====================+======================+======================+
| Ubuntu 22.04 (ARM) | PASS                 | SKIPPED              |
+--------------------+----------------------+----------------------+
| Ubuntu 22.04       | PASS                 | SKIPPED              |
+--------------------+----------------------+----------------------+
| Ubuntu 20.04       | SKIPPED              | PASS                 |
+--------------------+----------------------+----------------------+


Ubuntu 22.04 (ARM)
	Kernel: 5.15.0-97-generic
	Compiler: gcc gcc (Ubuntu 11.4.0-1ubuntu1~22.04) 11.4.0

Ubuntu 22.04
	Kernel: 5.15.0-100-generic
	Compiler: gcc gcc (Ubuntu 11.4.0-1ubuntu1~22.04) 11.4.0

Ubuntu 20.04
	Kernel: 5.4.0-167-generic
	Compiler: gcc 9.4.0-1ubuntu1~20.04.1

To view detailed results, visit:
https://lab.dpdk.org/results/dashboard/patchsets/30481/

UNH-IOL DPDK Community Lab

To manage your email subscriptions, visit: 
https://lab.dpdk.org/results/dashboard/preferences/subscriptions/