From mboxrd@z Thu Jan  1 00:00:00 1970
Return-Path: <test-report-bounces@dpdk.org>
Received: from mails.dpdk.org (mails.dpdk.org [217.70.189.124])
	by inbox.dpdk.org (Postfix) with ESMTP id 271814558A
	for <public@inbox.dpdk.org>; Wed, 10 Jul 2024 08:38:44 +0200 (CEST)
Received: from mails.dpdk.org (localhost [127.0.0.1])
	by mails.dpdk.org (Postfix) with ESMTP id 23B99402AF;
	Wed, 10 Jul 2024 08:38:44 +0200 (CEST)
Received: from mail-yw1-f225.google.com (mail-yw1-f225.google.com
 [209.85.128.225])
 by mails.dpdk.org (Postfix) with ESMTP id A29FF4021D
 for <test-report@dpdk.org>; Wed, 10 Jul 2024 08:38:36 +0200 (CEST)
Received: by mail-yw1-f225.google.com with SMTP id
 00721157ae682-64b0d45a7aaso56757947b3.0
 for <test-report@dpdk.org>; Tue, 09 Jul 2024 23:38:36 -0700 (PDT)
DKIM-Signature: v=1; a=rsa-sha256; c=relaxed/relaxed;
 d=iol.unh.edu; s=unh-iol; t=1720593516; x=1721198316; darn=dpdk.org;
 h=references:in-reply-to:cc:to:from:subject:message-id:date:from:to
 :cc:subject:date:message-id:reply-to;
 bh=5LAbDWiuhAG+JxVGXh0nqZg8L9pl+FgEvNUYcpboHFs=;
 b=iRXSxf2eFr7BucXBgwK9QGz3wgEhnNX5Bsvu9rNdbNHdz/HWs53sQP7sW1OcVHyvo/
 /ImWjY70s5Dt8ypIvBWEE0hMzlb9caEs7EOGUeFUuaBwA+mVuZHn0FNhBxcakGj4UX8m
 yVML/MAG0PK3+rkPWvF3SraO2iRhbpkFGtduI=
X-Google-DKIM-Signature: v=1; a=rsa-sha256; c=relaxed/relaxed;
 d=1e100.net; s=20230601; t=1720593516; x=1721198316;
 h=references:in-reply-to:cc:to:from:subject:message-id:date
 :x-gm-message-state:from:to:cc:subject:date:message-id:reply-to;
 bh=5LAbDWiuhAG+JxVGXh0nqZg8L9pl+FgEvNUYcpboHFs=;
 b=Sm/sTZ3GY0veQqro/y3DKY8hjJK+inGm/cWV8NV9dmGT3xZ/LyJUr6mYg+E7zDD/uI
 X21y7rCJrtgsOY0PHHdnrsu+V+qxuxy3ziOPcJBVkNZyTP6QWWRehh7iPHTG8tsPqQ6/
 FhAJ0n1Asd061L4JRAhSHkeRc9zotIJU/u57Wfc7Zx1HOHEqA6YsGyD3NhndEEFy6ZEQ
 QdwvoSPzV4LXBD7NEpn0zQgooqG3L+f1vlQy+k2fPREeU8M+YqkibYZAWOrNDP9go6JI
 cASL0/WmRa70HKqca0WmR2jB+Gmrov+OUpUpvOXwWFVOaQ0bcVrLK/S5nqNvwgjnwuSL
 O2Pw==
X-Gm-Message-State: AOJu0Yzft6coM8y5Bd9b2GmoIKwKHimEms2z5tXErX7/7UNPvxSmWicj
 DIREPO4eMcbgS59dCyvRR9AvoDAsiWWGaf2PPSTQYZjBcstETTVybDm7ta77ALAaBB9LsZHsnUr
 2He+HiJe+7+WRjfbWV6/Y4HQQcverlbyIJ5qImXCYTzIFTduX8y74fLxq
X-Google-Smtp-Source: AGHT+IGqlilwDZ+7Tt2VehDlbFxI4GD3alnsoUEgvy7g+yTC5YDGltZYiQjow5GM9SF8B3pwyPO0mkfeST70
X-Received: by 2002:a05:690c:c0b:b0:64a:4728:ef4 with SMTP id
 00721157ae682-658f09c2d41mr57730147b3.47.1720593516101; 
 Tue, 09 Jul 2024 23:38:36 -0700 (PDT)
Received: from postal.iol.unh.edu (postal.iol.unh.edu.
 [2606:4100:3880:1234::84]) by smtp-relay.gmail.com with ESMTPS id
 00721157ae682-658e62fc5b5sm1226057b3.51.2024.07.09.23.38.36
 (version=TLS1_2 cipher=ECDHE-ECDSA-AES128-GCM-SHA256 bits=128/128);
 Tue, 09 Jul 2024 23:38:36 -0700 (PDT)
X-Relaying-Domain: iol.unh.edu
Date: Tue, 09 Jul 2024 23:38:36 -0700 (PDT)
Message-ID: <668e2c6c.050a0220.8bcd0.7b66SMTPIN_ADDED_MISSING@mx.google.com>
Received: from [172.17.0.5] (unknown [172.18.0.217])
 by postal.iol.unh.edu (Postfix) with ESMTP id BE3A6605C351;
 Wed, 10 Jul 2024 02:38:35 -0400 (EDT)
Subject: |PENDING| pw142274-142275 [PATCH] [v1,2/2] dts: improve starting and
From: dpdklab@iol.unh.edu
To: Test Report <test-report@dpdk.org>
Cc: dpdk-test-reports@iol.unh.edu
In-Reply-To: <20240709163145.110030-3-jspewock@iol.unh.edu>
References: <20240709163145.110030-3-jspewock@iol.unh.edu>
Content-Type: text/plain
X-BeenThere: test-report@dpdk.org
X-Mailman-Version: 2.1.29
Precedence: list
List-Id: automatic DPDK test reports <test-report.dpdk.org>
List-Unsubscribe: <https://mails.dpdk.org/options/test-report>,
 <mailto:test-report-request@dpdk.org?subject=unsubscribe>
List-Archive: <http://mails.dpdk.org/archives/test-report/>
List-Post: <mailto:test-report@dpdk.org>
List-Help: <mailto:test-report-request@dpdk.org?subject=help>
List-Subscribe: <https://mails.dpdk.org/listinfo/test-report>,
 <mailto:test-report-request@dpdk.org?subject=subscribe>
Errors-To: test-report-bounces@dpdk.org

Test-Label: iol-compile-arm64-testing
Test-Status: PENDING
http://dpdk.org/patch/142275

_Testing pending_

Submitter: Jeremy Spewock <jspewock@iol.unh.edu>
Date: Tuesday, July 09 2024 16:31:45 
DPDK git baseline: Repo:dpdk
  Branch: master
  CommitID:8e8aa4a4f90dce1fcea03a93f508e3d9bc0c98c0

142274-142275 --> testing pending

Test environment and result as below:

+----------------------------------------+--------------------+
|              Environment               | dpdk_meson_compile |
+========================================+====================+
| RHEL9 (ARM)                            | PASS               |
+----------------------------------------+--------------------+
| Ubuntu 20.04 ARM GCC Cross Compile     | PASS               |
+----------------------------------------+--------------------+
| Ubuntu 20.04 ARM SVE                   | PASS               |
+----------------------------------------+--------------------+
| Debian 12 with MUSDK                   | PASS               |
+----------------------------------------+--------------------+
| Fedora 37 (ARM)                        | PASS               |
+----------------------------------------+--------------------+
| Fedora 38 (ARM)                        | PASS               |
+----------------------------------------+--------------------+
| Fedora 38 (ARM Clang)                  | PEND               |
+----------------------------------------+--------------------+
| Fedora 39 (ARM)                        | PASS               |
+----------------------------------------+--------------------+
| Fedora 39 (ARM Clang)                  | PEND               |
+----------------------------------------+--------------------+
| Fedora 40 (ARM)                        | PASS               |
+----------------------------------------+--------------------+
| Fedora 40 (ARM Clang)                  | PEND               |
+----------------------------------------+--------------------+
| Ubuntu 20.04 (ARM)                     | PEND               |
+----------------------------------------+--------------------+
| Ubuntu 22.04 (ARM)                     | PEND               |
+----------------------------------------+--------------------+
| Ubuntu 24.04 (ARM)                     | PEND               |
+----------------------------------------+--------------------+
| CentOS Stream 9 (ARM)                  | PEND               |
+----------------------------------------+--------------------+
| Debian 11 (Buster) (ARM)               | PEND               |
+----------------------------------------+--------------------+
| Debian 12 (arm)                        | PEND               |
+----------------------------------------+--------------------+
| Ubuntu 20.04 ARM Clang Cross Compile   | PASS               |
+----------------------------------------+--------------------+
| Ubuntu 20.04 aarch32 GCC Cross Compile | PASS               |
+----------------------------------------+--------------------+


RHEL9 (ARM)
	Kernel: Depends on container host
	Compiler: gcc 11.4.1

Ubuntu 20.04 ARM GCC Cross Compile
	Kernel: 5.4.0-167-generic
	Compiler: aarch64-linux-gnu-gcc (Ubuntu 9.4.0-1ubuntu1~20.04.2) 9.4.0

Ubuntu 20.04 ARM SVE
	Kernel: 5.4.0-167-generic
	Compiler: gcc (Ubuntu 10.5.0-1ubuntu1~20.04) 10.5.0

Debian 12 with MUSDK
	Kernel: Container Host Kernel
	Compiler: gcc 12.2.0

Fedora 37 (ARM)
	Kernel: Depends on container host
	Compiler: gcc 12.3.1

Fedora 38 (ARM)
	Kernel: Depends on container host
	Compiler: gcc 13.2.1

Fedora 38 (ARM Clang)
	Kernel: Depends on container host
	Compiler: clang 16.0.6

Fedora 39 (ARM)
	Kernel: Depends on container host
	Compiler: gcc 13.2.1

Fedora 39 (ARM Clang)
	Kernel: Depends on container host
	Compiler: clang 17.0.6

Fedora 40 (ARM)
	Kernel: Depends on container host
	Compiler: gcc 14.1.1

Fedora 40 (ARM Clang)
	Kernel: Depends on container host
	Compiler: clang 18.1.6

Ubuntu 20.04 (ARM)
	Kernel: Container Host Kernel
	Compiler: gcc 9.4.0

Ubuntu 22.04 (ARM)
	Kernel: Container Host Kernel
	Compiler: gcc 11.4.0

Ubuntu 24.04 (ARM)
	Kernel: 5.4.0-167-generic
	Compiler: gcc 13.2.0

CentOS Stream 9 (ARM)
	Kernel: Container Host Kernel
	Compiler: gcc 11.4.1

Debian 11 (Buster) (ARM)
	Kernel: Container Host Kernel
	Compiler: gcc 10.2.1

Debian 12 (arm)
	Kernel: Container Host Kernel
	Compiler: gcc 12.2.0

Ubuntu 20.04 ARM Clang Cross Compile
	Kernel: 5.4.0-72-generic
	Compiler: clang 10.0.0-4ubuntu1

Ubuntu 20.04 aarch32 GCC Cross Compile
	Kernel: 5.4.0-167-generic
	Compiler: gcc 9.4.0

To view detailed results, visit:
https://lab.dpdk.org/results/dashboard/patchsets/30481/

UNH-IOL DPDK Community Lab

To manage your email subscriptions, visit: 
https://lab.dpdk.org/results/dashboard/preferences/subscriptions/