From mboxrd@z Thu Jan  1 00:00:00 1970
Return-Path: <test-report-bounces@dpdk.org>
Received: from mails.dpdk.org (mails.dpdk.org [217.70.189.124])
	by inbox.dpdk.org (Postfix) with ESMTP id 57A4C455D5
	for <public@inbox.dpdk.org>; Wed, 10 Jul 2024 18:00:43 +0200 (CEST)
Received: from mails.dpdk.org (localhost [127.0.0.1])
	by mails.dpdk.org (Postfix) with ESMTP id 3D8C640E0A;
	Wed, 10 Jul 2024 18:00:43 +0200 (CEST)
Received: from mail-il1-f227.google.com (mail-il1-f227.google.com
 [209.85.166.227])
 by mails.dpdk.org (Postfix) with ESMTP id 57C1D402AF
 for <test-report@dpdk.org>; Wed, 10 Jul 2024 18:00:42 +0200 (CEST)
Received: by mail-il1-f227.google.com with SMTP id
 e9e14a558f8ab-3815aaa2ab9so3048985ab.0
 for <test-report@dpdk.org>; Wed, 10 Jul 2024 09:00:42 -0700 (PDT)
DKIM-Signature: v=1; a=rsa-sha256; c=relaxed/relaxed;
 d=iol.unh.edu; s=unh-iol; t=1720627241; x=1721232041; darn=dpdk.org;
 h=references:in-reply-to:cc:to:from:subject:message-id:date:from:to
 :cc:subject:date:message-id:reply-to;
 bh=MPhAAkGHDZ+LZcTQu9CS1LG5pfMENkPi332eANBScNM=;
 b=hq1CD2zypRnzOGsVWk6LxDoX+NoNz1fB6JSXqfYwb7MqBfrgdTyTWAg8h8sQ/P5zuo
 UIDCwLozUu7AvLXxhHUSPYt2+bCkr+kKtmy/DQBMlwB0UH9nstH32nybrW5Rq/Vt4fql
 5pHclo/laE0UxrHk4zwqV78MZQmvxqxU7+z04=
X-Google-DKIM-Signature: v=1; a=rsa-sha256; c=relaxed/relaxed;
 d=1e100.net; s=20230601; t=1720627241; x=1721232041;
 h=references:in-reply-to:cc:to:from:subject:message-id:date
 :x-gm-message-state:from:to:cc:subject:date:message-id:reply-to;
 bh=MPhAAkGHDZ+LZcTQu9CS1LG5pfMENkPi332eANBScNM=;
 b=p6LBVGtvyJdYkT/eS2Vi1mdeFbYIpeX5ZmL3XT6Ub3Bx6XLMxyH0hFSUQbdYQ+mfEi
 qsAfVTJTel0dx3x6GwrKwwHXiXxSV6J2KfBoeLYoBaT3dVsinvrRs1nfhHEPT2uVFEhW
 CBeVV0vdppuAGJC10qrrlJppWEC/PgbNAUdyNWonWIVSGbr4v2j2SyZOkKVFEuiGIfMm
 C6NW/mfu3niDVDsC7v6l+be29oloGrVoCZnvWmDl5NIHFwiiW94HhEBPpAhVqtSMYwc5
 126pBx2pxtF35jCwKEvqS0JIl3IJP4zRi8Qc5QovQUVN7GLJjtawgJJIhDhx4U1Bb2ad
 prIw==
X-Gm-Message-State: AOJu0YyuH53b90h6JwCtDZ3tDzXZfZ8sMjgZioeQDez6IlkmhV8xpYTE
 CUfXkHmcRmjyEtKvzGJzge5kRR90oWimVs3EU4mLfOGo2dGIuUnETWtipvXlvDO2kl3ihCHFDFA
 Ygjr8Kac/d9pOVrud3JR7VTVu6W8/CihAgaV2HSO2
X-Google-Smtp-Source: AGHT+IGioNVpzp9TUCugcUPCa3WJnXVFFTCLc/UT8axykqBrRiP2h5SSQnsiOJUDiAX9+ngACshIEklz2GyA
X-Received: by 2002:a05:6e02:cce:b0:375:daa0:ce46 with SMTP id
 e9e14a558f8ab-38d0c4c7e3cmr315245ab.16.1720627241447; 
 Wed, 10 Jul 2024 09:00:41 -0700 (PDT)
Received: from postal.iol.unh.edu (postal.iol.unh.edu. [132.177.123.84])
 by smtp-relay.gmail.com with ESMTPS id
 e9e14a558f8ab-38a495559d1sm2148635ab.25.2024.07.10.09.00.41
 (version=TLS1_2 cipher=ECDHE-ECDSA-AES128-GCM-SHA256 bits=128/128);
 Wed, 10 Jul 2024 09:00:41 -0700 (PDT)
X-Relaying-Domain: iol.unh.edu
Date: Wed, 10 Jul 2024 09:00:41 -0700 (PDT)
Message-ID: <668eb029.050a0220.eb4f.c5e5SMTPIN_ADDED_MISSING@mx.google.com>
Received: from [172.17.0.3] (unknown [172.18.0.217])
 by postal.iol.unh.edu (Postfix) with ESMTP id E05FF605C380;
 Wed, 10 Jul 2024 12:00:40 -0400 (EDT)
Subject: |PENDING| pw142274-142275 [PATCH] [v1,2/2] dts: improve starting and
From: dpdklab@iol.unh.edu
To: Test Report <test-report@dpdk.org>
Cc: dpdk-test-reports@iol.unh.edu
In-Reply-To: <20240709163145.110030-3-jspewock@iol.unh.edu>
References: <20240709163145.110030-3-jspewock@iol.unh.edu>
Content-Type: text/plain
X-BeenThere: test-report@dpdk.org
X-Mailman-Version: 2.1.29
Precedence: list
List-Id: automatic DPDK test reports <test-report.dpdk.org>
List-Unsubscribe: <https://mails.dpdk.org/options/test-report>,
 <mailto:test-report-request@dpdk.org?subject=unsubscribe>
List-Archive: <http://mails.dpdk.org/archives/test-report/>
List-Post: <mailto:test-report@dpdk.org>
List-Help: <mailto:test-report-request@dpdk.org?subject=help>
List-Subscribe: <https://mails.dpdk.org/listinfo/test-report>,
 <mailto:test-report-request@dpdk.org?subject=subscribe>
Errors-To: test-report-bounces@dpdk.org

Test-Label: iol-unit-amd64-testing
Test-Status: PENDING
http://dpdk.org/patch/142275

_Testing pending_

Submitter: Jeremy Spewock <jspewock@iol.unh.edu>
Date: Tuesday, July 09 2024 16:31:45 
DPDK git baseline: Repo:dpdk
  Branch: master
  CommitID:8e8aa4a4f90dce1fcea03a93f508e3d9bc0c98c0

142274-142275 --> testing pending

Test environment and result as below:

+---------------------+----------------+
|     Environment     | dpdk_unit_test |
+=====================+================+
| Windows Server 2022 | PASS           |
+---------------------+----------------+
| CentOS Stream 8     | PEND           |
+---------------------+----------------+
| CentOS Stream 9     | PEND           |
+---------------------+----------------+
| Windows Server 2019 | PASS           |
+---------------------+----------------+
| Debian Bullseye     | PEND           |
+---------------------+----------------+
| Debian 12           | PEND           |
+---------------------+----------------+
| Fedora 37           | PEND           |
+---------------------+----------------+
| Fedora 38           | PEND           |
+---------------------+----------------+
| Fedora 39           | PEND           |
+---------------------+----------------+
| Fedora 38 (Clang)   | PEND           |
+---------------------+----------------+
| Fedora 39 (Clang)   | PEND           |
+---------------------+----------------+
| Fedora 40           | PASS           |
+---------------------+----------------+
| Fedora 40 (Clang)   | PEND           |
+---------------------+----------------+
| Ubuntu 20.04        | PASS           |
+---------------------+----------------+
| Ubuntu 24.04        | PASS           |
+---------------------+----------------+
| RHEL9               | PASS           |
+---------------------+----------------+
| RHEL8               | PASS           |
+---------------------+----------------+
| Ubuntu 22.04        | PASS           |
+---------------------+----------------+
| openSUSE Leap 15    | PASS           |
+---------------------+----------------+


Windows Server 2022
	Kernel: 10.0.20348.2031
	Compiler: clang 15.0.7, gcc 8.1.0 (MinGW), and MSVC VS 17.9

CentOS Stream 8
	Kernel: 5.4.0-167-generic
	Compiler: gcc 8.5.0 20210514

CentOS Stream 9
	Kernel: 5.4.0-167-generic
	Compiler: gcc 11.4.1 20230605

Windows Server 2019
	Kernel: 10.0.17763
	Compiler: clang 14.0 and gcc 8.1.0 (MinGW)

Debian Bullseye
	Kernel: 5.4.0-167-generic
	Compiler: gcc 10.2.1-6

Debian 12
	Kernel: Container Host Kernel
	Compiler: gcc 12.2.0

Fedora 37
	Kernel: Depends on container host system
	Compiler: gcc 12.3.1

Fedora 38
	Kernel: Depends on container host
	Compiler: gcc 13.2.1

Fedora 39
	Kernel: Depends on container host
	Compiler: gcc 13.2.1

Fedora 38 (Clang)
	Kernel: Depends on container host
	Compiler: clang 16.0.6

Fedora 39 (Clang)
	Kernel: Depends on container host
	Compiler: clang 17.0.6

Fedora 40
	Kernel: Depends on container host
	Compiler: gcc 14.1.1

Fedora 40 (Clang)
	Kernel: Depends on container host
	Compiler: clang 18.1.6

Ubuntu 20.04
	Kernel: 5.4.0-167-generic
	Compiler: gcc 9.4.0-1ubuntu1~20.04.1

Ubuntu 24.04
	Kernel: 5.4.0-167-generic
	Compiler: gcc 13.2.0

RHEL9
	Kernel: Depends on container host
	Compiler: gcc 11.4.1

RHEL8
	Kernel: 5.4.0-167-generic
	Compiler: gcc 8.5.0 20210514 (Red Hat 8.5.0-20)

Ubuntu 22.04
	Kernel: 5.4.0-167-generic
	Compiler: gcc 11.4.0

openSUSE Leap 15
	Kernel: 5.4.0-167-generic
	Compiler: gcc 7.5.0

To view detailed results, visit:
https://lab.dpdk.org/results/dashboard/patchsets/30481/

UNH-IOL DPDK Community Lab

To manage your email subscriptions, visit: 
https://lab.dpdk.org/results/dashboard/preferences/subscriptions/