From mboxrd@z Thu Jan  1 00:00:00 1970
Return-Path: <test-report-bounces@dpdk.org>
Received: from mails.dpdk.org (mails.dpdk.org [217.70.189.124])
	by inbox.dpdk.org (Postfix) with ESMTP id 165EE455D5
	for <public@inbox.dpdk.org>; Wed, 10 Jul 2024 18:30:39 +0200 (CEST)
Received: from mails.dpdk.org (localhost [127.0.0.1])
	by mails.dpdk.org (Postfix) with ESMTP id F3CDB40E0A;
	Wed, 10 Jul 2024 18:30:38 +0200 (CEST)
Received: from mail-qv1-f100.google.com (mail-qv1-f100.google.com
 [209.85.219.100])
 by mails.dpdk.org (Postfix) with ESMTP id D9CF0402C9
 for <test-report@dpdk.org>; Wed, 10 Jul 2024 18:30:37 +0200 (CEST)
Received: by mail-qv1-f100.google.com with SMTP id
 6a1803df08f44-6b5dfcfb165so31776d6.0
 for <test-report@dpdk.org>; Wed, 10 Jul 2024 09:30:37 -0700 (PDT)
DKIM-Signature: v=1; a=rsa-sha256; c=relaxed/relaxed;
 d=iol.unh.edu; s=unh-iol; t=1720629037; x=1721233837; darn=dpdk.org;
 h=references:in-reply-to:cc:to:from:subject:message-id:date:from:to
 :cc:subject:date:message-id:reply-to;
 bh=ArNR5AMI1Eutath3pNZ30y6gZSE4oE7thg3UaQK/gXo=;
 b=cL87hQX8BS+/BDonUPo7fKTJR5L2pJMyRf+jM5TKPVC/F8OQ1c5v1KLYmf4/W9lWlS
 UFNI4Tteb7I9jhOE0W9O/nLF5BSw5cghf8HE+1paQHPzui08zGvfO1djBnMT0YuH4p0E
 5c2sh3VmO2O5aS7kvlte+hjxI2cGjJn4ixOvI=
X-Google-DKIM-Signature: v=1; a=rsa-sha256; c=relaxed/relaxed;
 d=1e100.net; s=20230601; t=1720629037; x=1721233837;
 h=references:in-reply-to:cc:to:from:subject:message-id:date
 :x-gm-message-state:from:to:cc:subject:date:message-id:reply-to;
 bh=ArNR5AMI1Eutath3pNZ30y6gZSE4oE7thg3UaQK/gXo=;
 b=WCQoKvJ1kR9QHr6AS6Ha95OAWyFb1gl/QJTW45og6pLe6OUdhgjjRB3onx8Vq65bVL
 iRJ2Bcz6GplBWod553RmaVyZXzB0L2UCRRALLhGiexeMtCvCrPCi9E30blKeSP5HQiZv
 n3X4VEi+TRYsWDjfvJt+KSZEBlpKKwaBWagTJuCZaprqPodett+H3vK7YYXGrdKVewS6
 tQJjyKP3yxCDzgcsVNULwTI/1K6p4HeZfoREX8PWYMBgbuzeuSxx3GI09xdeos50sAwH
 2USlZ1UCNuNnM39h+DYAvZfh2NxIzr/shADZQvkrdboHidi52kJJpAdbW7CT+vYmkLmx
 qXRQ==
X-Gm-Message-State: AOJu0YwdUp5fP9dpy11haZX3felF1Sk9du62CdIY1cUYYpUlNT501VI9
 Q5+yEvQiG7I58w3V9UtwxJJyFY+tGQ3Y8874N+cDwed91ZM9AQmqtY4xIL/2RKZvIUkbiBd5TMl
 Z5b3isoHoDL88+ZxAiNFvNWDja2wcOe4iw6ttlvO1rIWYlMXikPXi6ULc
X-Google-Smtp-Source: AGHT+IH55BOMs8X0HK6qr84gDCjlS3gTf7mVUkVz82iyEVoWWTTZl4aEMcl+wLYUGI4feNeoCkGuz2aehiAc
X-Received: by 2002:ad4:5cc6:0:b0:6b5:e74a:8ad0 with SMTP id
 6a1803df08f44-6b61bc7fcc9mr76930716d6.6.1720629036963; 
 Wed, 10 Jul 2024 09:30:36 -0700 (PDT)
Received: from postal.iol.unh.edu (postal.iol.unh.edu.
 [2606:4100:3880:1234::84]) by smtp-relay.gmail.com with ESMTPS id
 6a1803df08f44-6b742983285sm1103466d6.64.2024.07.10.09.30.36
 (version=TLS1_2 cipher=ECDHE-ECDSA-AES128-GCM-SHA256 bits=128/128);
 Wed, 10 Jul 2024 09:30:36 -0700 (PDT)
X-Relaying-Domain: iol.unh.edu
Date: Wed, 10 Jul 2024 09:30:36 -0700 (PDT)
Message-ID: <668eb72c.d40a0220.c962c.4c83SMTPIN_ADDED_MISSING@mx.google.com>
Received: from [172.17.0.3] (unknown [172.18.0.217])
 by postal.iol.unh.edu (Postfix) with ESMTP id 97978605C380;
 Wed, 10 Jul 2024 12:30:36 -0400 (EDT)
Subject: |PENDING| pw142264-142271 [PATCH] [8/8] net/mlx5/hws: fix NA64 copy 
From: dpdklab@iol.unh.edu
To: Test Report <test-report@dpdk.org>
Cc: dpdk-test-reports@iol.unh.edu
In-Reply-To: <20240709123103.2101902-9-igozlan@nvidia.com>
References: <20240709123103.2101902-9-igozlan@nvidia.com>
Content-Type: text/plain
X-BeenThere: test-report@dpdk.org
X-Mailman-Version: 2.1.29
Precedence: list
List-Id: automatic DPDK test reports <test-report.dpdk.org>
List-Unsubscribe: <https://mails.dpdk.org/options/test-report>,
 <mailto:test-report-request@dpdk.org?subject=unsubscribe>
List-Archive: <http://mails.dpdk.org/archives/test-report/>
List-Post: <mailto:test-report@dpdk.org>
List-Help: <mailto:test-report-request@dpdk.org?subject=help>
List-Subscribe: <https://mails.dpdk.org/listinfo/test-report>,
 <mailto:test-report-request@dpdk.org?subject=subscribe>
Errors-To: test-report-bounces@dpdk.org

Test-Label: iol-unit-amd64-testing
Test-Status: PENDING
http://dpdk.org/patch/142271

_Testing pending_

Submitter: Itamar Gozlan <igozlan@nvidia.com>
Date: Tuesday, July 09 2024 12:31:03 
DPDK git baseline: Repo:dpdk
  Branch: master
  CommitID:b31811d96c1d0fb36df78dc34ef8325bce447bfc

142264-142271 --> testing pending

Test environment and result as below:

+---------------------+----------------+
|     Environment     | dpdk_unit_test |
+=====================+================+
| Windows Server 2019 | PASS           |
+---------------------+----------------+
| Windows Server 2022 | PASS           |
+---------------------+----------------+
| CentOS Stream 8     | PEND           |
+---------------------+----------------+
| CentOS Stream 9     | PEND           |
+---------------------+----------------+
| Debian Bullseye     | PEND           |
+---------------------+----------------+
| Debian 12           | PEND           |
+---------------------+----------------+
| Fedora 37           | PEND           |
+---------------------+----------------+
| Fedora 38           | PEND           |
+---------------------+----------------+
| Fedora 39           | PEND           |
+---------------------+----------------+
| Fedora 39 (Clang)   | PEND           |
+---------------------+----------------+
| Fedora 40           | PEND           |
+---------------------+----------------+
| Fedora 40 (Clang)   | PEND           |
+---------------------+----------------+
| openSUSE Leap 15    | PASS           |
+---------------------+----------------+
| RHEL8               | PASS           |
+---------------------+----------------+
| RHEL9               | PASS           |
+---------------------+----------------+
| Ubuntu 20.04        | PASS           |
+---------------------+----------------+
| Ubuntu 22.04        | PASS           |
+---------------------+----------------+
| Ubuntu 24.04        | PASS           |
+---------------------+----------------+
| Fedora 38 (Clang)   | PEND           |
+---------------------+----------------+


Windows Server 2019
	Kernel: 10.0.17763
	Compiler: clang 14.0 and gcc 8.1.0 (MinGW)

Windows Server 2022
	Kernel: 10.0.20348.2031
	Compiler: clang 15.0.7, gcc 8.1.0 (MinGW), and MSVC VS 17.9

CentOS Stream 8
	Kernel: 5.4.0-167-generic
	Compiler: gcc 8.5.0 20210514

CentOS Stream 9
	Kernel: 5.4.0-167-generic
	Compiler: gcc 11.4.1 20230605

Debian Bullseye
	Kernel: 5.4.0-167-generic
	Compiler: gcc 10.2.1-6

Debian 12
	Kernel: Container Host Kernel
	Compiler: gcc 12.2.0

Fedora 37
	Kernel: Depends on container host system
	Compiler: gcc 12.3.1

Fedora 38
	Kernel: Depends on container host
	Compiler: gcc 13.2.1

Fedora 39
	Kernel: Depends on container host
	Compiler: gcc 13.2.1

Fedora 39 (Clang)
	Kernel: Depends on container host
	Compiler: clang 17.0.6

Fedora 40
	Kernel: Depends on container host
	Compiler: gcc 14.1.1

Fedora 40 (Clang)
	Kernel: Depends on container host
	Compiler: clang 18.1.6

openSUSE Leap 15
	Kernel: 5.4.0-167-generic
	Compiler: gcc 7.5.0

RHEL8
	Kernel: 5.4.0-167-generic
	Compiler: gcc 8.5.0 20210514 (Red Hat 8.5.0-20)

RHEL9
	Kernel: Depends on container host
	Compiler: gcc 11.4.1

Ubuntu 20.04
	Kernel: 5.4.0-167-generic
	Compiler: gcc 9.4.0-1ubuntu1~20.04.1

Ubuntu 22.04
	Kernel: 5.4.0-167-generic
	Compiler: gcc 11.4.0

Ubuntu 24.04
	Kernel: 5.4.0-167-generic
	Compiler: gcc 13.2.0

Fedora 38 (Clang)
	Kernel: Depends on container host
	Compiler: clang 16.0.6

To view detailed results, visit:
https://lab.dpdk.org/results/dashboard/patchsets/30478/

UNH-IOL DPDK Community Lab

To manage your email subscriptions, visit: 
https://lab.dpdk.org/results/dashboard/preferences/subscriptions/