From mboxrd@z Thu Jan  1 00:00:00 1970
Return-Path: <test-report-bounces@dpdk.org>
Received: from mails.dpdk.org (mails.dpdk.org [217.70.189.124])
	by inbox.dpdk.org (Postfix) with ESMTP id 42DA7455D5
	for <public@inbox.dpdk.org>; Wed, 10 Jul 2024 18:32:26 +0200 (CEST)
Received: from mails.dpdk.org (localhost [127.0.0.1])
	by mails.dpdk.org (Postfix) with ESMTP id 3F88240E0A;
	Wed, 10 Jul 2024 18:32:26 +0200 (CEST)
Received: from mail-ot1-f99.google.com (mail-ot1-f99.google.com
 [209.85.210.99]) by mails.dpdk.org (Postfix) with ESMTP id EB796402C9
 for <test-report@dpdk.org>; Wed, 10 Jul 2024 18:32:24 +0200 (CEST)
Received: by mail-ot1-f99.google.com with SMTP id
 46e09a7af769-6f8d0a1e500so5703960a34.3
 for <test-report@dpdk.org>; Wed, 10 Jul 2024 09:32:24 -0700 (PDT)
DKIM-Signature: v=1; a=rsa-sha256; c=relaxed/relaxed;
 d=iol.unh.edu; s=unh-iol; t=1720629144; x=1721233944; darn=dpdk.org;
 h=references:in-reply-to:cc:to:from:subject:message-id:date:from:to
 :cc:subject:date:message-id:reply-to;
 bh=VTgpDT/UsHx34FbRs4qh/CkO3LftMJrO3Juu1eoWbeU=;
 b=dw6YYcQPSltwNXgmI/18tM7HfECdA6PaG/f5beFN8V3X9WLJ9qCeLCRDojf+E8UvcC
 WFGH4Wgmxo1KSsmwjDFtdYSl/VHXdeq74S7eang9e86QmUi7SVQEZ3VlNRmGhN3sahCN
 aVRv4FS1KY50+Gh1ZhOprpKCnMgN8ZUL+uENY=
X-Google-DKIM-Signature: v=1; a=rsa-sha256; c=relaxed/relaxed;
 d=1e100.net; s=20230601; t=1720629144; x=1721233944;
 h=references:in-reply-to:cc:to:from:subject:message-id:date
 :x-gm-message-state:from:to:cc:subject:date:message-id:reply-to;
 bh=VTgpDT/UsHx34FbRs4qh/CkO3LftMJrO3Juu1eoWbeU=;
 b=EbjIifv7dB+hh0DG/Yf6zxgBftzi+9mOVhrvDBsxdcT1hHEtPUlIIJQIBR6UTwkdr7
 3jmFSspm7Cglr0YuYH1/gBgdn+QoB7+OUVsmhEvk1ktLbafd5sryeh3Q+EtJ2q3ODjx8
 HnfGn50soUWKZAqpzXsTC1/k5EFCW5U66r2P/Xfxyy0aNG6gC9UlULWVcFE2SEyC9+i5
 DoNHNiZ7npSWwtlygj6xnlfQDa+tj3aVp3Ke49rLKqbwgDvS88NjW/j1GKNwSOmA8IQt
 2RP5E4jGcW7jExJQHa0D19EZaPYx1MR1RXkLPC5E03lO3dwywpXwVojZh0ft+Enr6b9K
 rHug==
X-Gm-Message-State: AOJu0Yy7PBwnM4dHsZ3Bc6hcMFQb2lw/xF9D8Jpmh/E5uMX0UDUOe3lr
 pUeOCNmBwipYDzobsH/d3GiwTqDWXb44y4K0cFvFdH5PT+6fDk+eru2wzK5bGK6gRXF1/EI7NYS
 EymaG10D0PCX9Em1EwTwgJkFtIu6rye8/gfYN2aT5
X-Google-Smtp-Source: AGHT+IHnAJ7Lb6os0sGUnOchbpYDJcaXz//paoDzAwVjDuMUEYZANIUJcAI4L5CfaP1QLowe492GEYsTaq2S
X-Received: by 2002:a05:6358:1a93:b0:1a4:558c:e11f with SMTP id
 e5c5f4694b2df-1aade0c624fmr506465455d.15.1720629144150; 
 Wed, 10 Jul 2024 09:32:24 -0700 (PDT)
Received: from postal.iol.unh.edu (postal.iol.unh.edu. [132.177.123.84])
 by smtp-relay.gmail.com with ESMTPS id
 41be03b00d2f7-77d4b76a105sm169354a12.0.2024.07.10.09.32.24
 (version=TLS1_2 cipher=ECDHE-ECDSA-AES128-GCM-SHA256 bits=128/128);
 Wed, 10 Jul 2024 09:32:24 -0700 (PDT)
X-Relaying-Domain: iol.unh.edu
Date: Wed, 10 Jul 2024 09:32:24 -0700 (PDT)
Message-ID: <668eb798.630a0220.60df4.a288SMTPIN_ADDED_MISSING@mx.google.com>
Received: from [172.17.0.4] (unknown [172.18.0.217])
 by postal.iol.unh.edu (Postfix) with ESMTP id 620CE605C380;
 Wed, 10 Jul 2024 12:32:23 -0400 (EDT)
Subject: |PENDING| pw142264-142271 [PATCH] [8/8] net/mlx5/hws: fix NA64 copy 
From: dpdklab@iol.unh.edu
To: Test Report <test-report@dpdk.org>
Cc: dpdk-test-reports@iol.unh.edu
In-Reply-To: <20240709123103.2101902-9-igozlan@nvidia.com>
References: <20240709123103.2101902-9-igozlan@nvidia.com>
Content-Type: text/plain
X-BeenThere: test-report@dpdk.org
X-Mailman-Version: 2.1.29
Precedence: list
List-Id: automatic DPDK test reports <test-report.dpdk.org>
List-Unsubscribe: <https://mails.dpdk.org/options/test-report>,
 <mailto:test-report-request@dpdk.org?subject=unsubscribe>
List-Archive: <http://mails.dpdk.org/archives/test-report/>
List-Post: <mailto:test-report@dpdk.org>
List-Help: <mailto:test-report-request@dpdk.org?subject=help>
List-Subscribe: <https://mails.dpdk.org/listinfo/test-report>,
 <mailto:test-report-request@dpdk.org?subject=subscribe>
Errors-To: test-report-bounces@dpdk.org

Test-Label: iol-unit-amd64-testing
Test-Status: PENDING
http://dpdk.org/patch/142271

_Testing pending_

Submitter: Itamar Gozlan <igozlan@nvidia.com>
Date: Tuesday, July 09 2024 12:31:03 
DPDK git baseline: Repo:dpdk
  Branch: master
  CommitID:b31811d96c1d0fb36df78dc34ef8325bce447bfc

142264-142271 --> testing pending

Test environment and result as below:

+---------------------+----------------+
|     Environment     | dpdk_unit_test |
+=====================+================+
| Windows Server 2019 | PASS           |
+---------------------+----------------+
| Windows Server 2022 | PASS           |
+---------------------+----------------+
| CentOS Stream 8     | PEND           |
+---------------------+----------------+
| CentOS Stream 9     | PEND           |
+---------------------+----------------+
| Debian Bullseye     | PEND           |
+---------------------+----------------+
| Debian 12           | PEND           |
+---------------------+----------------+
| Fedora 37           | PEND           |
+---------------------+----------------+
| Fedora 38           | PEND           |
+---------------------+----------------+
| Fedora 39           | PEND           |
+---------------------+----------------+
| Fedora 39 (Clang)   | PEND           |
+---------------------+----------------+
| Fedora 40           | PEND           |
+---------------------+----------------+
| Fedora 40 (Clang)   | PASS           |
+---------------------+----------------+
| openSUSE Leap 15    | PASS           |
+---------------------+----------------+
| RHEL8               | PASS           |
+---------------------+----------------+
| RHEL9               | PASS           |
+---------------------+----------------+
| Ubuntu 20.04        | PASS           |
+---------------------+----------------+
| Ubuntu 22.04        | PASS           |
+---------------------+----------------+
| Ubuntu 24.04        | PASS           |
+---------------------+----------------+
| Fedora 38 (Clang)   | PEND           |
+---------------------+----------------+


Windows Server 2019
	Kernel: 10.0.17763
	Compiler: clang 14.0 and gcc 8.1.0 (MinGW)

Windows Server 2022
	Kernel: 10.0.20348.2031
	Compiler: clang 15.0.7, gcc 8.1.0 (MinGW), and MSVC VS 17.9

CentOS Stream 8
	Kernel: 5.4.0-167-generic
	Compiler: gcc 8.5.0 20210514

CentOS Stream 9
	Kernel: 5.4.0-167-generic
	Compiler: gcc 11.4.1 20230605

Debian Bullseye
	Kernel: 5.4.0-167-generic
	Compiler: gcc 10.2.1-6

Debian 12
	Kernel: Container Host Kernel
	Compiler: gcc 12.2.0

Fedora 37
	Kernel: Depends on container host system
	Compiler: gcc 12.3.1

Fedora 38
	Kernel: Depends on container host
	Compiler: gcc 13.2.1

Fedora 39
	Kernel: Depends on container host
	Compiler: gcc 13.2.1

Fedora 39 (Clang)
	Kernel: Depends on container host
	Compiler: clang 17.0.6

Fedora 40
	Kernel: Depends on container host
	Compiler: gcc 14.1.1

Fedora 40 (Clang)
	Kernel: Depends on container host
	Compiler: clang 18.1.6

openSUSE Leap 15
	Kernel: 5.4.0-167-generic
	Compiler: gcc 7.5.0

RHEL8
	Kernel: 5.4.0-167-generic
	Compiler: gcc 8.5.0 20210514 (Red Hat 8.5.0-20)

RHEL9
	Kernel: Depends on container host
	Compiler: gcc 11.4.1

Ubuntu 20.04
	Kernel: 5.4.0-167-generic
	Compiler: gcc 9.4.0-1ubuntu1~20.04.1

Ubuntu 22.04
	Kernel: 5.4.0-167-generic
	Compiler: gcc 11.4.0

Ubuntu 24.04
	Kernel: 5.4.0-167-generic
	Compiler: gcc 13.2.0

Fedora 38 (Clang)
	Kernel: Depends on container host
	Compiler: clang 16.0.6

To view detailed results, visit:
https://lab.dpdk.org/results/dashboard/patchsets/30478/

UNH-IOL DPDK Community Lab

To manage your email subscriptions, visit: 
https://lab.dpdk.org/results/dashboard/preferences/subscriptions/