From mboxrd@z Thu Jan  1 00:00:00 1970
Return-Path: <test-report-bounces@dpdk.org>
Received: from mails.dpdk.org (mails.dpdk.org [217.70.189.124])
	by inbox.dpdk.org (Postfix) with ESMTP id 5B8A2455D7
	for <public@inbox.dpdk.org>; Wed, 10 Jul 2024 22:07:12 +0200 (CEST)
Received: from mails.dpdk.org (localhost [127.0.0.1])
	by mails.dpdk.org (Postfix) with ESMTP id 54160410D4;
	Wed, 10 Jul 2024 22:07:12 +0200 (CEST)
Received: from mail-oa1-f100.google.com (mail-oa1-f100.google.com
 [209.85.160.100])
 by mails.dpdk.org (Postfix) with ESMTP id 998D740E0A
 for <test-report@dpdk.org>; Wed, 10 Jul 2024 22:07:11 +0200 (CEST)
Received: by mail-oa1-f100.google.com with SMTP id
 586e51a60fabf-25e3d8db819so104346fac.0
 for <test-report@dpdk.org>; Wed, 10 Jul 2024 13:07:11 -0700 (PDT)
DKIM-Signature: v=1; a=rsa-sha256; c=relaxed/relaxed;
 d=iol.unh.edu; s=unh-iol; t=1720642031; x=1721246831; darn=dpdk.org;
 h=references:in-reply-to:cc:to:from:subject:message-id:date:from:to
 :cc:subject:date:message-id:reply-to;
 bh=Wpr7RvKmcEe60hb7jd9iU21C5RphwtmbZ8tcPGx5gPU=;
 b=BSrz2uz8elo1js2LnHs4HLrxhhI2TCQApE9Ok52u2ajVVQVt9or8RhYS3ZEc8m4Voo
 mJA/PfTMmy0x1g4EO09rgEOsgD+j21GdNZWMosC8bLLCY4iItKv3RuzQdXCfvQv8Qy50
 /XUC4OF8DAcARaC0ogFpTCoUvBvyMEHfS/1FA=
X-Google-DKIM-Signature: v=1; a=rsa-sha256; c=relaxed/relaxed;
 d=1e100.net; s=20230601; t=1720642031; x=1721246831;
 h=references:in-reply-to:cc:to:from:subject:message-id:date
 :x-gm-message-state:from:to:cc:subject:date:message-id:reply-to;
 bh=Wpr7RvKmcEe60hb7jd9iU21C5RphwtmbZ8tcPGx5gPU=;
 b=X3ZTTjLPP4OZmP8tXJPI0cKijKw8CLN0xR4ZCtWmz2k6QSzHC7gHMFpVPAPiCRSz1y
 pVBgJ43I1AOeSIEZ78PFICoJF3Mojx7zx32WlRygxEE8/vAqFQ6WtFvwQGuA/RtK3c/3
 FGtllGe098K0vzWGMr8ytNrsUL5CkWotRmTmXmmlVPe7vHEkEzxUHKB8IxcT59tH053V
 bYRKN3TOOPFxm844sNbpRGIVGUSZAmXFUtI+0oughsrX/xZFpscfZBlhwsX8ouQlMwN/
 i2kLF5hAfay62TZvYve3u4etUZNPWaK7fH/aefj1ZT0t5pWrHoC6e4RmE2TpNNzNCNeX
 SKzw==
X-Gm-Message-State: AOJu0YzBAu1GbD3up6vrleddvHR+cvk76Cd2Akjvc5g+00GIAPqOuhCh
 p3HaNHWl3uH0lsdEGiFZnZZzLXoFckqyKq3hJ79VH1TnF0UxEp/YXd3Cl78w+Y2+0L7/r4Yc4Xq
 IWAxumkIU1ORqkLgcSKinRPmJ02cJmCzYTROjoOwM5Z8eHnsjmihNOKak
X-Google-Smtp-Source: AGHT+IH50BRpplrbjWyMdwOLHj9lkg0F/LA9xXSEmsQOuTHlDbsH+oDDvFVikih68dYuZ8Fg9uck51zCK7cm
X-Received: by 2002:a05:6870:96a7:b0:254:77f7:7bdd with SMTP id
 586e51a60fabf-25eaec8ddecmr5852897fac.50.1720642030910; 
 Wed, 10 Jul 2024 13:07:10 -0700 (PDT)
Received: from postal.iol.unh.edu (postal.iol.unh.edu.
 [2606:4100:3880:1234::84]) by smtp-relay.gmail.com with ESMTPS id
 586e51a60fabf-25eaa2372acsm165932fac.34.2024.07.10.13.07.10
 (version=TLS1_2 cipher=ECDHE-ECDSA-AES128-GCM-SHA256 bits=128/128);
 Wed, 10 Jul 2024 13:07:10 -0700 (PDT)
X-Relaying-Domain: iol.unh.edu
Date: Wed, 10 Jul 2024 13:07:10 -0700 (PDT)
Message-ID: <668ee9ee.050a0220.56f2d.9828SMTPIN_ADDED_MISSING@mx.google.com>
Received: from [172.21.0.7] (unknown [172.18.0.240])
 by postal.iol.unh.edu (Postfix) with ESMTP id 86CA8605C380;
 Wed, 10 Jul 2024 16:07:10 -0400 (EDT)
Subject: |PENDING| pw142284-142291 [PATCH] [v5,8/8] mempool/dpaax: cache free
From: dpdklab@iol.unh.edu
To: Test Report <test-report@dpdk.org>
Cc: dpdk-test-reports@iol.unh.edu
In-Reply-To: <20240710085534.2564668-9-vanshika.shukla@nxp.com>
References: <20240710085534.2564668-9-vanshika.shukla@nxp.com>
Content-Type: text/plain
X-BeenThere: test-report@dpdk.org
X-Mailman-Version: 2.1.29
Precedence: list
List-Id: automatic DPDK test reports <test-report.dpdk.org>
List-Unsubscribe: <https://mails.dpdk.org/options/test-report>,
 <mailto:test-report-request@dpdk.org?subject=unsubscribe>
List-Archive: <http://mails.dpdk.org/archives/test-report/>
List-Post: <mailto:test-report@dpdk.org>
List-Help: <mailto:test-report-request@dpdk.org?subject=help>
List-Subscribe: <https://mails.dpdk.org/listinfo/test-report>,
 <mailto:test-report-request@dpdk.org?subject=subscribe>
Errors-To: test-report-bounces@dpdk.org

Test-Label: iol-abi-testing
Test-Status: PENDING
http://dpdk.org/patch/142291

_Testing pending_

Submitter: None <vanshika.shukla@nxp.com>
Date: Wednesday, July 10 2024 08:55:34 
DPDK git baseline: Repo:dpdk
  Branch: master
  CommitID:a6c3ec342ee105e322ffdb21e810cdfd38455c62

142284-142291 --> testing pending

Test environment and result as below:

+-------------------+----------+
|    Environment    | abi_test |
+===================+==========+
| CentOS Stream 9   | PASS     |
+-------------------+----------+
| CentOS Stream 8   | PASS     |
+-------------------+----------+
| Debian Bullseye   | PEND     |
+-------------------+----------+
| Debian 12         | PEND     |
+-------------------+----------+
| openSUSE Leap 15  | PEND     |
+-------------------+----------+
| Fedora 38 (Clang) | PASS     |
+-------------------+----------+
| Fedora 39 (Clang) | PASS     |
+-------------------+----------+
| Fedora 39         | PEND     |
+-------------------+----------+
| Fedora 40         | PEND     |
+-------------------+----------+
| RHEL8             | PEND     |
+-------------------+----------+
| Fedora 38         | PEND     |
+-------------------+----------+
| Fedora 40 (Clang) | PEND     |
+-------------------+----------+
| Fedora 37         | PEND     |
+-------------------+----------+
| Ubuntu 22.04      | PEND     |
+-------------------+----------+
| Ubuntu 24.04      | PEND     |
+-------------------+----------+
| RHEL9             | PEND     |
+-------------------+----------+


CentOS Stream 9
	Kernel: 5.4.0-167-generic
	Compiler: gcc 11.4.1 20230605

CentOS Stream 8
	Kernel: 5.4.0-167-generic
	Compiler: gcc 8.5.0 20210514

Debian Bullseye
	Kernel: 5.4.0-167-generic
	Compiler: gcc 10.2.1-6

Debian 12
	Kernel: Container Host Kernel
	Compiler: gcc 12.2.0

openSUSE Leap 15
	Kernel: 5.4.0-167-generic
	Compiler: gcc 7.5.0

Fedora 38 (Clang)
	Kernel: Depends on container host
	Compiler: clang 16.0.6

Fedora 39 (Clang)
	Kernel: Depends on container host
	Compiler: clang 17.0.6

Fedora 39
	Kernel: Depends on container host
	Compiler: gcc 13.2.1

Fedora 40
	Kernel: Depends on container host
	Compiler: gcc 14.1.1

RHEL8
	Kernel: 5.4.0-167-generic
	Compiler: gcc 8.5.0 20210514 (Red Hat 8.5.0-20)

Fedora 38
	Kernel: Depends on container host
	Compiler: gcc 13.2.1

Fedora 40 (Clang)
	Kernel: Depends on container host
	Compiler: clang 18.1.6

Fedora 37
	Kernel: Depends on container host system
	Compiler: gcc 12.3.1

Ubuntu 22.04
	Kernel: 5.4.0-167-generic
	Compiler: gcc 11.4.0

Ubuntu 24.04
	Kernel: 5.4.0-167-generic
	Compiler: gcc 13.2.0

RHEL9
	Kernel: Depends on container host
	Compiler: gcc 11.4.1

To view detailed results, visit:
https://lab.dpdk.org/results/dashboard/patchsets/30485/

UNH-IOL DPDK Community Lab

To manage your email subscriptions, visit: 
https://lab.dpdk.org/results/dashboard/preferences/subscriptions/