From mboxrd@z Thu Jan  1 00:00:00 1970
Return-Path: <test-report-bounces@dpdk.org>
Received: from mails.dpdk.org (mails.dpdk.org [217.70.189.124])
	by inbox.dpdk.org (Postfix) with ESMTP id 85DC4455E5
	for <public@inbox.dpdk.org>; Thu, 11 Jul 2024 00:00:52 +0200 (CEST)
Received: from mails.dpdk.org (localhost [127.0.0.1])
	by mails.dpdk.org (Postfix) with ESMTP id 82EDB402C0;
	Thu, 11 Jul 2024 00:00:52 +0200 (CEST)
Received: from mail-io1-f99.google.com (mail-io1-f99.google.com
 [209.85.166.99]) by mails.dpdk.org (Postfix) with ESMTP id 2655840041
 for <test-report@dpdk.org>; Thu, 11 Jul 2024 00:00:51 +0200 (CEST)
Received: by mail-io1-f99.google.com with SMTP id
 ca18e2360f4ac-8046f65536dso13122939f.1
 for <test-report@dpdk.org>; Wed, 10 Jul 2024 15:00:51 -0700 (PDT)
DKIM-Signature: v=1; a=rsa-sha256; c=relaxed/relaxed;
 d=iol.unh.edu; s=unh-iol; t=1720648850; x=1721253650; darn=dpdk.org;
 h=references:in-reply-to:cc:to:from:subject:message-id:date:from:to
 :cc:subject:date:message-id:reply-to;
 bh=fqe6yIF3wopLw24316SpLCK6ilMFvMhcMXL7wA4OjQQ=;
 b=iO0GtHi+LmckvHmffpZjpEOAg3fVUdRw9CeeHZ8BCfWmJdjhR8Wj/Ptr68DJeV3atL
 Y9RJTqlJ72jmpZDG7a8UYG1aHJYbu6ahq+IOWMTjU0o3WBy6BGUxtQccBzvWoRJb0M8X
 LJ5Ovrdi+TLA/iV1F1UyTbhWpsIgeNqAeR+qU=
X-Google-DKIM-Signature: v=1; a=rsa-sha256; c=relaxed/relaxed;
 d=1e100.net; s=20230601; t=1720648850; x=1721253650;
 h=references:in-reply-to:cc:to:from:subject:message-id:date
 :x-gm-message-state:from:to:cc:subject:date:message-id:reply-to;
 bh=fqe6yIF3wopLw24316SpLCK6ilMFvMhcMXL7wA4OjQQ=;
 b=a6pfjrYQU6lmmZ73FColmFvVSKw+DmyFwaqvID9w9PsgeLqHOAfTnOnHuRT4HoFQD7
 JH7+KHOt3yhffq4DeU2W98L/M81tNi/pOQBCoAnKEmoBX8phsRck5OtYD1x/YTgo9+0e
 jzXDGrQKWwVtQBHSprY7O3gQO3+ku3Y1SwK1l529bimbeMa8U2l8cb8WsFHoHVaoKLyx
 CmhasEJkeI8A9qr3CpBfWJ7VRTeEepEUefU18e9m+87XZqxyEgFYteMdJHl86f5Peuia
 FEIxp5j2ie/WBn+Nj9pW2p93KuKKUlRUkNDJZx4h8kUY3Buh5DQf36aRqQoSAupxfBPy
 wytw==
X-Gm-Message-State: AOJu0YxpK8q9dSdEbcVaTTc5BgWKM//SM249ALdmdJvf8JP/OkaH+DQi
 k810tkSkv1qNxVelAFv+lVhmgR5JJ95IqdfQDgaSG5Isj/ArE504klvaXdFqc5mDaGWBbuEGZIu
 LxrF3BjIicIj5F1mV+NZtLUO9EGt5UwFxWtb5l6nPhnwAnUC2LO2RZWSv
X-Google-Smtp-Source: AGHT+IHlTx8kz3oF5ibckl6mYVy5HbzDUcggB1KuHxK4c769HvQQb1aT8fX9LOamIa6jitezu42pbu6OOMsW
X-Received: by 2002:a6b:e617:0:b0:803:5e55:ecb0 with SMTP id
 ca18e2360f4ac-8035e55edb8mr506385639f.0.1720648850448; 
 Wed, 10 Jul 2024 15:00:50 -0700 (PDT)
Received: from postal.iol.unh.edu (postal.iol.unh.edu.
 [2606:4100:3880:1234::84]) by smtp-relay.gmail.com with ESMTPS id
 8926c6da1cb9f-4c0b1b10a32sm185304173.20.2024.07.10.15.00.50
 (version=TLS1_2 cipher=ECDHE-ECDSA-AES128-GCM-SHA256 bits=128/128);
 Wed, 10 Jul 2024 15:00:50 -0700 (PDT)
X-Relaying-Domain: iol.unh.edu
Date: Wed, 10 Jul 2024 15:00:50 -0700 (PDT)
Message-ID: <668f0492.050a0220.be2b6.b29eSMTPIN_ADDED_MISSING@mx.google.com>
Received: from [172.21.0.6] (unknown [172.18.0.240])
 by postal.iol.unh.edu (Postfix) with ESMTP id E6AC1605C380;
 Wed, 10 Jul 2024 18:00:49 -0400 (EDT)
Subject: |PENDING| pw142281-142283 [PATCH] [v5,3/3] event/dsw: add capability
From: dpdklab@iol.unh.edu
To: Test Report <test-report@dpdk.org>
Cc: dpdk-test-reports@iol.unh.edu
In-Reply-To: <20240710063323.2533952-4-abdullah.sevincer@intel.com>
References: <20240710063323.2533952-4-abdullah.sevincer@intel.com>
Content-Type: text/plain
X-BeenThere: test-report@dpdk.org
X-Mailman-Version: 2.1.29
Precedence: list
List-Id: automatic DPDK test reports <test-report.dpdk.org>
List-Unsubscribe: <https://mails.dpdk.org/options/test-report>,
 <mailto:test-report-request@dpdk.org?subject=unsubscribe>
List-Archive: <http://mails.dpdk.org/archives/test-report/>
List-Post: <mailto:test-report@dpdk.org>
List-Help: <mailto:test-report-request@dpdk.org?subject=help>
List-Subscribe: <https://mails.dpdk.org/listinfo/test-report>,
 <mailto:test-report-request@dpdk.org?subject=subscribe>
Errors-To: test-report-bounces@dpdk.org

Test-Label: iol-abi-testing
Test-Status: PENDING
http://dpdk.org/patch/142283

_Testing pending_

Submitter: Abdullah Sevincer <abdullah.sevincer@intel.com>
Date: Wednesday, July 10 2024 06:33:23 
DPDK git baseline: Repo:dpdk
  Branch: master
  CommitID:55b2c404060c59fa769d5127a19b947e8de79cac

142281-142283 --> testing pending

Test environment and result as below:

+-------------------+----------+
|    Environment    | abi_test |
+===================+==========+
| CentOS Stream 8   | PASS     |
+-------------------+----------+
| CentOS Stream 9   | PASS     |
+-------------------+----------+
| Debian Bullseye   | PASS     |
+-------------------+----------+
| Debian 12         | PEND     |
+-------------------+----------+
| Fedora 38         | PEND     |
+-------------------+----------+
| Fedora 37         | PEND     |
+-------------------+----------+
| Fedora 38 (Clang) | PEND     |
+-------------------+----------+
| Fedora 39         | PEND     |
+-------------------+----------+
| Fedora 40         | PEND     |
+-------------------+----------+
| RHEL9             | PEND     |
+-------------------+----------+
| openSUSE Leap 15  | PEND     |
+-------------------+----------+
| RHEL8             | PEND     |
+-------------------+----------+
| Fedora 39 (Clang) | PEND     |
+-------------------+----------+
| Fedora 40 (Clang) | PEND     |
+-------------------+----------+
| Ubuntu 22.04      | PEND     |
+-------------------+----------+
| Ubuntu 24.04      | PEND     |
+-------------------+----------+


CentOS Stream 8
	Kernel: 5.4.0-167-generic
	Compiler: gcc 8.5.0 20210514

CentOS Stream 9
	Kernel: 5.4.0-167-generic
	Compiler: gcc 11.4.1 20230605

Debian Bullseye
	Kernel: 5.4.0-167-generic
	Compiler: gcc 10.2.1-6

Debian 12
	Kernel: Container Host Kernel
	Compiler: gcc 12.2.0

Fedora 38
	Kernel: Depends on container host
	Compiler: gcc 13.2.1

Fedora 37
	Kernel: Depends on container host system
	Compiler: gcc 12.3.1

Fedora 38 (Clang)
	Kernel: Depends on container host
	Compiler: clang 16.0.6

Fedora 39
	Kernel: Depends on container host
	Compiler: gcc 13.2.1

Fedora 40
	Kernel: Depends on container host
	Compiler: gcc 14.1.1

RHEL9
	Kernel: Depends on container host
	Compiler: gcc 11.4.1

openSUSE Leap 15
	Kernel: 5.4.0-167-generic
	Compiler: gcc 7.5.0

RHEL8
	Kernel: 5.4.0-167-generic
	Compiler: gcc 8.5.0 20210514 (Red Hat 8.5.0-20)

Fedora 39 (Clang)
	Kernel: Depends on container host
	Compiler: clang 17.0.6

Fedora 40 (Clang)
	Kernel: Depends on container host
	Compiler: clang 18.1.6

Ubuntu 22.04
	Kernel: 5.4.0-167-generic
	Compiler: gcc 11.4.0

Ubuntu 24.04
	Kernel: 5.4.0-167-generic
	Compiler: gcc 13.2.0

To view detailed results, visit:
https://lab.dpdk.org/results/dashboard/patchsets/30484/

UNH-IOL DPDK Community Lab

To manage your email subscriptions, visit: 
https://lab.dpdk.org/results/dashboard/preferences/subscriptions/