From mboxrd@z Thu Jan  1 00:00:00 1970
Return-Path: <test-report-bounces@dpdk.org>
Received: from mails.dpdk.org (mails.dpdk.org [217.70.189.124])
	by inbox.dpdk.org (Postfix) with ESMTP id 58178455D9
	for <public@inbox.dpdk.org>; Thu, 11 Jul 2024 01:04:57 +0200 (CEST)
Received: from mails.dpdk.org (localhost [127.0.0.1])
	by mails.dpdk.org (Postfix) with ESMTP id 549264065B;
	Thu, 11 Jul 2024 01:04:57 +0200 (CEST)
Received: from mail-oo1-f97.google.com (mail-oo1-f97.google.com
 [209.85.161.97]) by mails.dpdk.org (Postfix) with ESMTP id 23164402C0
 for <test-report@dpdk.org>; Thu, 11 Jul 2024 01:04:56 +0200 (CEST)
Received: by mail-oo1-f97.google.com with SMTP id
 006d021491bc7-5c697fc4aa2so184412eaf.2
 for <test-report@dpdk.org>; Wed, 10 Jul 2024 16:04:56 -0700 (PDT)
DKIM-Signature: v=1; a=rsa-sha256; c=relaxed/relaxed;
 d=iol.unh.edu; s=unh-iol; t=1720652695; x=1721257495; darn=dpdk.org;
 h=references:in-reply-to:cc:to:from:subject:message-id:date:from:to
 :cc:subject:date:message-id:reply-to;
 bh=qZaErJnFP+l9mi2rDmV7MHARup09/m4sk26J8FL1UVE=;
 b=E5P7C8R38X91iZXA3vYsSm1ZIA/zeo7rnyZStu5U9m4T5B27zqIHUlBwPZXU3/4zmo
 q/MqsqKJP5P1b7CGBIziTbMDKl2hrCpN5hhFc9VbKCx94DWd17iKBHF2SGJl6i6EyHGH
 vJmPUVJl0dSx4i3Htxyp5LPCwQk/psXxro/OM=
X-Google-DKIM-Signature: v=1; a=rsa-sha256; c=relaxed/relaxed;
 d=1e100.net; s=20230601; t=1720652695; x=1721257495;
 h=references:in-reply-to:cc:to:from:subject:message-id:date
 :x-gm-message-state:from:to:cc:subject:date:message-id:reply-to;
 bh=qZaErJnFP+l9mi2rDmV7MHARup09/m4sk26J8FL1UVE=;
 b=vn7TWBFwuFXBJRK6aHVABb9OBDAEIZ3H/JLWJWBun/2vuTW09aoYnhlyo1655kXZMr
 y1CHG+NJViRWHOqK1PuJvk0BiuWU1/Lp9vBDbQK1bOFd+HJVr9eB5Op4MkdWl5yhu0hL
 PcTXLgtNMPkVz5biNyQtMzoO++UqnUYkg1402OE+SR2tpB/KlZBGLBTz/rMptHnvrM70
 VhuwtS6N+X5qbYE24r98CCk1zSDLXmTgjpm4+XVK569tfAhN/JWRzCtOoowoSl9wcHwc
 98Rb8nFXvAIlV6/kNMQsg2wyPf38fYm+p4c3nvWCF6ldegWh42sjlxtNskXUtQnFwdZn
 T8bg==
X-Gm-Message-State: AOJu0YzNypVMHPYqesLmAxbM6kBKD6yIvh9wR4S5rHQNc6a8TENk53qc
 i2Zqo4Qpc2TFzxhurh2mbeOADwEa4RYdyt0cjCpGZLijpBDY7o5MTMSLJOMvs8nzalX8vDhwp7T
 mYvLjOy7MlRNg6fkwT7T8aRjmK/JIkM5OocSTpZ6b
X-Google-Smtp-Source: AGHT+IG3kKCojnj69qenJDnuvs89BhHFEQ0pvKaKPS0FFlRO68mqYpi5Wc3KxDYJPS539qiEQBIqvoFKatvE
X-Received: by 2002:a05:6820:e16:b0:5c6:8ec0:3e9d with SMTP id
 006d021491bc7-5c68ec03fd8mr6861557eaf.2.1720652695520; 
 Wed, 10 Jul 2024 16:04:55 -0700 (PDT)
Received: from postal.iol.unh.edu (postal.iol.unh.edu. [132.177.123.84])
 by smtp-relay.gmail.com with ESMTPS id
 006d021491bc7-5c77b98ab18sm90240eaf.16.2024.07.10.16.04.55
 (version=TLS1_2 cipher=ECDHE-ECDSA-AES128-GCM-SHA256 bits=128/128);
 Wed, 10 Jul 2024 16:04:55 -0700 (PDT)
X-Relaying-Domain: iol.unh.edu
Date: Wed, 10 Jul 2024 16:04:55 -0700 (PDT)
Message-ID: <668f1397.4a0a0220.83190.49ebSMTPIN_ADDED_MISSING@mx.google.com>
Received: from [172.21.0.7] (unknown [172.18.0.240])
 by postal.iol.unh.edu (Postfix) with ESMTP id 02DF2605C380;
 Wed, 10 Jul 2024 19:04:55 -0400 (EDT)
Subject: |PENDING| pw142284-142291 [PATCH] [v5,8/8] mempool/dpaax: cache free
From: dpdklab@iol.unh.edu
To: Test Report <test-report@dpdk.org>
Cc: dpdk-test-reports@iol.unh.edu
In-Reply-To: <20240710085534.2564668-9-vanshika.shukla@nxp.com>
References: <20240710085534.2564668-9-vanshika.shukla@nxp.com>
Content-Type: text/plain
X-BeenThere: test-report@dpdk.org
X-Mailman-Version: 2.1.29
Precedence: list
List-Id: automatic DPDK test reports <test-report.dpdk.org>
List-Unsubscribe: <https://mails.dpdk.org/options/test-report>,
 <mailto:test-report-request@dpdk.org?subject=unsubscribe>
List-Archive: <http://mails.dpdk.org/archives/test-report/>
List-Post: <mailto:test-report@dpdk.org>
List-Help: <mailto:test-report-request@dpdk.org?subject=help>
List-Subscribe: <https://mails.dpdk.org/listinfo/test-report>,
 <mailto:test-report-request@dpdk.org?subject=subscribe>
Errors-To: test-report-bounces@dpdk.org

Test-Label: iol-unit-amd64-testing
Test-Status: PENDING
http://dpdk.org/patch/142291

_Testing pending_

Submitter: None <vanshika.shukla@nxp.com>
Date: Wednesday, July 10 2024 08:55:34 
DPDK git baseline: Repo:dpdk
  Branch: master
  CommitID:a6c3ec342ee105e322ffdb21e810cdfd38455c62

142284-142291 --> testing pending

Test environment and result as below:

+---------------------+----------------+
|     Environment     | dpdk_unit_test |
+=====================+================+
| CentOS Stream 8     | PASS           |
+---------------------+----------------+
| Windows Server 2022 | PASS           |
+---------------------+----------------+
| Windows Server 2019 | PASS           |
+---------------------+----------------+
| CentOS Stream 9     | PASS           |
+---------------------+----------------+
| Debian 12           | PASS           |
+---------------------+----------------+
| Debian Bullseye     | PASS           |
+---------------------+----------------+
| Fedora 37           | PASS           |
+---------------------+----------------+
| Fedora 38           | PASS           |
+---------------------+----------------+
| Fedora 38 (Clang)   | PASS           |
+---------------------+----------------+
| Fedora 39           | PASS           |
+---------------------+----------------+
| Fedora 40           | PASS           |
+---------------------+----------------+
| Fedora 39 (Clang)   | PASS           |
+---------------------+----------------+
| Fedora 40 (Clang)   | PASS           |
+---------------------+----------------+
| openSUSE Leap 15    | PASS           |
+---------------------+----------------+
| RHEL9               | PEND           |
+---------------------+----------------+
| RHEL8               | PASS           |
+---------------------+----------------+
| Ubuntu 24.04        | PASS           |
+---------------------+----------------+
| Ubuntu 20.04        | PEND           |
+---------------------+----------------+
| Ubuntu 22.04        | PEND           |
+---------------------+----------------+


CentOS Stream 8
	Kernel: 5.4.0-167-generic
	Compiler: gcc 8.5.0 20210514

Windows Server 2022
	Kernel: 10.0.20348.2031
	Compiler: clang 15.0.7, gcc 8.1.0 (MinGW), and MSVC VS 17.9

Windows Server 2019
	Kernel: 10.0.17763
	Compiler: clang 14.0 and gcc 8.1.0 (MinGW)

CentOS Stream 9
	Kernel: 5.4.0-167-generic
	Compiler: gcc 11.4.1 20230605

Debian 12
	Kernel: Container Host Kernel
	Compiler: gcc 12.2.0

Debian Bullseye
	Kernel: 5.4.0-167-generic
	Compiler: gcc 10.2.1-6

Fedora 37
	Kernel: Depends on container host system
	Compiler: gcc 12.3.1

Fedora 38
	Kernel: Depends on container host
	Compiler: gcc 13.2.1

Fedora 38 (Clang)
	Kernel: Depends on container host
	Compiler: clang 16.0.6

Fedora 39
	Kernel: Depends on container host
	Compiler: gcc 13.2.1

Fedora 40
	Kernel: Depends on container host
	Compiler: gcc 14.1.1

Fedora 39 (Clang)
	Kernel: Depends on container host
	Compiler: clang 17.0.6

Fedora 40 (Clang)
	Kernel: Depends on container host
	Compiler: clang 18.1.6

openSUSE Leap 15
	Kernel: 5.4.0-167-generic
	Compiler: gcc 7.5.0

RHEL9
	Kernel: Depends on container host
	Compiler: gcc 11.4.1

RHEL8
	Kernel: 5.4.0-167-generic
	Compiler: gcc 8.5.0 20210514 (Red Hat 8.5.0-20)

Ubuntu 24.04
	Kernel: 5.4.0-167-generic
	Compiler: gcc 13.2.0

Ubuntu 20.04
	Kernel: 5.4.0-167-generic
	Compiler: gcc 9.4.0-1ubuntu1~20.04.1

Ubuntu 22.04
	Kernel: 5.4.0-167-generic
	Compiler: gcc 11.4.0

To view detailed results, visit:
https://lab.dpdk.org/results/dashboard/patchsets/30485/

UNH-IOL DPDK Community Lab

To manage your email subscriptions, visit: 
https://lab.dpdk.org/results/dashboard/preferences/subscriptions/