From mboxrd@z Thu Jan  1 00:00:00 1970
Return-Path: <test-report-bounces@dpdk.org>
Received: from mails.dpdk.org (mails.dpdk.org [217.70.189.124])
	by inbox.dpdk.org (Postfix) with ESMTP id 5F3A4455DE
	for <public@inbox.dpdk.org>; Thu, 11 Jul 2024 01:16:19 +0200 (CEST)
Received: from mails.dpdk.org (localhost [127.0.0.1])
	by mails.dpdk.org (Postfix) with ESMTP id 2676842E46;
	Thu, 11 Jul 2024 01:16:19 +0200 (CEST)
Received: from mail-pf1-f228.google.com (mail-pf1-f228.google.com
 [209.85.210.228])
 by mails.dpdk.org (Postfix) with ESMTP id 92164402C0
 for <test-report@dpdk.org>; Thu, 11 Jul 2024 01:16:02 +0200 (CEST)
Received: by mail-pf1-f228.google.com with SMTP id
 d2e1a72fcca58-70b0d0fefe3so246416b3a.2
 for <test-report@dpdk.org>; Wed, 10 Jul 2024 16:16:02 -0700 (PDT)
DKIM-Signature: v=1; a=rsa-sha256; c=relaxed/relaxed;
 d=iol.unh.edu; s=unh-iol; t=1720653362; x=1721258162; darn=dpdk.org;
 h=references:in-reply-to:cc:to:from:subject:message-id:date:from:to
 :cc:subject:date:message-id:reply-to;
 bh=JnvsbctrD6PocbefqOogeHqRxvqXsMkydG/4ejOm3G0=;
 b=VD9f7WNVNYBlhRzBgeFvulK01jH1L726099ok8RpcCeIYWmYMnsC9Qhtlt25zVuBGD
 9ZqqTb0IXQPzaaYfbJBtc6KjGniUjAMa/IbGNI4upx/oVuB/iswqLZ8rqqyFUKRxyfgO
 nCBBiGPWcgyrtNjcsNdjjQRUxB3lo34LmyRaI=
X-Google-DKIM-Signature: v=1; a=rsa-sha256; c=relaxed/relaxed;
 d=1e100.net; s=20230601; t=1720653362; x=1721258162;
 h=references:in-reply-to:cc:to:from:subject:message-id:date
 :x-gm-message-state:from:to:cc:subject:date:message-id:reply-to;
 bh=JnvsbctrD6PocbefqOogeHqRxvqXsMkydG/4ejOm3G0=;
 b=FwxbCp+KmyVcoATi/PCw20qCzsPKwIZvnuz6gyNOd/WhRjYL4zt56AS0XcwbhqIFjv
 cBmP0gWmKRfjxrbNFZiEM9UWNUID2QzHcM2GqfMJGS/6RAzjyC1ZRIiPIIG4HrkDcrYv
 DkSi39I6cUmOnVslxRGxBufFSWf7a9RL4PqGpN0d9S7vrhGlNBwmM1Xup0x9RUjty7Ow
 J5jb2Agg1rcynWpyVeLc4+VKb/UT0RosQ7veB1FBQdCUdagA231yYIODmnExpZRkRkTY
 ZQL/TqN9eqHngBxneNeYdW/+3fqXU6DJzdx1EPgnSFQ2qoNaTDtFsz7xJJiZuBug4A3n
 c2RA==
X-Gm-Message-State: AOJu0Yxf5WWjbPENmbC1DsprUas1UcYZkCmDhu+QHBgYbdum4XaIsPD4
 cXRzVAKtofrTEHmiBWihb+216GwwcIf8gzlX93Iqo/StXWgk0IwTyfHHJnX537ZvAQa9UxgQ5Cf
 1yxnX6bD4v1KtXoVoi4LFp2PFQqOZio/x7tuso7hw6ol0jDarTWprv3Mm
X-Google-Smtp-Source: AGHT+IHASPd9/l0npMy6hycmD6u/QrVONajbXxEAwlvKUIDyMabbecC1F55Cv3ncQB3shN+8Raklkl/45rNO
X-Received: by 2002:a05:6a00:3cc6:b0:706:6b29:9cf0 with SMTP id
 d2e1a72fcca58-70b4362679bmr7689988b3a.30.1720653361712; 
 Wed, 10 Jul 2024 16:16:01 -0700 (PDT)
Received: from postal.iol.unh.edu (postal.iol.unh.edu.
 [2606:4100:3880:1234::84]) by smtp-relay.gmail.com with ESMTPS id
 d2e1a72fcca58-70b43894d1asm259666b3a.13.2024.07.10.16.16.01
 (version=TLS1_2 cipher=ECDHE-ECDSA-AES128-GCM-SHA256 bits=128/128);
 Wed, 10 Jul 2024 16:16:01 -0700 (PDT)
X-Relaying-Domain: iol.unh.edu
Date: Wed, 10 Jul 2024 16:16:01 -0700 (PDT)
Message-ID: <668f1631.050a0220.8289c.e604SMTPIN_ADDED_MISSING@mx.google.com>
Received: from [172.21.0.9] (unknown [172.18.0.240])
 by postal.iol.unh.edu (Postfix) with ESMTP id CB6BE605C380;
 Wed, 10 Jul 2024 19:16:00 -0400 (EDT)
Subject: |PENDING| pw142284-142291 [PATCH] [v5,8/8] mempool/dpaax: cache free
From: dpdklab@iol.unh.edu
To: Test Report <test-report@dpdk.org>
Cc: dpdk-test-reports@iol.unh.edu
In-Reply-To: <20240710085534.2564668-9-vanshika.shukla@nxp.com>
References: <20240710085534.2564668-9-vanshika.shukla@nxp.com>
Content-Type: text/plain
X-BeenThere: test-report@dpdk.org
X-Mailman-Version: 2.1.29
Precedence: list
List-Id: automatic DPDK test reports <test-report.dpdk.org>
List-Unsubscribe: <https://mails.dpdk.org/options/test-report>,
 <mailto:test-report-request@dpdk.org?subject=unsubscribe>
List-Archive: <http://mails.dpdk.org/archives/test-report/>
List-Post: <mailto:test-report@dpdk.org>
List-Help: <mailto:test-report-request@dpdk.org?subject=help>
List-Subscribe: <https://mails.dpdk.org/listinfo/test-report>,
 <mailto:test-report-request@dpdk.org?subject=subscribe>
Errors-To: test-report-bounces@dpdk.org

Test-Label: iol-compile-amd64-testing
Test-Status: PENDING
http://dpdk.org/patch/142291

_Testing pending_

Submitter: None <vanshika.shukla@nxp.com>
Date: Wednesday, July 10 2024 08:55:34 
DPDK git baseline: Repo:dpdk
  Branch: master
  CommitID:a6c3ec342ee105e322ffdb21e810cdfd38455c62

142284-142291 --> testing pending

Test environment and result as below:

+---------------------+--------------------+----------------------+------------------+-------------------+-------------------+
|     Environment     | dpdk_meson_compile | dpdk_mingw64_compile | dpdk_compile_ovs | dpdk_compile_spdk | dpdk_msvc_compile |
+=====================+====================+======================+==================+===================+===================+
| Windows Server 2022 | PASS               | PASS                 | SKIPPED          | SKIPPED           | PASS              |
+---------------------+--------------------+----------------------+------------------+-------------------+-------------------+
| Windows Server 2019 | PASS               | PASS                 | SKIPPED          | SKIPPED           | SKIPPED           |
+---------------------+--------------------+----------------------+------------------+-------------------+-------------------+
| FreeBSD 13.3        | PASS               | SKIPPED              | SKIPPED          | SKIPPED           | SKIPPED           |
+---------------------+--------------------+----------------------+------------------+-------------------+-------------------+
| FreeBSD 14.1        | PASS               | SKIPPED              | SKIPPED          | SKIPPED           | SKIPPED           |
+---------------------+--------------------+----------------------+------------------+-------------------+-------------------+
| CentOS Stream 8     | PASS               | SKIPPED              | PASS             | PASS              | SKIPPED           |
+---------------------+--------------------+----------------------+------------------+-------------------+-------------------+
| CentOS Stream 9     | PASS               | SKIPPED              | PASS             | PASS              | SKIPPED           |
+---------------------+--------------------+----------------------+------------------+-------------------+-------------------+
| Fedora 37           | PASS               | SKIPPED              | PASS             | PASS              | SKIPPED           |
+---------------------+--------------------+----------------------+------------------+-------------------+-------------------+
| Fedora 38 (Clang)   | PASS               | SKIPPED              | PASS             | PASS              | SKIPPED           |
+---------------------+--------------------+----------------------+------------------+-------------------+-------------------+
| Fedora 39 (Clang)   | PASS               | SKIPPED              | PASS             | PASS              | SKIPPED           |
+---------------------+--------------------+----------------------+------------------+-------------------+-------------------+
| Fedora 38           | PASS               | SKIPPED              | PASS             | PASS              | SKIPPED           |
+---------------------+--------------------+----------------------+------------------+-------------------+-------------------+
| Fedora 39           | PASS               | SKIPPED              | PASS             | PASS              | SKIPPED           |
+---------------------+--------------------+----------------------+------------------+-------------------+-------------------+
| Fedora 40 (Clang)   | PASS               | SKIPPED              | PASS             | PASS              | SKIPPED           |
+---------------------+--------------------+----------------------+------------------+-------------------+-------------------+
| Fedora 40           | PEND               | SKIPPED              | PEND             | PEND              | SKIPPED           |
+---------------------+--------------------+----------------------+------------------+-------------------+-------------------+
| openSUSE Leap 15    | PASS               | SKIPPED              | PASS             | SKIPPED           | SKIPPED           |
+---------------------+--------------------+----------------------+------------------+-------------------+-------------------+
| RHEL8               | PASS               | SKIPPED              | PASS             | SKIPPED           | SKIPPED           |
+---------------------+--------------------+----------------------+------------------+-------------------+-------------------+
| RHEL9               | PEND               | SKIPPED              | PEND             | SKIPPED           | SKIPPED           |
+---------------------+--------------------+----------------------+------------------+-------------------+-------------------+
| Ubuntu 20.04        | PASS               | SKIPPED              | PASS             | SKIPPED           | SKIPPED           |
+---------------------+--------------------+----------------------+------------------+-------------------+-------------------+
| Ubuntu 22.04        | PEND               | SKIPPED              | PEND             | PEND              | SKIPPED           |
+---------------------+--------------------+----------------------+------------------+-------------------+-------------------+
| Ubuntu 24.04        | PASS               | SKIPPED              | PASS             | PASS              | SKIPPED           |
+---------------------+--------------------+----------------------+------------------+-------------------+-------------------+
| Alpine              | PEND               | SKIPPED              | PEND             | SKIPPED           | SKIPPED           |
+---------------------+--------------------+----------------------+------------------+-------------------+-------------------+


Windows Server 2022
	Kernel: 10.0.20348.2031
	Compiler: clang 15.0.7, gcc 8.1.0 (MinGW), and MSVC VS 17.9

Windows Server 2019
	Kernel: 10.0.17763
	Compiler: clang 14.0 and gcc 8.1.0 (MinGW)

FreeBSD 13.3
	Kernel: 13.3-RELEASE-p1
	Compiler: clang 17.0.6

FreeBSD 14.1
	Kernel: 14.1
	Compiler: clang 18.1.5

CentOS Stream 8
	Kernel: 5.4.0-167-generic
	Compiler: gcc 8.5.0 20210514

CentOS Stream 9
	Kernel: 5.4.0-167-generic
	Compiler: gcc 11.4.1 20230605

Fedora 37
	Kernel: Depends on container host system
	Compiler: gcc 12.3.1

Fedora 38 (Clang)
	Kernel: Depends on container host
	Compiler: clang 16.0.6

Fedora 39 (Clang)
	Kernel: Depends on container host
	Compiler: clang 17.0.6

Fedora 38
	Kernel: Depends on container host
	Compiler: gcc 13.2.1

Fedora 39
	Kernel: Depends on container host
	Compiler: gcc 13.2.1

Fedora 40 (Clang)
	Kernel: Depends on container host
	Compiler: clang 18.1.6

Fedora 40
	Kernel: Depends on container host
	Compiler: gcc 14.1.1

openSUSE Leap 15
	Kernel: 5.4.0-167-generic
	Compiler: gcc 7.5.0

RHEL8
	Kernel: 5.4.0-167-generic
	Compiler: gcc 8.5.0 20210514 (Red Hat 8.5.0-20)

RHEL9
	Kernel: Depends on container host
	Compiler: gcc 11.4.1

Ubuntu 20.04
	Kernel: 5.4.0-167-generic
	Compiler: gcc 9.4.0-1ubuntu1~20.04.1

Ubuntu 22.04
	Kernel: 5.4.0-167-generic
	Compiler: gcc 11.4.0

Ubuntu 24.04
	Kernel: 5.4.0-167-generic
	Compiler: gcc 13.2.0

Alpine
	Kernel: 5.4.0-167-generic
	Compiler: gcc (Alpine 13.2.1_git20231014) 13.2.1 20231014

To view detailed results, visit:
https://lab.dpdk.org/results/dashboard/patchsets/30485/

UNH-IOL DPDK Community Lab

To manage your email subscriptions, visit: 
https://lab.dpdk.org/results/dashboard/preferences/subscriptions/