From mboxrd@z Thu Jan  1 00:00:00 1970
Return-Path: <test-report-bounces@dpdk.org>
Received: from mails.dpdk.org (mails.dpdk.org [217.70.189.124])
	by inbox.dpdk.org (Postfix) with ESMTP id 0C230455DD
	for <public@inbox.dpdk.org>; Thu, 11 Jul 2024 02:25:23 +0200 (CEST)
Received: from mails.dpdk.org (localhost [127.0.0.1])
	by mails.dpdk.org (Postfix) with ESMTP id 0654540E27;
	Thu, 11 Jul 2024 02:25:23 +0200 (CEST)
Received: from mail-yw1-f227.google.com (mail-yw1-f227.google.com
 [209.85.128.227])
 by mails.dpdk.org (Postfix) with ESMTP id AA57C40DC9
 for <test-report@dpdk.org>; Thu, 11 Jul 2024 02:25:21 +0200 (CEST)
Received: by mail-yw1-f227.google.com with SMTP id
 00721157ae682-64b417e1511so3270477b3.3
 for <test-report@dpdk.org>; Wed, 10 Jul 2024 17:25:21 -0700 (PDT)
DKIM-Signature: v=1; a=rsa-sha256; c=relaxed/relaxed;
 d=iol.unh.edu; s=unh-iol; t=1720657521; x=1721262321; darn=dpdk.org;
 h=references:in-reply-to:cc:to:from:subject:message-id:date:from:to
 :cc:subject:date:message-id:reply-to;
 bh=t87WD2OwL7jHnQVsT89MbHhhl8oEy9TiVZ3gHqtxH8M=;
 b=eoTsKALpnDDBBaehU/VA+H2bMWPkZFDuYs9jYlral7fKU8OaPOHil7si4u5AgMIwQW
 cuEg5OTI1fEYd4GM34eLytKEeXGHsAW472H6HIkkQjNTD0qdcVoO4KJaLQJFmtwUWOvQ
 S+rjYZsroZNiRPJPDnHjC4wdSdnlEWjTuQiuQ=
X-Google-DKIM-Signature: v=1; a=rsa-sha256; c=relaxed/relaxed;
 d=1e100.net; s=20230601; t=1720657521; x=1721262321;
 h=references:in-reply-to:cc:to:from:subject:message-id:date
 :x-gm-message-state:from:to:cc:subject:date:message-id:reply-to;
 bh=t87WD2OwL7jHnQVsT89MbHhhl8oEy9TiVZ3gHqtxH8M=;
 b=UCwzJwZqns9r72Q3yg07EHPcLzkCPGtTD61Yh+x+EhF8h1AGN48ZhjoyQ3504tDP6f
 5De64H0xqg5AKpWdCdtBFmPI4czZwE38UC/hZXvm5fwum/5s/R0BVLX8LrsOeEH/a6kC
 Z76A6HImTvubkJuHW72szhRNqm380hLXUXBnkQOcTGx8JKARPWcPgRe3XWIH39VFtghb
 C/egTL7jDd2pAMnU0vl+4oekOnSHWPzIZiHBEW4woDftGhWlymk9lpBc33ggsEkAYtwa
 QVrAzcKyZoAzakol/5W8LKygWNuYGTXZZF6Y/nCpb8lRyTnx717WfRNUvZsa1X+nzlJp
 41sA==
X-Gm-Message-State: AOJu0YyMThyWLxHmug3Eka6QXvX8HUSfbQsrB2splbdoRGs+lWgmT2oq
 I1MWDukjaCE1oJb8B9aL0vKqCRu/pFPDLgNrvGcKfV5/Ztbsd+WthJa+ZWO0lStIX8CNr1hiUaV
 uletepAlxhMrbTudSbGt40jAehpv29NApJMdPbA/Z4rBG6m0iGr2gsVQk
X-Google-Smtp-Source: AGHT+IERd0xoHqlcIAnRrMya3v8BZLX7u3kK/f/d0BUbvpPuRI1C47l4FclSNjtWzuOA+ykPnp9RFxrpExWW
X-Received: by 2002:a05:690c:3403:b0:631:2dc5:34ef with SMTP id
 00721157ae682-658ee790bb1mr90101417b3.2.1720657520952; 
 Wed, 10 Jul 2024 17:25:20 -0700 (PDT)
Received: from postal.iol.unh.edu (postal.iol.unh.edu.
 [2606:4100:3880:1234::84]) by smtp-relay.gmail.com with ESMTPS id
 00721157ae682-658e68e5432sm2052957b3.68.2024.07.10.17.25.20
 (version=TLS1_2 cipher=ECDHE-ECDSA-AES128-GCM-SHA256 bits=128/128);
 Wed, 10 Jul 2024 17:25:20 -0700 (PDT)
X-Relaying-Domain: iol.unh.edu
Date: Wed, 10 Jul 2024 17:25:20 -0700 (PDT)
Message-ID: <668f2670.050a0220.522f5.c4ccSMTPIN_ADDED_MISSING@mx.google.com>
Received: from [172.21.0.7] (unknown [172.18.0.240])
 by postal.iol.unh.edu (Postfix) with ESMTP id 92917605C380;
 Wed, 10 Jul 2024 20:25:20 -0400 (EDT)
Subject: |PENDING| pw142281-142283 [PATCH] [v5,3/3] event/dsw: add capability
From: dpdklab@iol.unh.edu
To: Test Report <test-report@dpdk.org>
Cc: dpdk-test-reports@iol.unh.edu
In-Reply-To: <20240710063323.2533952-4-abdullah.sevincer@intel.com>
References: <20240710063323.2533952-4-abdullah.sevincer@intel.com>
Content-Type: text/plain
X-BeenThere: test-report@dpdk.org
X-Mailman-Version: 2.1.29
Precedence: list
List-Id: automatic DPDK test reports <test-report.dpdk.org>
List-Unsubscribe: <https://mails.dpdk.org/options/test-report>,
 <mailto:test-report-request@dpdk.org?subject=unsubscribe>
List-Archive: <http://mails.dpdk.org/archives/test-report/>
List-Post: <mailto:test-report@dpdk.org>
List-Help: <mailto:test-report-request@dpdk.org?subject=help>
List-Subscribe: <https://mails.dpdk.org/listinfo/test-report>,
 <mailto:test-report-request@dpdk.org?subject=subscribe>
Errors-To: test-report-bounces@dpdk.org

Test-Label: iol-compile-arm64-testing
Test-Status: PENDING
http://dpdk.org/patch/142283

_Testing pending_

Submitter: Abdullah Sevincer <abdullah.sevincer@intel.com>
Date: Wednesday, July 10 2024 06:33:23 
DPDK git baseline: Repo:dpdk
  Branch: master
  CommitID:55b2c404060c59fa769d5127a19b947e8de79cac

142281-142283 --> testing pending

Test environment and result as below:

+----------------------------------------+--------------------+
|              Environment               | dpdk_meson_compile |
+========================================+====================+
| RHEL9 (ARM)                            | PASS               |
+----------------------------------------+--------------------+
| Ubuntu 20.04 ARM GCC Cross Compile     | PEND               |
+----------------------------------------+--------------------+
| Ubuntu 20.04 ARM SVE                   | PASS               |
+----------------------------------------+--------------------+
| Debian 12 with MUSDK                   | PASS               |
+----------------------------------------+--------------------+
| Fedora 37 (ARM)                        | PASS               |
+----------------------------------------+--------------------+
| Fedora 38 (ARM Clang)                  | PEND               |
+----------------------------------------+--------------------+
| Fedora 38 (ARM)                        | PASS               |
+----------------------------------------+--------------------+
| Fedora 39 (ARM)                        | PEND               |
+----------------------------------------+--------------------+
| Fedora 39 (ARM Clang)                  | PEND               |
+----------------------------------------+--------------------+
| Fedora 40 (ARM)                        | PASS               |
+----------------------------------------+--------------------+
| Fedora 40 (ARM Clang)                  | PEND               |
+----------------------------------------+--------------------+
| Ubuntu 20.04 (ARM)                     | PEND               |
+----------------------------------------+--------------------+
| Ubuntu 24.04 (ARM)                     | PEND               |
+----------------------------------------+--------------------+
| Ubuntu 22.04 (ARM)                     | PASS               |
+----------------------------------------+--------------------+
| CentOS Stream 9 (ARM)                  | PASS               |
+----------------------------------------+--------------------+
| Debian 11 (Buster) (ARM)               | PEND               |
+----------------------------------------+--------------------+
| Debian 12 (arm)                        | PEND               |
+----------------------------------------+--------------------+
| Ubuntu 20.04 ARM Clang Cross Compile   | PASS               |
+----------------------------------------+--------------------+
| Ubuntu 20.04 aarch32 GCC Cross Compile | PASS               |
+----------------------------------------+--------------------+


RHEL9 (ARM)
	Kernel: Depends on container host
	Compiler: gcc 11.4.1

Ubuntu 20.04 ARM GCC Cross Compile
	Kernel: 5.4.0-167-generic
	Compiler: aarch64-linux-gnu-gcc (Ubuntu 9.4.0-1ubuntu1~20.04.2) 9.4.0

Ubuntu 20.04 ARM SVE
	Kernel: 5.4.0-167-generic
	Compiler: gcc (Ubuntu 10.5.0-1ubuntu1~20.04) 10.5.0

Debian 12 with MUSDK
	Kernel: Container Host Kernel
	Compiler: gcc 12.2.0

Fedora 37 (ARM)
	Kernel: Depends on container host
	Compiler: gcc 12.3.1

Fedora 38 (ARM Clang)
	Kernel: Depends on container host
	Compiler: clang 16.0.6

Fedora 38 (ARM)
	Kernel: Depends on container host
	Compiler: gcc 13.2.1

Fedora 39 (ARM)
	Kernel: Depends on container host
	Compiler: gcc 13.2.1

Fedora 39 (ARM Clang)
	Kernel: Depends on container host
	Compiler: clang 17.0.6

Fedora 40 (ARM)
	Kernel: Depends on container host
	Compiler: gcc 14.1.1

Fedora 40 (ARM Clang)
	Kernel: Depends on container host
	Compiler: clang 18.1.6

Ubuntu 20.04 (ARM)
	Kernel: Container Host Kernel
	Compiler: gcc 9.4.0

Ubuntu 24.04 (ARM)
	Kernel: 5.4.0-167-generic
	Compiler: gcc 13.2.0

Ubuntu 22.04 (ARM)
	Kernel: Container Host Kernel
	Compiler: gcc 11.4.0

CentOS Stream 9 (ARM)
	Kernel: Container Host Kernel
	Compiler: gcc 11.4.1

Debian 11 (Buster) (ARM)
	Kernel: Container Host Kernel
	Compiler: gcc 10.2.1

Debian 12 (arm)
	Kernel: Container Host Kernel
	Compiler: gcc 12.2.0

Ubuntu 20.04 ARM Clang Cross Compile
	Kernel: 5.4.0-72-generic
	Compiler: clang 10.0.0-4ubuntu1

Ubuntu 20.04 aarch32 GCC Cross Compile
	Kernel: 5.4.0-167-generic
	Compiler: gcc 9.4.0

To view detailed results, visit:
https://lab.dpdk.org/results/dashboard/patchsets/30484/

UNH-IOL DPDK Community Lab

To manage your email subscriptions, visit: 
https://lab.dpdk.org/results/dashboard/preferences/subscriptions/