From mboxrd@z Thu Jan  1 00:00:00 1970
Return-Path: <test-report-bounces@dpdk.org>
Received: from mails.dpdk.org (mails.dpdk.org [217.70.189.124])
	by inbox.dpdk.org (Postfix) with ESMTP id 1B2DA455DF
	for <public@inbox.dpdk.org>; Thu, 11 Jul 2024 02:56:11 +0200 (CEST)
Received: from mails.dpdk.org (localhost [127.0.0.1])
	by mails.dpdk.org (Postfix) with ESMTP id 11D1C40E27;
	Thu, 11 Jul 2024 02:56:11 +0200 (CEST)
Received: from mail-yb1-f226.google.com (mail-yb1-f226.google.com
 [209.85.219.226])
 by mails.dpdk.org (Postfix) with ESMTP id 8C5B040DC9
 for <test-report@dpdk.org>; Thu, 11 Jul 2024 02:56:09 +0200 (CEST)
Received: by mail-yb1-f226.google.com with SMTP id
 3f1490d57ef6-e035f4e3473so300615276.3
 for <test-report@dpdk.org>; Wed, 10 Jul 2024 17:56:09 -0700 (PDT)
DKIM-Signature: v=1; a=rsa-sha256; c=relaxed/relaxed;
 d=iol.unh.edu; s=unh-iol; t=1720659369; x=1721264169; darn=dpdk.org;
 h=references:in-reply-to:cc:to:from:subject:message-id:date:from:to
 :cc:subject:date:message-id:reply-to;
 bh=k0rKVE47zF2freEiRw2cowGzTfQMB3/16sMtwrJS9LE=;
 b=WVZnJeX1sN2Pr8uGT3aGhRw9sG4q2iSGhefMrVj/CKatEhn8ldwl4CmIvKK2dmBioq
 MfsPCCgk8ZLFPIl0Qar18sSe9r4zP0hdIKwFca5MOsycCJILqBq/Nu0Dw7vkAdHJ7Z9T
 pSlv1x9T833s3xS26W3/G0JgveFssXfN7YjX4=
X-Google-DKIM-Signature: v=1; a=rsa-sha256; c=relaxed/relaxed;
 d=1e100.net; s=20230601; t=1720659369; x=1721264169;
 h=references:in-reply-to:cc:to:from:subject:message-id:date
 :x-gm-message-state:from:to:cc:subject:date:message-id:reply-to;
 bh=k0rKVE47zF2freEiRw2cowGzTfQMB3/16sMtwrJS9LE=;
 b=BcjPnmL9Wmc14CdQl+0BppZgApJ95XD1kmHbcHDXAp+yz4aJfHw+nptSwse4x1og0Z
 D5WVoOkrFwT6eVcV0YeSTIez4+ixv4pQ3j/Nm22tcwRPXTGCDjo+VxiTK6gJPLaYodXe
 mJL9/C0J8XgRQSqkg+b2ZeA4Z6S+eH09d5ts5nRBT3RNN3qONtrV5Hq014rDYmgGl2Iq
 hkdUcXIpX4ZH00lZnr0c7KIuhcjU40R+Dee32ZXPYLo6ZLojYTlP2tyoN+lkk+K95AUz
 E+c4Oi6iaZzmeryCOmM2tImCrMu0VGUg0KfTXSP8/bF+MD0fRRK6Szq8QNs5NIwWpUjQ
 ighA==
X-Gm-Message-State: AOJu0YypuPzM/br073WOj8cygtp3J5l2o5fsJQHEHOTn2xJ/rgji/UH6
 4yTzR8AyL5XuTsx6IHT/BspfLVAF9Z9bXL1Va+98i7jR4JwIX3v6gcuSELg4vDmAopiOJfnwZ/r
 00KgmTBlwc2SBPg/L5aZ6ryn02LV0UKGkrrSku+b1EO3a/0Xh/GtZAjCK
X-Google-Smtp-Source: AGHT+IG17RzfxtKEAOTEGFA6TDwvKiSzNNozWpgrLHlHfpiFe0LncT4Hy0arJzDSnX+7wz6422NghZgcg/3O
X-Received: by 2002:a25:b118:0:b0:e02:b88d:74f5 with SMTP id
 3f1490d57ef6-e041b05929dmr9083713276.19.1720659368896; 
 Wed, 10 Jul 2024 17:56:08 -0700 (PDT)
Received: from postal.iol.unh.edu (postal.iol.unh.edu.
 [2606:4100:3880:1234::84]) by smtp-relay.gmail.com with ESMTPS id
 6a1803df08f44-6b61ba407d0sm2608546d6.46.2024.07.10.17.56.08
 (version=TLS1_2 cipher=ECDHE-ECDSA-AES128-GCM-SHA256 bits=128/128);
 Wed, 10 Jul 2024 17:56:08 -0700 (PDT)
X-Relaying-Domain: iol.unh.edu
Date: Wed, 10 Jul 2024 17:56:08 -0700 (PDT)
Message-ID: <668f2da8.050a0220.f453c.e18cSMTPIN_ADDED_MISSING@mx.google.com>
Received: from [172.21.0.7] (unknown [172.18.0.240])
 by postal.iol.unh.edu (Postfix) with ESMTP id 9B7AB605C380;
 Wed, 10 Jul 2024 20:56:08 -0400 (EDT)
Subject: |PENDING| pw142281-142283 [PATCH] [v5,3/3] event/dsw: add capability
From: dpdklab@iol.unh.edu
To: Test Report <test-report@dpdk.org>
Cc: dpdk-test-reports@iol.unh.edu
In-Reply-To: <20240710063323.2533952-4-abdullah.sevincer@intel.com>
References: <20240710063323.2533952-4-abdullah.sevincer@intel.com>
Content-Type: text/plain
X-BeenThere: test-report@dpdk.org
X-Mailman-Version: 2.1.29
Precedence: list
List-Id: automatic DPDK test reports <test-report.dpdk.org>
List-Unsubscribe: <https://mails.dpdk.org/options/test-report>,
 <mailto:test-report-request@dpdk.org?subject=unsubscribe>
List-Archive: <http://mails.dpdk.org/archives/test-report/>
List-Post: <mailto:test-report@dpdk.org>
List-Help: <mailto:test-report-request@dpdk.org?subject=help>
List-Subscribe: <https://mails.dpdk.org/listinfo/test-report>,
 <mailto:test-report-request@dpdk.org?subject=subscribe>
Errors-To: test-report-bounces@dpdk.org

Test-Label: iol-unit-amd64-testing
Test-Status: PENDING
http://dpdk.org/patch/142283

_Testing pending_

Submitter: Abdullah Sevincer <abdullah.sevincer@intel.com>
Date: Wednesday, July 10 2024 06:33:23 
DPDK git baseline: Repo:dpdk
  Branch: master
  CommitID:55b2c404060c59fa769d5127a19b947e8de79cac

142281-142283 --> testing pending

Test environment and result as below:

+---------------------+----------------+
|     Environment     | dpdk_unit_test |
+=====================+================+
| Windows Server 2022 | PASS           |
+---------------------+----------------+
| CentOS Stream 9     | PASS           |
+---------------------+----------------+
| CentOS Stream 8     | PEND           |
+---------------------+----------------+
| Debian Bullseye     | PASS           |
+---------------------+----------------+
| Debian 12           | PASS           |
+---------------------+----------------+
| Windows Server 2019 | PASS           |
+---------------------+----------------+
| Fedora 38           | PEND           |
+---------------------+----------------+
| Fedora 37           | PEND           |
+---------------------+----------------+
| Fedora 38 (Clang)   | PEND           |
+---------------------+----------------+
| Fedora 39           | PEND           |
+---------------------+----------------+
| Fedora 39 (Clang)   | PEND           |
+---------------------+----------------+
| Fedora 40           | PEND           |
+---------------------+----------------+
| Fedora 40 (Clang)   | PEND           |
+---------------------+----------------+
| RHEL9               | PEND           |
+---------------------+----------------+
| Ubuntu 20.04        | PEND           |
+---------------------+----------------+
| RHEL8               | PEND           |
+---------------------+----------------+
| openSUSE Leap 15    | PEND           |
+---------------------+----------------+
| Ubuntu 22.04        | PEND           |
+---------------------+----------------+
| Ubuntu 24.04        | PEND           |
+---------------------+----------------+


Windows Server 2022
	Kernel: 10.0.20348.2031
	Compiler: clang 15.0.7, gcc 8.1.0 (MinGW), and MSVC VS 17.9

CentOS Stream 9
	Kernel: 5.4.0-167-generic
	Compiler: gcc 11.4.1 20230605

CentOS Stream 8
	Kernel: 5.4.0-167-generic
	Compiler: gcc 8.5.0 20210514

Debian Bullseye
	Kernel: 5.4.0-167-generic
	Compiler: gcc 10.2.1-6

Debian 12
	Kernel: Container Host Kernel
	Compiler: gcc 12.2.0

Windows Server 2019
	Kernel: 10.0.17763
	Compiler: clang 14.0 and gcc 8.1.0 (MinGW)

Fedora 38
	Kernel: Depends on container host
	Compiler: gcc 13.2.1

Fedora 37
	Kernel: Depends on container host system
	Compiler: gcc 12.3.1

Fedora 38 (Clang)
	Kernel: Depends on container host
	Compiler: clang 16.0.6

Fedora 39
	Kernel: Depends on container host
	Compiler: gcc 13.2.1

Fedora 39 (Clang)
	Kernel: Depends on container host
	Compiler: clang 17.0.6

Fedora 40
	Kernel: Depends on container host
	Compiler: gcc 14.1.1

Fedora 40 (Clang)
	Kernel: Depends on container host
	Compiler: clang 18.1.6

RHEL9
	Kernel: Depends on container host
	Compiler: gcc 11.4.1

Ubuntu 20.04
	Kernel: 5.4.0-167-generic
	Compiler: gcc 9.4.0-1ubuntu1~20.04.1

RHEL8
	Kernel: 5.4.0-167-generic
	Compiler: gcc 8.5.0 20210514 (Red Hat 8.5.0-20)

openSUSE Leap 15
	Kernel: 5.4.0-167-generic
	Compiler: gcc 7.5.0

Ubuntu 22.04
	Kernel: 5.4.0-167-generic
	Compiler: gcc 11.4.0

Ubuntu 24.04
	Kernel: 5.4.0-167-generic
	Compiler: gcc 13.2.0

To view detailed results, visit:
https://lab.dpdk.org/results/dashboard/patchsets/30484/

UNH-IOL DPDK Community Lab

To manage your email subscriptions, visit: 
https://lab.dpdk.org/results/dashboard/preferences/subscriptions/