From mboxrd@z Thu Jan  1 00:00:00 1970
Return-Path: <test-report-bounces@dpdk.org>
Received: from mails.dpdk.org (mails.dpdk.org [217.70.189.124])
	by inbox.dpdk.org (Postfix) with ESMTP id 50B9A455DF
	for <public@inbox.dpdk.org>; Thu, 11 Jul 2024 03:50:29 +0200 (CEST)
Received: from mails.dpdk.org (localhost [127.0.0.1])
	by mails.dpdk.org (Postfix) with ESMTP id 4DA7C40E27;
	Thu, 11 Jul 2024 03:50:29 +0200 (CEST)
Received: from mail-pg1-f228.google.com (mail-pg1-f228.google.com
 [209.85.215.228])
 by mails.dpdk.org (Postfix) with ESMTP id 7E45140DC9
 for <test-report@dpdk.org>; Thu, 11 Jul 2024 03:50:24 +0200 (CEST)
Received: by mail-pg1-f228.google.com with SMTP id
 41be03b00d2f7-78006198aeeso251869a12.1
 for <test-report@dpdk.org>; Wed, 10 Jul 2024 18:50:24 -0700 (PDT)
DKIM-Signature: v=1; a=rsa-sha256; c=relaxed/relaxed;
 d=iol.unh.edu; s=unh-iol; t=1720662623; x=1721267423; darn=dpdk.org;
 h=references:in-reply-to:cc:to:from:subject:message-id:date:from:to
 :cc:subject:date:message-id:reply-to;
 bh=PSGCK4ilEbsYg4eHfkP1Z8s+1Urdih+lz7zMYUsOP0o=;
 b=DCYoNtUtQsULLqrVO2j0B9E8hXHEEQtKyVsO/A27nUfqWw+/rzu0sBDmMxBreEBwq7
 sZu7Fu1ApIE+oGW2vYghFQTU7Md0l94CTJ4i7QaC8DTuBSgamxEepmikU95vBf0jlnKM
 SIUuZpT2ssii1eAc9W4Uyzqnht8eim0hBZKyo=
X-Google-DKIM-Signature: v=1; a=rsa-sha256; c=relaxed/relaxed;
 d=1e100.net; s=20230601; t=1720662623; x=1721267423;
 h=references:in-reply-to:cc:to:from:subject:message-id:date
 :x-gm-message-state:from:to:cc:subject:date:message-id:reply-to;
 bh=PSGCK4ilEbsYg4eHfkP1Z8s+1Urdih+lz7zMYUsOP0o=;
 b=DAlTCQuFJXd0chbjMMBp4OLjlLoTq3R/kh3FincehbgqgbOBhX7S7J2HuYGiH2b1RR
 5RKN+sBJxjjADDinjwQ4yJpMF7uk/OpiTdCEETzb6ukWJwaImNBMkna1BPbgNTD64faw
 il1QP/JP3DrJnF6Dz5EtAfjixgCygOk3L2h+hxBz/JPEQ5rgZxv0JyohGL2M6Cyl8RfS
 38aJOTA6067fdNWd3VGMXdyYTqYeDHN1Zv3gsS/nhvVIW14QIaRQjGlKAVfSvDUrNsWK
 ZYhWGzOWX0nXiCkjypGcbTOaPrKGDIRETFpUALvpE+EAUb7RG6TwdIm2xnx1CR24xCJk
 xgMg==
X-Gm-Message-State: AOJu0YwJLGH/M0PZ8vuVMXDEQMjthREo7lqnGGwL5ampomma0otZZSCO
 JryEKWYybvn8hjiCuPHraDfm/5GVskrMmGK59MZz/NK4Rs4VP0XwGPYzdtuPNXS/iAiweYn7e6h
 RxPSzm6bY9dIXZfr3V3ocR4Y1UUpYhLPgVSTBp8uYh5+TysCXe+k1H7P7
X-Google-Smtp-Source: AGHT+IHvIuSM237b4N0UeMgrFOYauevORXQB5LU6Lqpw/eAJoW2k0lJ8HK9cllCDqOtDYfDtohVJbtBslvSd
X-Received: by 2002:a05:6a20:8405:b0:1c0:eb31:41a3 with SMTP id
 adf61e73a8af0-1c3b1fbfe89mr2103626637.19.1720662623560; 
 Wed, 10 Jul 2024 18:50:23 -0700 (PDT)
Received: from postal.iol.unh.edu (postal.iol.unh.edu.
 [2606:4100:3880:1234::84]) by smtp-relay.gmail.com with ESMTPS id
 41be03b00d2f7-77d5dc71c41sm107450a12.22.2024.07.10.18.50.23
 (version=TLS1_2 cipher=ECDHE-ECDSA-AES128-GCM-SHA256 bits=128/128);
 Wed, 10 Jul 2024 18:50:23 -0700 (PDT)
X-Relaying-Domain: iol.unh.edu
Date: Wed, 10 Jul 2024 18:50:23 -0700 (PDT)
Message-ID: <668f3a5f.050a0220.9bad1.4b59SMTPIN_ADDED_MISSING@mx.google.com>
Received: from [172.21.0.9] (unknown [172.18.0.240])
 by postal.iol.unh.edu (Postfix) with ESMTP id BEFB6605C380;
 Wed, 10 Jul 2024 21:50:22 -0400 (EDT)
Subject: |PENDING| pw142281-142283 [PATCH] [v5,3/3] event/dsw: add capability
From: dpdklab@iol.unh.edu
To: Test Report <test-report@dpdk.org>
Cc: dpdk-test-reports@iol.unh.edu
In-Reply-To: <20240710063323.2533952-4-abdullah.sevincer@intel.com>
References: <20240710063323.2533952-4-abdullah.sevincer@intel.com>
Content-Type: text/plain
X-BeenThere: test-report@dpdk.org
X-Mailman-Version: 2.1.29
Precedence: list
List-Id: automatic DPDK test reports <test-report.dpdk.org>
List-Unsubscribe: <https://mails.dpdk.org/options/test-report>,
 <mailto:test-report-request@dpdk.org?subject=unsubscribe>
List-Archive: <http://mails.dpdk.org/archives/test-report/>
List-Post: <mailto:test-report@dpdk.org>
List-Help: <mailto:test-report-request@dpdk.org?subject=help>
List-Subscribe: <https://mails.dpdk.org/listinfo/test-report>,
 <mailto:test-report-request@dpdk.org?subject=subscribe>
Errors-To: test-report-bounces@dpdk.org

Test-Label: iol-compile-arm64-testing
Test-Status: PENDING
http://dpdk.org/patch/142283

_Testing pending_

Submitter: Abdullah Sevincer <abdullah.sevincer@intel.com>
Date: Wednesday, July 10 2024 06:33:23 
DPDK git baseline: Repo:dpdk
  Branch: master
  CommitID:55b2c404060c59fa769d5127a19b947e8de79cac

142281-142283 --> testing pending

Test environment and result as below:

+----------------------------------------+--------------------+
|              Environment               | dpdk_meson_compile |
+========================================+====================+
| RHEL9 (ARM)                            | PASS               |
+----------------------------------------+--------------------+
| Ubuntu 20.04 ARM GCC Cross Compile     | PASS               |
+----------------------------------------+--------------------+
| Ubuntu 20.04 ARM SVE                   | PASS               |
+----------------------------------------+--------------------+
| Debian 12 with MUSDK                   | PASS               |
+----------------------------------------+--------------------+
| Fedora 37 (ARM)                        | PEND               |
+----------------------------------------+--------------------+
| Fedora 38 (ARM)                        | PEND               |
+----------------------------------------+--------------------+
| Fedora 38 (ARM Clang)                  | PEND               |
+----------------------------------------+--------------------+
| Fedora 39 (ARM)                        | PASS               |
+----------------------------------------+--------------------+
| Fedora 39 (ARM Clang)                  | PEND               |
+----------------------------------------+--------------------+
| Fedora 40 (ARM)                        | PEND               |
+----------------------------------------+--------------------+
| Fedora 40 (ARM Clang)                  | PEND               |
+----------------------------------------+--------------------+
| Ubuntu 20.04 (ARM)                     | PASS               |
+----------------------------------------+--------------------+
| Ubuntu 22.04 (ARM)                     | PEND               |
+----------------------------------------+--------------------+
| Ubuntu 24.04 (ARM)                     | PEND               |
+----------------------------------------+--------------------+
| CentOS Stream 9 (ARM)                  | PEND               |
+----------------------------------------+--------------------+
| Debian 11 (Buster) (ARM)               | PEND               |
+----------------------------------------+--------------------+
| Debian 12 (arm)                        | PEND               |
+----------------------------------------+--------------------+
| Ubuntu 20.04 ARM Clang Cross Compile   | PASS               |
+----------------------------------------+--------------------+
| Ubuntu 20.04 aarch32 GCC Cross Compile | PASS               |
+----------------------------------------+--------------------+


RHEL9 (ARM)
	Kernel: Depends on container host
	Compiler: gcc 11.4.1

Ubuntu 20.04 ARM GCC Cross Compile
	Kernel: 5.4.0-167-generic
	Compiler: aarch64-linux-gnu-gcc (Ubuntu 9.4.0-1ubuntu1~20.04.2) 9.4.0

Ubuntu 20.04 ARM SVE
	Kernel: 5.4.0-167-generic
	Compiler: gcc (Ubuntu 10.5.0-1ubuntu1~20.04) 10.5.0

Debian 12 with MUSDK
	Kernel: Container Host Kernel
	Compiler: gcc 12.2.0

Fedora 37 (ARM)
	Kernel: Depends on container host
	Compiler: gcc 12.3.1

Fedora 38 (ARM)
	Kernel: Depends on container host
	Compiler: gcc 13.2.1

Fedora 38 (ARM Clang)
	Kernel: Depends on container host
	Compiler: clang 16.0.6

Fedora 39 (ARM)
	Kernel: Depends on container host
	Compiler: gcc 13.2.1

Fedora 39 (ARM Clang)
	Kernel: Depends on container host
	Compiler: clang 17.0.6

Fedora 40 (ARM)
	Kernel: Depends on container host
	Compiler: gcc 14.1.1

Fedora 40 (ARM Clang)
	Kernel: Depends on container host
	Compiler: clang 18.1.6

Ubuntu 20.04 (ARM)
	Kernel: Container Host Kernel
	Compiler: gcc 9.4.0

Ubuntu 22.04 (ARM)
	Kernel: Container Host Kernel
	Compiler: gcc 11.4.0

Ubuntu 24.04 (ARM)
	Kernel: 5.4.0-167-generic
	Compiler: gcc 13.2.0

CentOS Stream 9 (ARM)
	Kernel: Container Host Kernel
	Compiler: gcc 11.4.1

Debian 11 (Buster) (ARM)
	Kernel: Container Host Kernel
	Compiler: gcc 10.2.1

Debian 12 (arm)
	Kernel: Container Host Kernel
	Compiler: gcc 12.2.0

Ubuntu 20.04 ARM Clang Cross Compile
	Kernel: 5.4.0-72-generic
	Compiler: clang 10.0.0-4ubuntu1

Ubuntu 20.04 aarch32 GCC Cross Compile
	Kernel: 5.4.0-167-generic
	Compiler: gcc 9.4.0

To view detailed results, visit:
https://lab.dpdk.org/results/dashboard/patchsets/30484/

UNH-IOL DPDK Community Lab

To manage your email subscriptions, visit: 
https://lab.dpdk.org/results/dashboard/preferences/subscriptions/