From mboxrd@z Thu Jan  1 00:00:00 1970
Return-Path: <test-report-bounces@dpdk.org>
Received: from mails.dpdk.org (mails.dpdk.org [217.70.189.124])
	by inbox.dpdk.org (Postfix) with ESMTP id BCF50455DE
	for <public@inbox.dpdk.org>; Thu, 11 Jul 2024 05:31:55 +0200 (CEST)
Received: from mails.dpdk.org (localhost [127.0.0.1])
	by mails.dpdk.org (Postfix) with ESMTP id B606440E27;
	Thu, 11 Jul 2024 05:31:55 +0200 (CEST)
Received: from mail-qt1-f228.google.com (mail-qt1-f228.google.com
 [209.85.160.228])
 by mails.dpdk.org (Postfix) with ESMTP id C6F9240DC9
 for <test-report@dpdk.org>; Thu, 11 Jul 2024 05:31:53 +0200 (CEST)
Received: by mail-qt1-f228.google.com with SMTP id
 d75a77b69052e-4494d41090bso2230591cf.3
 for <test-report@dpdk.org>; Wed, 10 Jul 2024 20:31:53 -0700 (PDT)
DKIM-Signature: v=1; a=rsa-sha256; c=relaxed/relaxed;
 d=iol.unh.edu; s=unh-iol; t=1720668713; x=1721273513; darn=dpdk.org;
 h=references:in-reply-to:cc:to:from:subject:message-id:date:from:to
 :cc:subject:date:message-id:reply-to;
 bh=oAKY0H4HYbP5Jnnhn2ceB/A6amYl+p29tHAsUdD5Qu4=;
 b=OMj2DIfHLqzj69bFcpw0x4JxSxu8AQZthCbS3NRDOVuHwd4S41r/+tIkmS1qb7tNSI
 x1u+PlbI+FvyOq5yvFDOmcSV8wOVU94nwchLMRlEhbIN2uqGidQvcxln2n9lBITr3Tdc
 /aTnR7JVWP5v8DjJCrGZF8Ucl9rR1/QD88S3o=
X-Google-DKIM-Signature: v=1; a=rsa-sha256; c=relaxed/relaxed;
 d=1e100.net; s=20230601; t=1720668713; x=1721273513;
 h=references:in-reply-to:cc:to:from:subject:message-id:date
 :x-gm-message-state:from:to:cc:subject:date:message-id:reply-to;
 bh=oAKY0H4HYbP5Jnnhn2ceB/A6amYl+p29tHAsUdD5Qu4=;
 b=NymFi4sWmx6JOttcbBopci9OaxQX3L/3p11G6WbiUiDMtE6wzGLo9+AcvRQQpMQrXB
 21XJtCSsLGGkbDsBDDSen7UKC6GlTFnJJT1RFTlE8QvomUgG2CSWmwkhpH36AWX6ways
 qqJwuUNrFsTm2p73f2tpMBDOa3Rihf+lShiHD8jzouWQNExhoggGKajKIKavkq2+l6zB
 t5jyT/nDsEecc/EJTvBdPNL+nDObl8cVoDE2KQpBoM25Y6Y0K8TT0Z7P2B8DJJJZx0Ce
 +t3Q0g2STnIAFo+PJ0FQKRpbYIp4vQx38KBedv7Lqxcb0TPLa+aMrxboWRpSxHkUQ5+X
 1r7g==
X-Gm-Message-State: AOJu0YzbZ9oHgQItRUfIwSNi9YzerBOydJCEdvZyGgnEDklx3lQ6CQ/F
 XAhE3vC8ypjMOkFQ9MuSIZp5VRbt42w+2wqG5S6v+kRpBaoSsAosCLV0wWY3UsUy2xvfi98nlNG
 wgxHlIQUWFjeWMWMK4Fb8mUA4Bk8K5rsSY5ZJvmKl
X-Google-Smtp-Source: AGHT+IGvU69kA1klpVlNalzV6LsTumgW70Az7sjRVfkadfH1LvVzeS+AZmxvj0bbSaLShZn3YsndqMXkqQEl
X-Received: by 2002:ac8:5f53:0:b0:447:eb43:5d0c with SMTP id
 d75a77b69052e-447faad46b1mr85723241cf.59.1720668712954; 
 Wed, 10 Jul 2024 20:31:52 -0700 (PDT)
Received: from postal.iol.unh.edu (postal.iol.unh.edu. [132.177.123.84])
 by smtp-relay.gmail.com with ESMTPS id
 d75a77b69052e-447f9b208b0sm2777131cf.2.2024.07.10.20.31.52
 (version=TLS1_2 cipher=ECDHE-ECDSA-AES128-GCM-SHA256 bits=128/128);
 Wed, 10 Jul 2024 20:31:52 -0700 (PDT)
X-Relaying-Domain: iol.unh.edu
Date: Wed, 10 Jul 2024 20:31:52 -0700 (PDT)
Message-ID: <668f5228.050a0220.9f089.0335SMTPIN_ADDED_MISSING@mx.google.com>
Received: from [172.21.0.6] (unknown [172.18.0.240])
 by postal.iol.unh.edu (Postfix) with ESMTP id 9FE58605C380;
 Wed, 10 Jul 2024 23:31:52 -0400 (EDT)
Subject: |PENDING| pw142297 [PATCH] [v6] eal: verify mmu type for DPDK suppor
From: dpdklab@iol.unh.edu
To: Test Report <test-report@dpdk.org>
Cc: dpdk-test-reports@iol.unh.edu
In-Reply-To: <20240710232122.3581128-1-drc@linux.ibm.com>
References: <20240710232122.3581128-1-drc@linux.ibm.com>
Content-Type: text/plain
X-BeenThere: test-report@dpdk.org
X-Mailman-Version: 2.1.29
Precedence: list
List-Id: automatic DPDK test reports <test-report.dpdk.org>
List-Unsubscribe: <https://mails.dpdk.org/options/test-report>,
 <mailto:test-report-request@dpdk.org?subject=unsubscribe>
List-Archive: <http://mails.dpdk.org/archives/test-report/>
List-Post: <mailto:test-report@dpdk.org>
List-Help: <mailto:test-report-request@dpdk.org?subject=help>
List-Subscribe: <https://mails.dpdk.org/listinfo/test-report>,
 <mailto:test-report-request@dpdk.org?subject=subscribe>
Errors-To: test-report-bounces@dpdk.org

Test-Label: iol-unit-amd64-testing
Test-Status: PENDING
http://dpdk.org/patch/142297

_Testing pending_

Submitter: David Christensen <drc@linux.ibm.com>
Date: Wednesday, July 10 2024 23:21:21 
DPDK git baseline: Repo:dpdk
  Branch: master
  CommitID:830d7c98d6b2746401142050a88ff5cbc3465ba7

142297 --> testing pending

Test environment and result as below:

+---------------------+----------------+
|     Environment     | dpdk_unit_test |
+=====================+================+
| Windows Server 2019 | PASS           |
+---------------------+----------------+
| Windows Server 2022 | PASS           |
+---------------------+----------------+
| CentOS Stream 8     | PASS           |
+---------------------+----------------+
| CentOS Stream 9     | PASS           |
+---------------------+----------------+
| Debian Bullseye     | PASS           |
+---------------------+----------------+
| Fedora 37           | PASS           |
+---------------------+----------------+
| Debian 12           | PASS           |
+---------------------+----------------+
| Fedora 38           | PASS           |
+---------------------+----------------+
| Fedora 38 (Clang)   | PASS           |
+---------------------+----------------+
| Fedora 39           | PASS           |
+---------------------+----------------+
| Fedora 39 (Clang)   | PASS           |
+---------------------+----------------+
| Fedora 40           | PASS           |
+---------------------+----------------+
| Fedora 40 (Clang)   | PASS           |
+---------------------+----------------+
| openSUSE Leap 15    | PASS           |
+---------------------+----------------+
| RHEL8               | PASS           |
+---------------------+----------------+
| RHEL9               | PASS           |
+---------------------+----------------+
| Ubuntu 20.04        | PASS           |
+---------------------+----------------+
| Ubuntu 24.04        | PASS           |
+---------------------+----------------+
| Ubuntu 22.04        | PEND           |
+---------------------+----------------+


Windows Server 2019
	Kernel: 10.0.17763
	Compiler: clang 14.0 and gcc 8.1.0 (MinGW)

Windows Server 2022
	Kernel: 10.0.20348.2031
	Compiler: clang 15.0.7, gcc 8.1.0 (MinGW), and MSVC VS 17.9

CentOS Stream 8
	Kernel: 5.4.0-167-generic
	Compiler: gcc 8.5.0 20210514

CentOS Stream 9
	Kernel: 5.4.0-167-generic
	Compiler: gcc 11.4.1 20230605

Debian Bullseye
	Kernel: 5.4.0-167-generic
	Compiler: gcc 10.2.1-6

Fedora 37
	Kernel: Depends on container host system
	Compiler: gcc 12.3.1

Debian 12
	Kernel: Container Host Kernel
	Compiler: gcc 12.2.0

Fedora 38
	Kernel: Depends on container host
	Compiler: gcc 13.2.1

Fedora 38 (Clang)
	Kernel: Depends on container host
	Compiler: clang 16.0.6

Fedora 39
	Kernel: Depends on container host
	Compiler: gcc 13.2.1

Fedora 39 (Clang)
	Kernel: Depends on container host
	Compiler: clang 17.0.6

Fedora 40
	Kernel: Depends on container host
	Compiler: gcc 14.1.1

Fedora 40 (Clang)
	Kernel: Depends on container host
	Compiler: clang 18.1.6

openSUSE Leap 15
	Kernel: 5.4.0-167-generic
	Compiler: gcc 7.5.0

RHEL8
	Kernel: 5.4.0-167-generic
	Compiler: gcc 8.5.0 20210514 (Red Hat 8.5.0-20)

RHEL9
	Kernel: Depends on container host
	Compiler: gcc 11.4.1

Ubuntu 20.04
	Kernel: 5.4.0-167-generic
	Compiler: gcc 9.4.0-1ubuntu1~20.04.1

Ubuntu 24.04
	Kernel: 5.4.0-167-generic
	Compiler: gcc 13.2.0

Ubuntu 22.04
	Kernel: 5.4.0-167-generic
	Compiler: gcc 11.4.0

To view detailed results, visit:
https://lab.dpdk.org/results/dashboard/patchsets/30489/

UNH-IOL DPDK Community Lab

To manage your email subscriptions, visit: 
https://lab.dpdk.org/results/dashboard/preferences/subscriptions/