From mboxrd@z Thu Jan  1 00:00:00 1970
Return-Path: <test-report-bounces@dpdk.org>
Received: from mails.dpdk.org (mails.dpdk.org [217.70.189.124])
	by inbox.dpdk.org (Postfix) with ESMTP id C6081455DF
	for <public@inbox.dpdk.org>; Thu, 11 Jul 2024 06:25:35 +0200 (CEST)
Received: from mails.dpdk.org (localhost [127.0.0.1])
	by mails.dpdk.org (Postfix) with ESMTP id 9A1EC40E2C;
	Thu, 11 Jul 2024 06:25:35 +0200 (CEST)
Received: from mail-pl1-f227.google.com (mail-pl1-f227.google.com
 [209.85.214.227])
 by mails.dpdk.org (Postfix) with ESMTP id DEDCA40E27
 for <test-report@dpdk.org>; Thu, 11 Jul 2024 06:25:34 +0200 (CEST)
Received: by mail-pl1-f227.google.com with SMTP id
 d9443c01a7336-1fb1ff21748so2779645ad.3
 for <test-report@dpdk.org>; Wed, 10 Jul 2024 21:25:34 -0700 (PDT)
DKIM-Signature: v=1; a=rsa-sha256; c=relaxed/relaxed;
 d=iol.unh.edu; s=unh-iol; t=1720671934; x=1721276734; darn=dpdk.org;
 h=references:in-reply-to:cc:to:from:subject:message-id:date:from:to
 :cc:subject:date:message-id:reply-to;
 bh=jzmmd4R2ha4g8T6bEqTatepghHqQNtdOp2N7PqaCpg8=;
 b=DsaGc5aW4CGQaT3fjWom2en5uroGiYyMLROLJq0JpoUAyjbdYiZyfFQ1ZTrVQujl4b
 ON9HkmloZThpvEASW4ukx62BwcIgmRAe5iWt2s0MjOz5pdNPPng6wwOtGtSUXRsWEnwP
 Z/JQipyKP8pd59V/b8TDir7nnoSv3St+818eU=
X-Google-DKIM-Signature: v=1; a=rsa-sha256; c=relaxed/relaxed;
 d=1e100.net; s=20230601; t=1720671934; x=1721276734;
 h=references:in-reply-to:cc:to:from:subject:message-id:date
 :x-gm-message-state:from:to:cc:subject:date:message-id:reply-to;
 bh=jzmmd4R2ha4g8T6bEqTatepghHqQNtdOp2N7PqaCpg8=;
 b=FUL4qYAqhAMYFXH28OAsfk2/UKoU0u40Zq3G7piRLE84SUNZJunNw0Z5iRgD2VlVhd
 Tx38L55dG5+qrlIuq/M7FUb3yTS8oiFiVG1uhu4x9jlDw9Pjw7OuYzZ3J1gXOCCOe79m
 XGzORjuZHbNR1wLXOv6ZAp5mOyNEHEwoIvstQaWZjCxkdKoi6N2O+b960nh3eGvf2O97
 CLXVflaFhFNj8s0LCnFWTZM9X4D0MguqnPw/ydA75KOr1S+z6Op74z10r+jYnnNBNv0k
 Hlt0mhTssppL+tzWopanIi4tFzMKkFYabLHIzxjVI+JZLWNko13ePKDFB9AwJAMjqElv
 yymA==
X-Gm-Message-State: AOJu0YzWm0a8p9EyijMQjd3RaAbg3HJHlit6nlZcFLU4adNjnA93ZUJd
 4izjieJVA1a/w+/KPjeDsIXxKqTYVKgNIuwC91NdFeSNITK5pPSgl7m1z5uMvmoFIvVw4Ev3Mjf
 Nt4W3ZQ3wp/YtKUGJYJhy9vZ0+9rT7HxI/2EwAmHKebNaWYY/nkSWREOq
X-Google-Smtp-Source: AGHT+IHyrxloiN/g9tXrW9sl5G3Jy55yTj1txl3DyZv5oS2/hkCqBXaX2bwjTsXHow0de09LYOS8SNEmh1L3
X-Received: by 2002:a17:902:f68b:b0:1fb:6473:e91f with SMTP id
 d9443c01a7336-1fbb6d5b551mr71087605ad.40.1720671933838; 
 Wed, 10 Jul 2024 21:25:33 -0700 (PDT)
Received: from postal.iol.unh.edu (postal.iol.unh.edu.
 [2606:4100:3880:1234::84]) by smtp-relay.gmail.com with ESMTPS id
 d9443c01a7336-1fbb6a2a459sm1999735ad.31.2024.07.10.21.25.33
 (version=TLS1_2 cipher=ECDHE-ECDSA-AES128-GCM-SHA256 bits=128/128);
 Wed, 10 Jul 2024 21:25:33 -0700 (PDT)
X-Relaying-Domain: iol.unh.edu
Date: Wed, 10 Jul 2024 21:25:33 -0700 (PDT)
Message-ID: <668f5ebd.170a0220.76565.aa23SMTPIN_ADDED_MISSING@mx.google.com>
Received: from [172.21.0.6] (unknown [172.18.0.240])
 by postal.iol.unh.edu (Postfix) with ESMTP id 06074605C380;
 Thu, 11 Jul 2024 00:25:33 -0400 (EDT)
Subject: |SUCCESS| pw142296-142295 [PATCH] [v6,3/3] dts: queue suite conf sch
From: dpdklab@iol.unh.edu
To: Test Report <test-report@dpdk.org>
Cc: dpdk-test-reports@iol.unh.edu
In-Reply-To: <20240710160136.9908-3-dmarx@iol.unh.edu>
References: <20240710160136.9908-3-dmarx@iol.unh.edu>
Content-Type: text/plain
X-BeenThere: test-report@dpdk.org
X-Mailman-Version: 2.1.29
Precedence: list
List-Id: automatic DPDK test reports <test-report.dpdk.org>
List-Unsubscribe: <https://mails.dpdk.org/options/test-report>,
 <mailto:test-report-request@dpdk.org?subject=unsubscribe>
List-Archive: <http://mails.dpdk.org/archives/test-report/>
List-Post: <mailto:test-report@dpdk.org>
List-Help: <mailto:test-report-request@dpdk.org?subject=help>
List-Subscribe: <https://mails.dpdk.org/listinfo/test-report>,
 <mailto:test-report-request@dpdk.org?subject=subscribe>
Errors-To: test-report-bounces@dpdk.org

Test-Label: iol-unit-amd64-testing
Test-Status: SUCCESS
http://dpdk.org/patch/142295

_Testing PASS_

Submitter: Dean Marx <dmarx@iol.unh.edu>
Date: Wednesday, July 10 2024 16:01:36 
DPDK git baseline: Repo:dpdk
  Branch: master
  CommitID:830d7c98d6b2746401142050a88ff5cbc3465ba7

142296-142295 --> testing pass

Test environment and result as below:

+---------------------+----------------+
|     Environment     | dpdk_unit_test |
+=====================+================+
| Windows Server 2022 | PASS           |
+---------------------+----------------+
| Windows Server 2019 | PASS           |
+---------------------+----------------+
| CentOS Stream 8     | PASS           |
+---------------------+----------------+
| CentOS Stream 9     | PASS           |
+---------------------+----------------+
| Debian Bullseye     | PASS           |
+---------------------+----------------+
| Debian 12           | PASS           |
+---------------------+----------------+
| Fedora 38           | PASS           |
+---------------------+----------------+
| Fedora 37           | PASS           |
+---------------------+----------------+
| Fedora 38 (Clang)   | PASS           |
+---------------------+----------------+
| Fedora 39           | PASS           |
+---------------------+----------------+
| Fedora 39 (Clang)   | PASS           |
+---------------------+----------------+
| Fedora 40           | PASS           |
+---------------------+----------------+
| Fedora 40 (Clang)   | PASS           |
+---------------------+----------------+
| RHEL8               | PASS           |
+---------------------+----------------+
| openSUSE Leap 15    | PASS           |
+---------------------+----------------+
| RHEL9               | PASS           |
+---------------------+----------------+
| Ubuntu 20.04        | PASS           |
+---------------------+----------------+
| Ubuntu 22.04        | PASS           |
+---------------------+----------------+
| Ubuntu 24.04        | PASS           |
+---------------------+----------------+


Windows Server 2022
	Kernel: 10.0.20348.2031
	Compiler: clang 15.0.7, gcc 8.1.0 (MinGW), and MSVC VS 17.9

Windows Server 2019
	Kernel: 10.0.17763
	Compiler: clang 14.0 and gcc 8.1.0 (MinGW)

CentOS Stream 8
	Kernel: 5.4.0-167-generic
	Compiler: gcc 8.5.0 20210514

CentOS Stream 9
	Kernel: 5.4.0-167-generic
	Compiler: gcc 11.4.1 20230605

Debian Bullseye
	Kernel: 5.4.0-167-generic
	Compiler: gcc 10.2.1-6

Debian 12
	Kernel: Container Host Kernel
	Compiler: gcc 12.2.0

Fedora 38
	Kernel: Depends on container host
	Compiler: gcc 13.2.1

Fedora 37
	Kernel: Depends on container host system
	Compiler: gcc 12.3.1

Fedora 38 (Clang)
	Kernel: Depends on container host
	Compiler: clang 16.0.6

Fedora 39
	Kernel: Depends on container host
	Compiler: gcc 13.2.1

Fedora 39 (Clang)
	Kernel: Depends on container host
	Compiler: clang 17.0.6

Fedora 40
	Kernel: Depends on container host
	Compiler: gcc 14.1.1

Fedora 40 (Clang)
	Kernel: Depends on container host
	Compiler: clang 18.1.6

RHEL8
	Kernel: 5.4.0-167-generic
	Compiler: gcc 8.5.0 20210514 (Red Hat 8.5.0-20)

openSUSE Leap 15
	Kernel: 5.4.0-167-generic
	Compiler: gcc 7.5.0

RHEL9
	Kernel: Depends on container host
	Compiler: gcc 11.4.1

Ubuntu 20.04
	Kernel: 5.4.0-167-generic
	Compiler: gcc 9.4.0-1ubuntu1~20.04.1

Ubuntu 22.04
	Kernel: 5.4.0-167-generic
	Compiler: gcc 11.4.0

Ubuntu 24.04
	Kernel: 5.4.0-167-generic
	Compiler: gcc 13.2.0

To view detailed results, visit:
https://lab.dpdk.org/results/dashboard/patchsets/30488/

UNH-IOL DPDK Community Lab

To manage your email subscriptions, visit: 
https://lab.dpdk.org/results/dashboard/preferences/subscriptions/