From mboxrd@z Thu Jan  1 00:00:00 1970
Return-Path: <test-report-bounces@dpdk.org>
Received: from mails.dpdk.org (mails.dpdk.org [217.70.189.124])
	by inbox.dpdk.org (Postfix) with ESMTP id 065E5455F8
	for <public@inbox.dpdk.org>; Thu, 11 Jul 2024 16:08:19 +0200 (CEST)
Received: from mails.dpdk.org (localhost [127.0.0.1])
	by mails.dpdk.org (Postfix) with ESMTP id 03D1D42F27;
	Thu, 11 Jul 2024 16:08:19 +0200 (CEST)
Received: from mail-il1-f225.google.com (mail-il1-f225.google.com
 [209.85.166.225])
 by mails.dpdk.org (Postfix) with ESMTP id 12C374065B
 for <test-report@dpdk.org>; Thu, 11 Jul 2024 16:08:17 +0200 (CEST)
Received: by mail-il1-f225.google.com with SMTP id
 e9e14a558f8ab-37613975e20so4080595ab.2
 for <test-report@dpdk.org>; Thu, 11 Jul 2024 07:08:17 -0700 (PDT)
DKIM-Signature: v=1; a=rsa-sha256; c=relaxed/relaxed;
 d=iol.unh.edu; s=unh-iol; t=1720706896; x=1721311696; darn=dpdk.org;
 h=references:in-reply-to:cc:to:from:subject:message-id:date:from:to
 :cc:subject:date:message-id:reply-to;
 bh=sSj1V3yJCi2ZEZnHP5bdMIMGE05aGMot7tizFYNs2C0=;
 b=OKAldsHQRLlUf5g/NX7Q9pNE1POhZQ9euiSnIsw7spIAMeO1myQiy0dbhylxoPSsHn
 UVqG4lUcqk/QSw1XspmlntL9LQg5mHhYAMIdzFbp4bj/b+vqtdytHy0mFJuShX1I1E6j
 PGIDw1TdFO+XHVlRPrppE6eyqKUnlRCjh+cGI=
X-Google-DKIM-Signature: v=1; a=rsa-sha256; c=relaxed/relaxed;
 d=1e100.net; s=20230601; t=1720706896; x=1721311696;
 h=references:in-reply-to:cc:to:from:subject:message-id:date
 :x-gm-message-state:from:to:cc:subject:date:message-id:reply-to;
 bh=sSj1V3yJCi2ZEZnHP5bdMIMGE05aGMot7tizFYNs2C0=;
 b=mtOKUmwBxJIBXci3pqN66kprf3CEWdALIZQFcleEIN4STaHdUzRSNMVv3Oxgbz7Xzh
 oqlhnNJp4/QfVeOu7M9JOk96Na/IyprowFD9aX9giKl6Qg6pvR9F1UqOP9/Vkg69sm1G
 i8QvAXGmvyRHjgPLayA2uEqgwOxLWI3fnFsBmN25u+T3Z7qEXsK5OsdSJE0ebaj/+3VQ
 ouZD/di7vmoGAmIzdYgRcDZhmHtIzE0tIFGnXXtmOKvdkA9atAV8ZilE1QxujUZ+dnpX
 ZxpxKECjP27e1gyQ+XPRRH+wkWyMNHBYDC34YjxAjv/cgTbeLjcIimvtBtUDSCfIpnFP
 8q6w==
X-Gm-Message-State: AOJu0Yy78/QDJt8bk8/2ZtppLca4xG1nNrQIV6xFYZFQUGclEXfSDsVV
 5dgbmij626an6sNVHphoSKjnKVENxhRikTC8SVROnspGcis4neGfwMxrvE8bP/QdBzXti9aakZe
 yTcnBhBwsiFRjhX8dhnGHYpLRyZiHqpMk10gORE6W
X-Google-Smtp-Source: AGHT+IFgnOMLqoG76QEBhUrSmCenya3l38WtLqdpKR/IriefrsN74XVUuxABXClfMZbk3KkaQAjHzkUHCOxa
X-Received: by 2002:a05:6e02:1805:b0:375:e1fc:aea2 with SMTP id
 e9e14a558f8ab-38a596cad07mr101940205ab.31.1720706896148; 
 Thu, 11 Jul 2024 07:08:16 -0700 (PDT)
Received: from postal.iol.unh.edu (postal.iol.unh.edu. [132.177.123.84])
 by smtp-relay.gmail.com with ESMTPS id
 e9e14a558f8ab-38a49f1156fsm3451185ab.44.2024.07.11.07.08.16
 (version=TLS1_2 cipher=ECDHE-ECDSA-AES128-GCM-SHA256 bits=128/128);
 Thu, 11 Jul 2024 07:08:16 -0700 (PDT)
X-Relaying-Domain: iol.unh.edu
Date: Thu, 11 Jul 2024 07:08:16 -0700 (PDT)
Message-ID: <668fe750.920a0220.8afd.2f53SMTPIN_ADDED_MISSING@mx.google.com>
Received: from [172.21.0.6] (unknown [172.18.0.240])
 by postal.iol.unh.edu (Postfix) with ESMTP id 9EE54605C351;
 Thu, 11 Jul 2024 10:08:15 -0400 (EDT)
Subject: |PENDING| pw142298 [PATCH] [v7] eal: verify mmu type for DPDK suppor
From: dpdklab@iol.unh.edu
To: Test Report <test-report@dpdk.org>
Cc: dpdk-test-reports@iol.unh.edu
In-Reply-To: <20240710233817.3638231-1-drc@linux.ibm.com>
References: <20240710233817.3638231-1-drc@linux.ibm.com>
Content-Type: text/plain
X-BeenThere: test-report@dpdk.org
X-Mailman-Version: 2.1.29
Precedence: list
List-Id: automatic DPDK test reports <test-report.dpdk.org>
List-Unsubscribe: <https://mails.dpdk.org/options/test-report>,
 <mailto:test-report-request@dpdk.org?subject=unsubscribe>
List-Archive: <http://mails.dpdk.org/archives/test-report/>
List-Post: <mailto:test-report@dpdk.org>
List-Help: <mailto:test-report-request@dpdk.org?subject=help>
List-Subscribe: <https://mails.dpdk.org/listinfo/test-report>,
 <mailto:test-report-request@dpdk.org?subject=subscribe>
Errors-To: test-report-bounces@dpdk.org

Test-Label: iol-abi-testing
Test-Status: PENDING
http://dpdk.org/patch/142298

_Testing pending_

Submitter: David Christensen <drc@linux.ibm.com>
Date: Wednesday, July 10 2024 23:38:16 
DPDK git baseline: Repo:dpdk
  Branch: master
  CommitID:fde2a1cb34d403d251cd5ceaab0bc329b21d219e

142298 --> testing pending

Test environment and result as below:

+-------------------+----------+
|    Environment    | abi_test |
+===================+==========+
| CentOS Stream 8   | PASS     |
+-------------------+----------+
| Debian Bullseye   | PASS     |
+-------------------+----------+
| CentOS Stream 9   | PASS     |
+-------------------+----------+
| Debian 12         | PEND     |
+-------------------+----------+
| Fedora 38 (Clang) | PASS     |
+-------------------+----------+
| Fedora 37         | PASS     |
+-------------------+----------+
| RHEL9             | PASS     |
+-------------------+----------+
| Fedora 39 (Clang) | PASS     |
+-------------------+----------+
| RHEL8             | PASS     |
+-------------------+----------+
| Fedora 40         | PASS     |
+-------------------+----------+
| Fedora 39         | PASS     |
+-------------------+----------+
| openSUSE Leap 15  | PEND     |
+-------------------+----------+
| Fedora 38         | PEND     |
+-------------------+----------+
| Fedora 40 (Clang) | PEND     |
+-------------------+----------+
| Ubuntu 24.04      | PEND     |
+-------------------+----------+
| Ubuntu 22.04      | PEND     |
+-------------------+----------+


CentOS Stream 8
	Kernel: 5.4.0-167-generic
	Compiler: gcc 8.5.0 20210514

Debian Bullseye
	Kernel: 5.4.0-167-generic
	Compiler: gcc 10.2.1-6

CentOS Stream 9
	Kernel: 5.4.0-167-generic
	Compiler: gcc 11.4.1 20230605

Debian 12
	Kernel: Container Host Kernel
	Compiler: gcc 12.2.0

Fedora 38 (Clang)
	Kernel: Depends on container host
	Compiler: clang 16.0.6

Fedora 37
	Kernel: Depends on container host system
	Compiler: gcc 12.3.1

RHEL9
	Kernel: Depends on container host
	Compiler: gcc 11.4.1

Fedora 39 (Clang)
	Kernel: Depends on container host
	Compiler: clang 17.0.6

RHEL8
	Kernel: 5.4.0-167-generic
	Compiler: gcc 8.5.0 20210514 (Red Hat 8.5.0-20)

Fedora 40
	Kernel: Depends on container host
	Compiler: gcc 14.1.1

Fedora 39
	Kernel: Depends on container host
	Compiler: gcc 13.2.1

openSUSE Leap 15
	Kernel: 5.4.0-167-generic
	Compiler: gcc 7.5.0

Fedora 38
	Kernel: Depends on container host
	Compiler: gcc 13.2.1

Fedora 40 (Clang)
	Kernel: Depends on container host
	Compiler: clang 18.1.6

Ubuntu 24.04
	Kernel: 5.4.0-167-generic
	Compiler: gcc 13.2.0

Ubuntu 22.04
	Kernel: 5.4.0-167-generic
	Compiler: gcc 11.4.0

To view detailed results, visit:
https://lab.dpdk.org/results/dashboard/patchsets/30490/

UNH-IOL DPDK Community Lab

To manage your email subscriptions, visit: 
https://lab.dpdk.org/results/dashboard/preferences/subscriptions/