From mboxrd@z Thu Jan  1 00:00:00 1970
Return-Path: <test-report-bounces@dpdk.org>
Received: from mails.dpdk.org (mails.dpdk.org [217.70.189.124])
	by inbox.dpdk.org (Postfix) with ESMTP id 5C510455FC
	for <public@inbox.dpdk.org>; Thu, 11 Jul 2024 16:29:53 +0200 (CEST)
Received: from mails.dpdk.org (localhost [127.0.0.1])
	by mails.dpdk.org (Postfix) with ESMTP id 58A2140652;
	Thu, 11 Jul 2024 16:29:53 +0200 (CEST)
Received: from mail-pj1-f98.google.com (mail-pj1-f98.google.com
 [209.85.216.98]) by mails.dpdk.org (Postfix) with ESMTP id 28F6B402D1
 for <test-report@dpdk.org>; Thu, 11 Jul 2024 16:29:40 +0200 (CEST)
Received: by mail-pj1-f98.google.com with SMTP id
 98e67ed59e1d1-2c9a1ea8cc3so753434a91.0
 for <test-report@dpdk.org>; Thu, 11 Jul 2024 07:29:40 -0700 (PDT)
DKIM-Signature: v=1; a=rsa-sha256; c=relaxed/relaxed;
 d=iol.unh.edu; s=unh-iol; t=1720708179; x=1721312979; darn=dpdk.org;
 h=references:in-reply-to:cc:to:from:subject:message-id:date:from:to
 :cc:subject:date:message-id:reply-to;
 bh=Q3GYgsfYPtvBUNSTOvhXdkR1LqMf94sw1Vap+NEm494=;
 b=CjGtRBpkChurrDULE9xqUEuqBSw35jJ85NLlG8jen3uX0q67QP9ZcHK4sNyCtH3dk0
 WaPX5s9DiFwu2ZA+39Osu0GJaOAThYcKxNeHUPotzKQYU9/G9CrnGVn+HQKSJ2h+64ug
 tdXtzvanDUJPplu/wKe7VVuNt9jYOEqq6o/ps=
X-Google-DKIM-Signature: v=1; a=rsa-sha256; c=relaxed/relaxed;
 d=1e100.net; s=20230601; t=1720708179; x=1721312979;
 h=references:in-reply-to:cc:to:from:subject:message-id:date
 :x-gm-message-state:from:to:cc:subject:date:message-id:reply-to;
 bh=Q3GYgsfYPtvBUNSTOvhXdkR1LqMf94sw1Vap+NEm494=;
 b=qQJ0WJFZqN12AlgwkU903bXRAK/VrnppVDYD+/mIG9IAE2w/kfdLaXz/H5mzfpVTh9
 6+cvUWGfDxtBDIP834YIWk85WQtK1t6Wi2vrjg/9jnt5e92TD2DZaZ9qQLX2jkDusJ+r
 KzxkMe3C/hTXdqeEfSbMe6hqeFMJoFiMDOT9jPMWbP7dIC6q1Cf8wnBYKJeTnRQTmAoT
 BgCwPhWALXndar32WCaDdEMAWlthdRVzKqrEm5sYY0MGII/Iv1WQI9Cec5dJkzdVjfB6
 ubo9M9b8LU0mo/sQHTFw+lMQZtODQEMSD0UanRUOMGy0yPDSnZ/X8ihfcHByqs0p7kqT
 BFGA==
X-Gm-Message-State: AOJu0YysYH8SfXqo35ox/LtGTcVKID4m36ASWqLrUjzdWmH768ZBia3x
 94swX3Amm9o0rX3Wta8R7VwgegRyZeAL+kzwDJGaW8UF8YL2p1wUnLQGH5l0o3UOtpT7Ou7zRMl
 P6i7h0RkI3a3us71eukdB5wWAJQeyrP7TTcR6F6bE
X-Google-Smtp-Source: AGHT+IERDgmZfMq4xePDQgqiMEr5pX/JYdAUmIFsd3VE67D94Wtu3hKfrJvc6PKGsHjW41LRdMTuCrtdpADi
X-Received: by 2002:a17:90a:fd83:b0:2c2:4109:9466 with SMTP id
 98e67ed59e1d1-2ca9d8849cemr3948954a91.8.1720708179354; 
 Thu, 11 Jul 2024 07:29:39 -0700 (PDT)
Received: from postal.iol.unh.edu (postal.iol.unh.edu. [132.177.123.84])
 by smtp-relay.gmail.com with ESMTPS id
 98e67ed59e1d1-2c99aa38235sm725131a91.11.2024.07.11.07.29.39
 (version=TLS1_2 cipher=ECDHE-ECDSA-AES128-GCM-SHA256 bits=128/128);
 Thu, 11 Jul 2024 07:29:39 -0700 (PDT)
X-Relaying-Domain: iol.unh.edu
Date: Thu, 11 Jul 2024 07:29:39 -0700 (PDT)
Message-ID: <668fec53.170a0220.f214a.d839SMTPIN_ADDED_MISSING@mx.google.com>
Received: from [172.21.0.8] (unknown [172.18.0.240])
 by postal.iol.unh.edu (Postfix) with ESMTP id 71C0F605C351;
 Thu, 11 Jul 2024 10:29:38 -0400 (EDT)
Subject: |PENDING| pw142298 [PATCH] [v7] eal: verify mmu type for DPDK suppor
From: dpdklab@iol.unh.edu
To: Test Report <test-report@dpdk.org>
Cc: dpdk-test-reports@iol.unh.edu
In-Reply-To: <20240710233817.3638231-1-drc@linux.ibm.com>
References: <20240710233817.3638231-1-drc@linux.ibm.com>
Content-Type: text/plain
X-BeenThere: test-report@dpdk.org
X-Mailman-Version: 2.1.29
Precedence: list
List-Id: automatic DPDK test reports <test-report.dpdk.org>
List-Unsubscribe: <https://mails.dpdk.org/options/test-report>,
 <mailto:test-report-request@dpdk.org?subject=unsubscribe>
List-Archive: <http://mails.dpdk.org/archives/test-report/>
List-Post: <mailto:test-report@dpdk.org>
List-Help: <mailto:test-report-request@dpdk.org?subject=help>
List-Subscribe: <https://mails.dpdk.org/listinfo/test-report>,
 <mailto:test-report-request@dpdk.org?subject=subscribe>
Errors-To: test-report-bounces@dpdk.org

Test-Label: iol-compile-arm64-testing
Test-Status: PENDING
http://dpdk.org/patch/142298

_Testing pending_

Submitter: David Christensen <drc@linux.ibm.com>
Date: Wednesday, July 10 2024 23:38:16 
DPDK git baseline: Repo:dpdk
  Branch: master
  CommitID:fde2a1cb34d403d251cd5ceaab0bc329b21d219e

142298 --> testing pending

Test environment and result as below:

+----------------------------------------+--------------------+
|              Environment               | dpdk_meson_compile |
+========================================+====================+
| RHEL9 (ARM)                            | PASS               |
+----------------------------------------+--------------------+
| Ubuntu 20.04 ARM GCC Cross Compile     | PEND               |
+----------------------------------------+--------------------+
| Ubuntu 20.04 ARM SVE                   | PASS               |
+----------------------------------------+--------------------+
| Debian 12 with MUSDK                   | PASS               |
+----------------------------------------+--------------------+
| Fedora 37 (ARM)                        | PASS               |
+----------------------------------------+--------------------+
| Fedora 38 (ARM)                        | PASS               |
+----------------------------------------+--------------------+
| Fedora 38 (ARM Clang)                  | PEND               |
+----------------------------------------+--------------------+
| Fedora 39 (ARM)                        | PASS               |
+----------------------------------------+--------------------+
| Fedora 39 (ARM Clang)                  | PEND               |
+----------------------------------------+--------------------+
| Fedora 40 (ARM)                        | PASS               |
+----------------------------------------+--------------------+
| Fedora 40 (ARM Clang)                  | PEND               |
+----------------------------------------+--------------------+
| Ubuntu 20.04 (ARM)                     | PASS               |
+----------------------------------------+--------------------+
| Ubuntu 22.04 (ARM)                     | PASS               |
+----------------------------------------+--------------------+
| Ubuntu 24.04 (ARM)                     | PASS               |
+----------------------------------------+--------------------+
| CentOS Stream 9 (ARM)                  | PASS               |
+----------------------------------------+--------------------+
| Debian 11 (Buster) (ARM)               | PASS               |
+----------------------------------------+--------------------+
| Debian 12 (arm)                        | PASS               |
+----------------------------------------+--------------------+
| Ubuntu 20.04 ARM Clang Cross Compile   | PEND               |
+----------------------------------------+--------------------+
| Ubuntu 20.04 aarch32 GCC Cross Compile | PEND               |
+----------------------------------------+--------------------+


RHEL9 (ARM)
	Kernel: Depends on container host
	Compiler: gcc 11.4.1

Ubuntu 20.04 ARM GCC Cross Compile
	Kernel: 5.4.0-167-generic
	Compiler: aarch64-linux-gnu-gcc (Ubuntu 9.4.0-1ubuntu1~20.04.2) 9.4.0

Ubuntu 20.04 ARM SVE
	Kernel: 5.4.0-167-generic
	Compiler: gcc (Ubuntu 10.5.0-1ubuntu1~20.04) 10.5.0

Debian 12 with MUSDK
	Kernel: Container Host Kernel
	Compiler: gcc 12.2.0

Fedora 37 (ARM)
	Kernel: Depends on container host
	Compiler: gcc 12.3.1

Fedora 38 (ARM)
	Kernel: Depends on container host
	Compiler: gcc 13.2.1

Fedora 38 (ARM Clang)
	Kernel: Depends on container host
	Compiler: clang 16.0.6

Fedora 39 (ARM)
	Kernel: Depends on container host
	Compiler: gcc 13.2.1

Fedora 39 (ARM Clang)
	Kernel: Depends on container host
	Compiler: clang 17.0.6

Fedora 40 (ARM)
	Kernel: Depends on container host
	Compiler: gcc 14.1.1

Fedora 40 (ARM Clang)
	Kernel: Depends on container host
	Compiler: clang 18.1.6

Ubuntu 20.04 (ARM)
	Kernel: Container Host Kernel
	Compiler: gcc 9.4.0

Ubuntu 22.04 (ARM)
	Kernel: Container Host Kernel
	Compiler: gcc 11.4.0

Ubuntu 24.04 (ARM)
	Kernel: 5.4.0-167-generic
	Compiler: gcc 13.2.0

CentOS Stream 9 (ARM)
	Kernel: Container Host Kernel
	Compiler: gcc 11.4.1

Debian 11 (Buster) (ARM)
	Kernel: Container Host Kernel
	Compiler: gcc 10.2.1

Debian 12 (arm)
	Kernel: Container Host Kernel
	Compiler: gcc 12.2.0

Ubuntu 20.04 ARM Clang Cross Compile
	Kernel: 5.4.0-72-generic
	Compiler: clang 10.0.0-4ubuntu1

Ubuntu 20.04 aarch32 GCC Cross Compile
	Kernel: 5.4.0-167-generic
	Compiler: gcc 9.4.0

To view detailed results, visit:
https://lab.dpdk.org/results/dashboard/patchsets/30490/

UNH-IOL DPDK Community Lab

To manage your email subscriptions, visit: 
https://lab.dpdk.org/results/dashboard/preferences/subscriptions/