From mboxrd@z Thu Jan  1 00:00:00 1970
Return-Path: <test-report-bounces@dpdk.org>
Received: from mails.dpdk.org (mails.dpdk.org [217.70.189.124])
	by inbox.dpdk.org (Postfix) with ESMTP id E13BF455FB
	for <public@inbox.dpdk.org>; Thu, 11 Jul 2024 17:23:25 +0200 (CEST)
Received: from mails.dpdk.org (localhost [127.0.0.1])
	by mails.dpdk.org (Postfix) with ESMTP id DCEC442E63;
	Thu, 11 Jul 2024 17:23:25 +0200 (CEST)
Received: from mail-pg1-f226.google.com (mail-pg1-f226.google.com
 [209.85.215.226])
 by mails.dpdk.org (Postfix) with ESMTP id AE78B402D6
 for <test-report@dpdk.org>; Thu, 11 Jul 2024 17:23:24 +0200 (CEST)
Received: by mail-pg1-f226.google.com with SMTP id
 41be03b00d2f7-761e0f371f5so1590557a12.1
 for <test-report@dpdk.org>; Thu, 11 Jul 2024 08:23:24 -0700 (PDT)
DKIM-Signature: v=1; a=rsa-sha256; c=relaxed/relaxed;
 d=iol.unh.edu; s=unh-iol; t=1720711404; x=1721316204; darn=dpdk.org;
 h=references:in-reply-to:cc:to:from:subject:message-id:date:from:to
 :cc:subject:date:message-id:reply-to;
 bh=80SjlhtVqaR/crj5cVyOg3knhvYCCkWJagWQg+iKNpE=;
 b=jPskNY3+F2jAuQrBKLQ/hA1T/zz0n28FmQM93tJYgRBoIltjZl73jf+5kIOHWS5RcV
 CO49pRR66/vE4xx8EDqypaP85Fg26WMeUK0yClnEZiTKBm4/rIyyOroKO/ckodwVDkYA
 Yq/Kl+wl+xPbS9r7BuaymVkOR7k+Zs3aNfkUo=
X-Google-DKIM-Signature: v=1; a=rsa-sha256; c=relaxed/relaxed;
 d=1e100.net; s=20230601; t=1720711404; x=1721316204;
 h=references:in-reply-to:cc:to:from:subject:message-id:date
 :x-gm-message-state:from:to:cc:subject:date:message-id:reply-to;
 bh=80SjlhtVqaR/crj5cVyOg3knhvYCCkWJagWQg+iKNpE=;
 b=uW2dMDDOxeApOQITH44WP3QphuBYoJ16dYokR3Sfc8PNPRur4Xtr636JgQrU9uQbAI
 2hXfXzxuiJEJJ7mh0RPhQ/H6PNS1qPI0XJ2kRqwcfVpnj9UV/SNo8wqiPkr6fOpyA9Ox
 IZCkrpW3IJyjFkT4GBKgWwLjaLA716rvLN/69617GUQ1yQ1jN4iwmjM5xT8UsGD76bJn
 gPDYXxgVWRaRWpfS00+Y57xdQf/9b4GNoT5F9ozV6Cw/4HLpZxx/cO7IBgaiMpEZCYX5
 B/CgnBL+6XvMYPcnFyrapnBAS84lUMe+K9YAItee90d9F4euxxWWGtpJfGXBiGVyK/B1
 DlBg==
X-Gm-Message-State: AOJu0Yyi3u1IyWgXgrXSDmU+4OmgtKn1SLQtqsAYiks0y0yK3kfgKL0C
 ean68yA1/Hdm7PwbKewX7dtWanD0VOfp+yqUu5/nTnbTT0iPOKTG/xBhRIBT7B06nKwsTlkNCz7
 yfX/bPb69jqoKsK0FjMWGfL9J729Uk0BB5l51ApPKodrVcsK9EAZf/H/r
X-Google-Smtp-Source: AGHT+IFEu7RiMGXRIxRUkCA5h/WvqGggR1Wx8Uw24gyoR0iDaKWkTS9IuHWsuoyfAlCG/mr+LBnBVsXIpSVS
X-Received: by 2002:a17:90a:d149:b0:2c9:7343:71f1 with SMTP id
 98e67ed59e1d1-2ca9dbc058emr4268840a91.14.1720711403657; 
 Thu, 11 Jul 2024 08:23:23 -0700 (PDT)
Received: from postal.iol.unh.edu (postal.iol.unh.edu.
 [2606:4100:3880:1234::84]) by smtp-relay.gmail.com with ESMTPS id
 98e67ed59e1d1-2c99a92c20asm734569a91.2.2024.07.11.08.23.23
 (version=TLS1_2 cipher=ECDHE-ECDSA-AES128-GCM-SHA256 bits=128/128);
 Thu, 11 Jul 2024 08:23:23 -0700 (PDT)
X-Relaying-Domain: iol.unh.edu
Date: Thu, 11 Jul 2024 08:23:23 -0700 (PDT)
Message-ID: <668ff8eb.170a0220.3e0d4.e30aSMTPIN_ADDED_MISSING@mx.google.com>
Received: from [172.17.0.3] (unknown [172.18.0.217])
 by postal.iol.unh.edu (Postfix) with ESMTP id BED8C605C351;
 Thu, 11 Jul 2024 11:23:22 -0400 (EDT)
Subject: |SUCCESS| pw142298 [PATCH] [v7] eal: verify mmu type for DPDK suppor
From: dpdklab@iol.unh.edu
To: Test Report <test-report@dpdk.org>
Cc: dpdk-test-reports@iol.unh.edu
In-Reply-To: <20240710233817.3638231-1-drc@linux.ibm.com>
References: <20240710233817.3638231-1-drc@linux.ibm.com>
Content-Type: text/plain
X-BeenThere: test-report@dpdk.org
X-Mailman-Version: 2.1.29
Precedence: list
List-Id: automatic DPDK test reports <test-report.dpdk.org>
List-Unsubscribe: <https://mails.dpdk.org/options/test-report>,
 <mailto:test-report-request@dpdk.org?subject=unsubscribe>
List-Archive: <http://mails.dpdk.org/archives/test-report/>
List-Post: <mailto:test-report@dpdk.org>
List-Help: <mailto:test-report-request@dpdk.org?subject=help>
List-Subscribe: <https://mails.dpdk.org/listinfo/test-report>,
 <mailto:test-report-request@dpdk.org?subject=subscribe>
Errors-To: test-report-bounces@dpdk.org

Test-Label: iol-compile-arm64-testing
Test-Status: SUCCESS
http://dpdk.org/patch/142298

_Testing PASS_

Submitter: David Christensen <drc@linux.ibm.com>
Date: Wednesday, July 10 2024 23:38:16 
DPDK git baseline: Repo:dpdk
  Branch: master
  CommitID:fde2a1cb34d403d251cd5ceaab0bc329b21d219e

142298 --> testing pass

Test environment and result as below:

+----------------------------------------+--------------------+
|              Environment               | dpdk_meson_compile |
+========================================+====================+
| RHEL9 (ARM)                            | PASS               |
+----------------------------------------+--------------------+
| Ubuntu 20.04 ARM GCC Cross Compile     | PASS               |
+----------------------------------------+--------------------+
| Ubuntu 20.04 ARM SVE                   | PASS               |
+----------------------------------------+--------------------+
| Debian 12 with MUSDK                   | PASS               |
+----------------------------------------+--------------------+
| Fedora 37 (ARM)                        | PASS               |
+----------------------------------------+--------------------+
| Fedora 38 (ARM)                        | PASS               |
+----------------------------------------+--------------------+
| Fedora 38 (ARM Clang)                  | PASS               |
+----------------------------------------+--------------------+
| Fedora 39 (ARM)                        | PASS               |
+----------------------------------------+--------------------+
| Fedora 39 (ARM Clang)                  | PASS               |
+----------------------------------------+--------------------+
| Fedora 40 (ARM)                        | PASS               |
+----------------------------------------+--------------------+
| Fedora 40 (ARM Clang)                  | PASS               |
+----------------------------------------+--------------------+
| Ubuntu 20.04 (ARM)                     | PASS               |
+----------------------------------------+--------------------+
| Ubuntu 22.04 (ARM)                     | PASS               |
+----------------------------------------+--------------------+
| Ubuntu 24.04 (ARM)                     | PASS               |
+----------------------------------------+--------------------+
| CentOS Stream 9 (ARM)                  | PASS               |
+----------------------------------------+--------------------+
| Debian 11 (Buster) (ARM)               | PASS               |
+----------------------------------------+--------------------+
| Debian 12 (arm)                        | PASS               |
+----------------------------------------+--------------------+
| Ubuntu 20.04 ARM Clang Cross Compile   | PASS               |
+----------------------------------------+--------------------+
| Ubuntu 20.04 aarch32 GCC Cross Compile | PASS               |
+----------------------------------------+--------------------+


RHEL9 (ARM)
	Kernel: Depends on container host
	Compiler: gcc 11.4.1

Ubuntu 20.04 ARM GCC Cross Compile
	Kernel: 5.4.0-167-generic
	Compiler: aarch64-linux-gnu-gcc (Ubuntu 9.4.0-1ubuntu1~20.04.2) 9.4.0

Ubuntu 20.04 ARM SVE
	Kernel: 5.4.0-167-generic
	Compiler: gcc (Ubuntu 10.5.0-1ubuntu1~20.04) 10.5.0

Debian 12 with MUSDK
	Kernel: Container Host Kernel
	Compiler: gcc 12.2.0

Fedora 37 (ARM)
	Kernel: Depends on container host
	Compiler: gcc 12.3.1

Fedora 38 (ARM)
	Kernel: Depends on container host
	Compiler: gcc 13.2.1

Fedora 38 (ARM Clang)
	Kernel: Depends on container host
	Compiler: clang 16.0.6

Fedora 39 (ARM)
	Kernel: Depends on container host
	Compiler: gcc 13.2.1

Fedora 39 (ARM Clang)
	Kernel: Depends on container host
	Compiler: clang 17.0.6

Fedora 40 (ARM)
	Kernel: Depends on container host
	Compiler: gcc 14.1.1

Fedora 40 (ARM Clang)
	Kernel: Depends on container host
	Compiler: clang 18.1.6

Ubuntu 20.04 (ARM)
	Kernel: Container Host Kernel
	Compiler: gcc 9.4.0

Ubuntu 22.04 (ARM)
	Kernel: Container Host Kernel
	Compiler: gcc 11.4.0

Ubuntu 24.04 (ARM)
	Kernel: 5.4.0-167-generic
	Compiler: gcc 13.2.0

CentOS Stream 9 (ARM)
	Kernel: Container Host Kernel
	Compiler: gcc 11.4.1

Debian 11 (Buster) (ARM)
	Kernel: Container Host Kernel
	Compiler: gcc 10.2.1

Debian 12 (arm)
	Kernel: Container Host Kernel
	Compiler: gcc 12.2.0

Ubuntu 20.04 ARM Clang Cross Compile
	Kernel: 5.4.0-72-generic
	Compiler: clang 10.0.0-4ubuntu1

Ubuntu 20.04 aarch32 GCC Cross Compile
	Kernel: 5.4.0-167-generic
	Compiler: gcc 9.4.0

To view detailed results, visit:
https://lab.dpdk.org/results/dashboard/patchsets/30490/

UNH-IOL DPDK Community Lab

To manage your email subscriptions, visit: 
https://lab.dpdk.org/results/dashboard/preferences/subscriptions/