From mboxrd@z Thu Jan  1 00:00:00 1970
Return-Path: <test-report-bounces@dpdk.org>
Received: from mails.dpdk.org (mails.dpdk.org [217.70.189.124])
	by inbox.dpdk.org (Postfix) with ESMTP id 0A612455FE
	for <public@inbox.dpdk.org>; Thu, 11 Jul 2024 23:52:43 +0200 (CEST)
Received: from mails.dpdk.org (localhost [127.0.0.1])
	by mails.dpdk.org (Postfix) with ESMTP id 047D9402CE;
	Thu, 11 Jul 2024 23:52:43 +0200 (CEST)
Received: from mail-vk1-f226.google.com (mail-vk1-f226.google.com
 [209.85.221.226])
 by mails.dpdk.org (Postfix) with ESMTP id 4A5AE402CC
 for <test-report@dpdk.org>; Thu, 11 Jul 2024 23:52:41 +0200 (CEST)
Received: by mail-vk1-f226.google.com with SMTP id
 71dfb90a1353d-4f2c8e99c0fso471705e0c.1
 for <test-report@dpdk.org>; Thu, 11 Jul 2024 14:52:41 -0700 (PDT)
DKIM-Signature: v=1; a=rsa-sha256; c=relaxed/relaxed;
 d=iol.unh.edu; s=unh-iol; t=1720734760; x=1721339560; darn=dpdk.org;
 h=references:in-reply-to:cc:to:from:subject:message-id:date:from:to
 :cc:subject:date:message-id:reply-to;
 bh=E2nZtzgOQsrg9OD7Ny7YlqVJ0sYTMZNh6C4BFWQHsIs=;
 b=OscJu1Ykm7t7zwNq5+GmfcOYBlcYC4eGnHceBeeTedSFFOeFXv1itwlhVRpsmJTnud
 YappCzx9GkLUes/Y4hjvhFeN7Y1PYc/igMCWiCmmjiuUes2QRUY5chDdxpF7TXwqep97
 sasac2Cb0XWEY71zKLs9G6q+WjCKHaKb8N6XA=
X-Google-DKIM-Signature: v=1; a=rsa-sha256; c=relaxed/relaxed;
 d=1e100.net; s=20230601; t=1720734760; x=1721339560;
 h=references:in-reply-to:cc:to:from:subject:message-id:date
 :x-gm-message-state:from:to:cc:subject:date:message-id:reply-to;
 bh=E2nZtzgOQsrg9OD7Ny7YlqVJ0sYTMZNh6C4BFWQHsIs=;
 b=kCTOvVcBKCGrcinGXT/zQojzOZp0thB2gLo8eyPlu2L+5x9LJn9ujNQr8RdcU6AtjP
 nWjeqmiJyW/UC7/EsaA+zjrJiwdruAzDBnhGrLrTWmMQRNpUVYFjfASqZnI9paJNmjLo
 n2ycn9sV8hmlkIKbzD7kpjwRKYSggejOCuuPclFaROQNm0P8wvobJ4/A6yfMm3WISg0H
 CLA07buj2I7tLkr2ii3RXjsz6S+cKmstsWq9NKL1X9WBHrF0q8SCnrJY321GTXX8xoR0
 onJG812EfiPGWNm3kQEj36AgWADhhjkvYWkntKWulNhstgei7dtH02QLzqhk97IUl3Hc
 P3Zw==
X-Gm-Message-State: AOJu0YzJK6NE7EIRYV6LZpPa0DL56DAfja+hRPAlmrPicskMhzCm2r/q
 jHCfxvAhYhrtV7l273QEwG1V8NPhZsKRD/9xc5Ocom+m4OdVIDytIw0BuwcNaVoHN1AmThSfagI
 ZBGNMqB3LWwOQHHigzjlWeDjYExRDX/HOJeD1RsvkuMS7UDc3hClHJFi+
X-Google-Smtp-Source: AGHT+IFo8pKgh0Uh6Bc2rukrMVMkXQi6zRPRJujlZXyb0GTRFUP3BTVwo1KbDaUbAXGw9IrXcx2pXr7TR2UO
X-Received: by 2002:a05:6122:2981:b0:4f2:ea44:fd14 with SMTP id
 71dfb90a1353d-4f33f18e2e5mr11913782e0c.2.1720734760677; 
 Thu, 11 Jul 2024 14:52:40 -0700 (PDT)
Received: from postal.iol.unh.edu (postal.iol.unh.edu.
 [2606:4100:3880:1234::84]) by smtp-relay.gmail.com with ESMTPS id
 6a1803df08f44-6b61b9e2b5asm4429006d6.8.2024.07.11.14.52.40
 (version=TLS1_2 cipher=ECDHE-ECDSA-AES128-GCM-SHA256 bits=128/128);
 Thu, 11 Jul 2024 14:52:40 -0700 (PDT)
X-Relaying-Domain: iol.unh.edu
Date: Thu, 11 Jul 2024 14:52:40 -0700 (PDT)
Message-ID: <66905428.050a0220.fee5d.78e6SMTPIN_ADDED_MISSING@mx.google.com>
Received: from [172.21.0.7] (unknown [172.18.0.240])
 by postal.iol.unh.edu (Postfix) with ESMTP id 53980605C380;
 Thu, 11 Jul 2024 17:52:40 -0400 (EDT)
Subject: |PENDING| pw142328 [PATCH] net/ice: fix possible memory leak
From: dpdklab@iol.unh.edu
To: Test Report <test-report@dpdk.org>
Cc: dpdk-test-reports@iol.unh.edu
In-Reply-To: <20240711165907.3169191-1-vladimir.medvedkin@intel.com>
References: <20240711165907.3169191-1-vladimir.medvedkin@intel.com>
Content-Type: text/plain
X-BeenThere: test-report@dpdk.org
X-Mailman-Version: 2.1.29
Precedence: list
List-Id: automatic DPDK test reports <test-report.dpdk.org>
List-Unsubscribe: <https://mails.dpdk.org/options/test-report>,
 <mailto:test-report-request@dpdk.org?subject=unsubscribe>
List-Archive: <http://mails.dpdk.org/archives/test-report/>
List-Post: <mailto:test-report@dpdk.org>
List-Help: <mailto:test-report-request@dpdk.org?subject=help>
List-Subscribe: <https://mails.dpdk.org/listinfo/test-report>,
 <mailto:test-report-request@dpdk.org?subject=subscribe>
Errors-To: test-report-bounces@dpdk.org

Test-Label: iol-unit-arm64-testing
Test-Status: PENDING
http://dpdk.org/patch/142328

_Testing pending_

Submitter: Medvedkin, Vladimir <vladimir.medvedkin@intel.com>
Date: Thursday, July 11 2024 16:59:07 
DPDK git baseline: Repo:dpdk
  Branch: master
  CommitID:e014773daacdb2f4be17061352592e5bb83a1d3f

142328 --> testing pending

Test environment and result as below:

+-----------------------------+----------------+--------------+---------------------------+------------------------------+
|         Environment         | dpdk_unit_test | lpm_autotest | cryptodev_sw_zuc_autotest | cryptodev_sw_snow3g_autotest |
+=============================+================+==============+===========================+==============================+
| CentOS Stream 9 (ARM)       | PASS           | SKIPPED      | SKIPPED                   | SKIPPED                      |
+-----------------------------+----------------+--------------+---------------------------+------------------------------+
| Debian 11 (Buster) (ARM)    | PASS           | SKIPPED      | SKIPPED                   | SKIPPED                      |
+-----------------------------+----------------+--------------+---------------------------+------------------------------+
| Fedora 37 (ARM)             | PASS           | SKIPPED      | SKIPPED                   | SKIPPED                      |
+-----------------------------+----------------+--------------+---------------------------+------------------------------+
| 32-bit Ubuntu 20.04.4 (ARM) | PEND           | SKIPPED      | SKIPPED                   | SKIPPED                      |
+-----------------------------+----------------+--------------+---------------------------+------------------------------+
| Debian 12 (arm)             | PASS           | SKIPPED      | PASS                      | PASS                         |
+-----------------------------+----------------+--------------+---------------------------+------------------------------+
| Fedora 38 (ARM Clang)       | PEND           | SKIPPED      | SKIPPED                   | SKIPPED                      |
+-----------------------------+----------------+--------------+---------------------------+------------------------------+
| Fedora 38 (ARM)             | PEND           | SKIPPED      | SKIPPED                   | SKIPPED                      |
+-----------------------------+----------------+--------------+---------------------------+------------------------------+
| Fedora 39 (ARM Clang)       | PEND           | SKIPPED      | SKIPPED                   | SKIPPED                      |
+-----------------------------+----------------+--------------+---------------------------+------------------------------+
| Fedora 39 (ARM)             | PEND           | SKIPPED      | SKIPPED                   | SKIPPED                      |
+-----------------------------+----------------+--------------+---------------------------+------------------------------+
| Fedora 40 (ARM)             | PEND           | SKIPPED      | SKIPPED                   | SKIPPED                      |
+-----------------------------+----------------+--------------+---------------------------+------------------------------+
| Ubuntu 20.04 ARM SVE        | SKIPPED        | PEND         | SKIPPED                   | SKIPPED                      |
+-----------------------------+----------------+--------------+---------------------------+------------------------------+


CentOS Stream 9 (ARM)
	Kernel: Container Host Kernel
	Compiler: gcc 11.4.1

Debian 11 (Buster) (ARM)
	Kernel: Container Host Kernel
	Compiler: gcc 10.2.1

Fedora 37 (ARM)
	Kernel: Depends on container host
	Compiler: gcc 12.3.1

32-bit Ubuntu 20.04.4 (ARM)
	Kernel: 5.4.0-155-generic aarch64
	Compiler: gcc 9.4

Debian 12 (arm)
	Kernel: Container Host Kernel
	Compiler: gcc 12.2.0

Fedora 38 (ARM Clang)
	Kernel: Depends on container host
	Compiler: clang 16.0.6

Fedora 38 (ARM)
	Kernel: Depends on container host
	Compiler: gcc 13.2.1

Fedora 39 (ARM Clang)
	Kernel: Depends on container host
	Compiler: clang 17.0.6

Fedora 39 (ARM)
	Kernel: Depends on container host
	Compiler: gcc 13.2.1

Fedora 40 (ARM)
	Kernel: Depends on container host
	Compiler: gcc 14.1.1

Ubuntu 20.04 ARM SVE
	Kernel: 5.4.0-167-generic
	Compiler: gcc (Ubuntu 10.5.0-1ubuntu1~20.04) 10.5.0

To view detailed results, visit:
https://lab.dpdk.org/results/dashboard/patchsets/30499/

UNH-IOL DPDK Community Lab

To manage your email subscriptions, visit: 
https://lab.dpdk.org/results/dashboard/preferences/subscriptions/