From mboxrd@z Thu Jan  1 00:00:00 1970
Return-Path: <test-report-bounces@dpdk.org>
Received: from mails.dpdk.org (mails.dpdk.org [217.70.189.124])
	by inbox.dpdk.org (Postfix) with ESMTP id C00A6455FE
	for <public@inbox.dpdk.org>; Fri, 12 Jul 2024 00:42:43 +0200 (CEST)
Received: from mails.dpdk.org (localhost [127.0.0.1])
	by mails.dpdk.org (Postfix) with ESMTP id BCF2F40299;
	Fri, 12 Jul 2024 00:42:43 +0200 (CEST)
Received: from mail-yb1-f227.google.com (mail-yb1-f227.google.com
 [209.85.219.227])
 by mails.dpdk.org (Postfix) with ESMTP id 2C2074025F
 for <test-report@dpdk.org>; Fri, 12 Jul 2024 00:42:43 +0200 (CEST)
Received: by mail-yb1-f227.google.com with SMTP id
 3f1490d57ef6-e057ae1adbeso1069312276.0
 for <test-report@dpdk.org>; Thu, 11 Jul 2024 15:42:43 -0700 (PDT)
DKIM-Signature: v=1; a=rsa-sha256; c=relaxed/relaxed;
 d=iol.unh.edu; s=unh-iol; t=1720737762; x=1721342562; darn=dpdk.org;
 h=references:in-reply-to:cc:to:from:subject:message-id:date:from:to
 :cc:subject:date:message-id:reply-to;
 bh=6xmQB2lKOA1ZgH1+pWZzaLuTHXwKlrVq0tvFAhzRigc=;
 b=WWI6sgHVsaO7vTEAYUA8Z+xpYwS38g6ktjiSYD3julm44sa9ltNR3/z15zljijE0ss
 KUEkjRML3QUZkSUd+vVGe7T2bxr17oXFEl0hSrV7nJZuwGy1XmI51zhXyHCmy/258ZTV
 bWu6htyJ8lUEJFQ2EbgMxUOKqXtKDUjM/Zhjc=
X-Google-DKIM-Signature: v=1; a=rsa-sha256; c=relaxed/relaxed;
 d=1e100.net; s=20230601; t=1720737762; x=1721342562;
 h=references:in-reply-to:cc:to:from:subject:message-id:date
 :x-gm-message-state:from:to:cc:subject:date:message-id:reply-to;
 bh=6xmQB2lKOA1ZgH1+pWZzaLuTHXwKlrVq0tvFAhzRigc=;
 b=nNChGZaBW3tZgZhXHzyUMpbw9pv1otjSx4bR0vbeo+nYHjIL0IQGZ6MQgcGP2IJgrW
 7MFfaVLoJZRP1fKSYEBq/8c2CFE01v9Q41GCW1m4ZRuPJRCt3i8HhJ7+ZlC821WsZ7PS
 TRwF35+/xfgUGnTFA9kiFdMSoIg13mDPnBAXi7wEfvLg6m2RawFPHa9cOz0ZI2qUzU/e
 3ROEBcTdUIExzImtMM00SfSM/V/HOBDgxv9IB9vqfFGf3HG/hvnap8msOav4dhH7KFnl
 4IxBoMDGRGLstmsusZFPDKkAaU4m0I2LstKMX3wUfiL9bzL+XbkL9AWueDOdmlX0kVG6
 9F/w==
X-Gm-Message-State: AOJu0Yyoas0XLo35sbzrRoRdM3HE3il2LlV0kFZv+a+wy9BBzfbeKkhj
 GxOuW9kOQRrTVj3mqCIDT8ea+sWHvsMsxY2O4+g3gbVb3It9JKQ2rYs47ZQ+IsXXx2zTOZ9KRst
 a7UEnKWL+x0YffssW+xiPvYxaTa5FYtQrjRqMZyKDsgsp6u9RC9pnM4h0
X-Google-Smtp-Source: AGHT+IFhUE7Xhr8l4XPEpfYCu7BsY9N8tsnlwgLvnqW8M0x7uGeuGlnxhqxxHZqvz0DdihhofpM7If81kv4Q
X-Received: by 2002:a05:690c:d84:b0:627:7f2a:3b0d with SMTP id
 00721157ae682-65df7d94c97mr10532457b3.14.1720737762550; 
 Thu, 11 Jul 2024 15:42:42 -0700 (PDT)
Received: from postal.iol.unh.edu (postal.iol.unh.edu.
 [2606:4100:3880:1234::84]) by smtp-relay.gmail.com with ESMTPS id
 00721157ae682-658e44554casm2816527b3.3.2024.07.11.15.42.42
 (version=TLS1_2 cipher=ECDHE-ECDSA-AES128-GCM-SHA256 bits=128/128);
 Thu, 11 Jul 2024 15:42:42 -0700 (PDT)
X-Relaying-Domain: iol.unh.edu
Date: Thu, 11 Jul 2024 15:42:42 -0700 (PDT)
Message-ID: <66905fe2.050a0220.ad615.f319SMTPIN_ADDED_MISSING@mx.google.com>
Received: from [172.21.0.7] (unknown [172.18.0.240])
 by postal.iol.unh.edu (Postfix) with ESMTP id 35BA0605C380;
 Thu, 11 Jul 2024 18:42:42 -0400 (EDT)
Subject: |PENDING| pw142325-142326 [PATCH] [v2,2/2] dts: improve starting and
From: dpdklab@iol.unh.edu
To: Test Report <test-report@dpdk.org>
Cc: dpdk-test-reports@iol.unh.edu
In-Reply-To: <20240711163410.89017-3-jspewock@iol.unh.edu>
References: <20240711163410.89017-3-jspewock@iol.unh.edu>
Content-Type: text/plain
X-BeenThere: test-report@dpdk.org
X-Mailman-Version: 2.1.29
Precedence: list
List-Id: automatic DPDK test reports <test-report.dpdk.org>
List-Unsubscribe: <https://mails.dpdk.org/options/test-report>,
 <mailto:test-report-request@dpdk.org?subject=unsubscribe>
List-Archive: <http://mails.dpdk.org/archives/test-report/>
List-Post: <mailto:test-report@dpdk.org>
List-Help: <mailto:test-report-request@dpdk.org?subject=help>
List-Subscribe: <https://mails.dpdk.org/listinfo/test-report>,
 <mailto:test-report-request@dpdk.org?subject=subscribe>
Errors-To: test-report-bounces@dpdk.org

Test-Label: iol-unit-amd64-testing
Test-Status: PENDING
http://dpdk.org/patch/142326

_Testing pending_

Submitter: Jeremy Spewock <jspewock@iol.unh.edu>
Date: Thursday, July 11 2024 16:34:10 
DPDK git baseline: Repo:dpdk
  Branch: master
  CommitID:6bfdd6a5e8cc0c065eb4a2109052139f4586b714

142325-142326 --> testing pending

Test environment and result as below:

+---------------------+----------------+
|     Environment     | dpdk_unit_test |
+=====================+================+
| Windows Server 2019 | PASS           |
+---------------------+----------------+
| Windows Server 2022 | PASS           |
+---------------------+----------------+
| CentOS Stream 8     | PASS           |
+---------------------+----------------+
| CentOS Stream 9     | PASS           |
+---------------------+----------------+
| Debian Bullseye     | PASS           |
+---------------------+----------------+
| Debian 12           | PASS           |
+---------------------+----------------+
| Fedora 37           | PASS           |
+---------------------+----------------+
| Fedora 38           | PASS           |
+---------------------+----------------+
| Fedora 38 (Clang)   | PASS           |
+---------------------+----------------+
| Fedora 39 (Clang)   | PASS           |
+---------------------+----------------+
| Fedora 39           | PASS           |
+---------------------+----------------+
| Fedora 40           | PASS           |
+---------------------+----------------+
| Fedora 40 (Clang)   | PASS           |
+---------------------+----------------+
| openSUSE Leap 15    | PEND           |
+---------------------+----------------+
| RHEL8               | PEND           |
+---------------------+----------------+
| RHEL9               | PEND           |
+---------------------+----------------+
| Ubuntu 20.04        | PEND           |
+---------------------+----------------+
| Ubuntu 24.04        | PEND           |
+---------------------+----------------+
| Ubuntu 22.04        | PEND           |
+---------------------+----------------+


Windows Server 2019
	Kernel: 10.0.17763
	Compiler: clang 14.0 and gcc 8.1.0 (MinGW)

Windows Server 2022
	Kernel: 10.0.20348.2031
	Compiler: clang 15.0.7, gcc 8.1.0 (MinGW), and MSVC VS 17.9

CentOS Stream 8
	Kernel: 5.4.0-167-generic
	Compiler: gcc 8.5.0 20210514

CentOS Stream 9
	Kernel: 5.4.0-167-generic
	Compiler: gcc 11.4.1 20230605

Debian Bullseye
	Kernel: 5.4.0-167-generic
	Compiler: gcc 10.2.1-6

Debian 12
	Kernel: Container Host Kernel
	Compiler: gcc 12.2.0

Fedora 37
	Kernel: Depends on container host system
	Compiler: gcc 12.3.1

Fedora 38
	Kernel: Depends on container host
	Compiler: gcc 13.2.1

Fedora 38 (Clang)
	Kernel: Depends on container host
	Compiler: clang 16.0.6

Fedora 39 (Clang)
	Kernel: Depends on container host
	Compiler: clang 17.0.6

Fedora 39
	Kernel: Depends on container host
	Compiler: gcc 13.2.1

Fedora 40
	Kernel: Depends on container host
	Compiler: gcc 14.1.1

Fedora 40 (Clang)
	Kernel: Depends on container host
	Compiler: clang 18.1.6

openSUSE Leap 15
	Kernel: 5.4.0-167-generic
	Compiler: gcc 7.5.0

RHEL8
	Kernel: 5.4.0-167-generic
	Compiler: gcc 8.5.0 20210514 (Red Hat 8.5.0-20)

RHEL9
	Kernel: Depends on container host
	Compiler: gcc 11.4.1

Ubuntu 20.04
	Kernel: 5.4.0-167-generic
	Compiler: gcc 9.4.0-1ubuntu1~20.04.1

Ubuntu 24.04
	Kernel: 5.4.0-167-generic
	Compiler: gcc 13.2.0

Ubuntu 22.04
	Kernel: 5.4.0-167-generic
	Compiler: gcc 11.4.0

To view detailed results, visit:
https://lab.dpdk.org/results/dashboard/patchsets/30497/

UNH-IOL DPDK Community Lab

To manage your email subscriptions, visit: 
https://lab.dpdk.org/results/dashboard/preferences/subscriptions/