From mboxrd@z Thu Jan  1 00:00:00 1970
Return-Path: <test-report-bounces@dpdk.org>
Received: from mails.dpdk.org (mails.dpdk.org [217.70.189.124])
	by inbox.dpdk.org (Postfix) with ESMTP id ECCF645603
	for <public@inbox.dpdk.org>; Fri, 12 Jul 2024 01:31:39 +0200 (CEST)
Received: from mails.dpdk.org (localhost [127.0.0.1])
	by mails.dpdk.org (Postfix) with ESMTP id E979140299;
	Fri, 12 Jul 2024 01:31:39 +0200 (CEST)
Received: from mail-io1-f97.google.com (mail-io1-f97.google.com
 [209.85.166.97]) by mails.dpdk.org (Postfix) with ESMTP id DB1804025F
 for <test-report@dpdk.org>; Fri, 12 Jul 2024 01:31:38 +0200 (CEST)
Received: by mail-io1-f97.google.com with SMTP id
 ca18e2360f4ac-7eee7728b00so52649939f.3
 for <test-report@dpdk.org>; Thu, 11 Jul 2024 16:31:38 -0700 (PDT)
DKIM-Signature: v=1; a=rsa-sha256; c=relaxed/relaxed;
 d=iol.unh.edu; s=unh-iol; t=1720740698; x=1721345498; darn=dpdk.org;
 h=references:in-reply-to:cc:to:from:subject:message-id:date:from:to
 :cc:subject:date:message-id:reply-to;
 bh=iM+l0R606t1ptBzVHG9G9RUIK34bFq6rLm4sJ9FvM58=;
 b=am00kxPp322utNZ3irTfuhHbtlxW8bhIbfQymll84j+0GXCDeV8y1KAnoO066SykTr
 Fg0vsjaeaAWUtbDdAj8aPGfkAIQgiOu41LaX967D8R/fuVQecWYBEm+wKv90imUGiXLP
 qFB2RnWYIfXPBQ+2w0xzVxYn/36ajkpAYV0oc=
X-Google-DKIM-Signature: v=1; a=rsa-sha256; c=relaxed/relaxed;
 d=1e100.net; s=20230601; t=1720740698; x=1721345498;
 h=references:in-reply-to:cc:to:from:subject:message-id:date
 :x-gm-message-state:from:to:cc:subject:date:message-id:reply-to;
 bh=iM+l0R606t1ptBzVHG9G9RUIK34bFq6rLm4sJ9FvM58=;
 b=Nw3YAtTW5K5hOZyPCrrGHFN2A7crlwFMi4E8efMi2jeFj/RRtqHbm47lNzfCUwa7dQ
 NTqFWzqCY46tGVP2BhRECPNWAEB5Yc+CayOHdkZSOnpOKJMCEKqjTpRal96KqM2AnGCV
 9TPtPNIxm7nJgQQSPk+ukpZVceNiJMq+7vKRXpg5JZu08VBEcmB4ksbZs1/k06iOX2Bx
 okRODbENV6hDK14BjET2JTv14ywlHIq3NZr7NNDzfww6JUJ/OHouJFsQFgMQ7pD8goNG
 bTCVR4w58Dau9/QBRM0pcs8dKRqgTz6TGec5fHrsk6F91QkTlGSEizUipEkON4D7Gjhf
 8mVg==
X-Gm-Message-State: AOJu0YzVh/c0owJOiGlMuAuC/qYkRNm4ysyzegijUaKKA7nPbSK+Sosp
 zve7/cWxml3wvSnwr8trwIByYCmNgdyXsyugihN8Z9hNxsK1R6P1R9nU4sK5QP43JlB/XHgLeJU
 RMn/ITrQndyYst/SGTNaLL1xVaR636tvVgKHkoFJI
X-Google-Smtp-Source: AGHT+IH77aRdMfU80YacpA6C5sxxGLNo1G6bo3T5lXxuxpUWRZppcFOhe4ws/Xlpc6dU0H4u+A+/Bu5mxubn
X-Received: by 2002:a5e:d71a:0:b0:805:e422:9111 with SMTP id
 ca18e2360f4ac-805e422929dmr642121039f.10.1720740698307; 
 Thu, 11 Jul 2024 16:31:38 -0700 (PDT)
Received: from postal.iol.unh.edu (postal.iol.unh.edu. [132.177.123.84])
 by smtp-relay.gmail.com with ESMTPS id
 8926c6da1cb9f-4c0b1bfc310sm292283173.53.2024.07.11.16.31.38
 (version=TLS1_2 cipher=ECDHE-ECDSA-AES128-GCM-SHA256 bits=128/128);
 Thu, 11 Jul 2024 16:31:38 -0700 (PDT)
X-Relaying-Domain: iol.unh.edu
Date: Thu, 11 Jul 2024 16:31:38 -0700 (PDT)
Message-ID: <66906b5a.050a0220.6f4dc.f8fbSMTPIN_ADDED_MISSING@mx.google.com>
Received: from [172.21.0.8] (unknown [172.18.0.240])
 by postal.iol.unh.edu (Postfix) with ESMTP id C6512605C380;
 Thu, 11 Jul 2024 19:31:37 -0400 (EDT)
Subject: |SUCCESS| pw142327 [PATCH] net/ice: fix sizing of filter hash table
From: dpdklab@iol.unh.edu
To: Test Report <test-report@dpdk.org>
Cc: dpdk-test-reports@iol.unh.edu
In-Reply-To: <20240711165728.1105073-1-bruce.richardson@intel.com>
References: <20240711165728.1105073-1-bruce.richardson@intel.com>
Content-Type: text/plain
X-BeenThere: test-report@dpdk.org
X-Mailman-Version: 2.1.29
Precedence: list
List-Id: automatic DPDK test reports <test-report.dpdk.org>
List-Unsubscribe: <https://mails.dpdk.org/options/test-report>,
 <mailto:test-report-request@dpdk.org?subject=unsubscribe>
List-Archive: <http://mails.dpdk.org/archives/test-report/>
List-Post: <mailto:test-report@dpdk.org>
List-Help: <mailto:test-report-request@dpdk.org?subject=help>
List-Subscribe: <https://mails.dpdk.org/listinfo/test-report>,
 <mailto:test-report-request@dpdk.org?subject=subscribe>
Errors-To: test-report-bounces@dpdk.org

Test-Label: iol-compile-amd64-testing
Test-Status: SUCCESS
http://dpdk.org/patch/142327

_Testing PASS_

Submitter: Bruce Richardson <bruce.richardson@intel.com>
Date: Thursday, July 11 2024 16:57:28 
DPDK git baseline: Repo:dpdk
  Branch: master
  CommitID:e014773daacdb2f4be17061352592e5bb83a1d3f

142327 --> testing pass

Test environment and result as below:

+---------------------+--------------------+----------------------+-------------------+
|     Environment     | dpdk_meson_compile | dpdk_mingw64_compile | dpdk_msvc_compile |
+=====================+====================+======================+===================+
| Windows Server 2019 | PASS               | PASS                 | SKIPPED           |
+---------------------+--------------------+----------------------+-------------------+
| FreeBSD 13.3        | PASS               | SKIPPED              | SKIPPED           |
+---------------------+--------------------+----------------------+-------------------+
| Windows Server 2022 | PASS               | PASS                 | PASS              |
+---------------------+--------------------+----------------------+-------------------+
| FreeBSD 14.1        | PASS               | SKIPPED              | SKIPPED           |
+---------------------+--------------------+----------------------+-------------------+


Windows Server 2019
	Kernel: 10.0.17763
	Compiler: clang 14.0 and gcc 8.1.0 (MinGW)

FreeBSD 13.3
	Kernel: 13.3-RELEASE-p1
	Compiler: clang 17.0.6

Windows Server 2022
	Kernel: 10.0.20348.2031
	Compiler: clang 15.0.7, gcc 8.1.0 (MinGW), and MSVC VS 17.9

FreeBSD 14.1
	Kernel: 14.1
	Compiler: clang 18.1.5

To view detailed results, visit:
https://lab.dpdk.org/results/dashboard/patchsets/30498/

UNH-IOL DPDK Community Lab

To manage your email subscriptions, visit: 
https://lab.dpdk.org/results/dashboard/preferences/subscriptions/