From mboxrd@z Thu Jan  1 00:00:00 1970
Return-Path: <test-report-bounces@dpdk.org>
Received: from mails.dpdk.org (mails.dpdk.org [217.70.189.124])
	by inbox.dpdk.org (Postfix) with ESMTP id 306B445603
	for <public@inbox.dpdk.org>; Fri, 12 Jul 2024 01:32:36 +0200 (CEST)
Received: from mails.dpdk.org (localhost [127.0.0.1])
	by mails.dpdk.org (Postfix) with ESMTP id 2DC8140299;
	Fri, 12 Jul 2024 01:32:36 +0200 (CEST)
Received: from mail-yb1-f225.google.com (mail-yb1-f225.google.com
 [209.85.219.225])
 by mails.dpdk.org (Postfix) with ESMTP id 6231042E60
 for <test-report@dpdk.org>; Fri, 12 Jul 2024 01:32:27 +0200 (CEST)
Received: by mail-yb1-f225.google.com with SMTP id
 3f1490d57ef6-e057c4885b3so1368461276.3
 for <test-report@dpdk.org>; Thu, 11 Jul 2024 16:32:27 -0700 (PDT)
DKIM-Signature: v=1; a=rsa-sha256; c=relaxed/relaxed;
 d=iol.unh.edu; s=unh-iol; t=1720740747; x=1721345547; darn=dpdk.org;
 h=references:in-reply-to:cc:to:from:subject:message-id:date:from:to
 :cc:subject:date:message-id:reply-to;
 bh=xu6GJZo6LIHx86ngq7rxsQMR7o6bfrJUMnux93Ywe04=;
 b=eVfD829dQLiAPsEmkPB5/5wfgb5Dz11CYeGNMzzfsgnPwOIA/0tMm9mQ6KP34T/q1u
 xhUwXqvMfnQFFtwpJUKppDCx6Lgn/C37LHqQg5fQ1/M8mP02NDngc6eOTYDvsefa0r2I
 3XhkGdKF8w7JJ6S8BOV26kMY/dVmGfMsqty8Y=
X-Google-DKIM-Signature: v=1; a=rsa-sha256; c=relaxed/relaxed;
 d=1e100.net; s=20230601; t=1720740747; x=1721345547;
 h=references:in-reply-to:cc:to:from:subject:message-id:date
 :x-gm-message-state:from:to:cc:subject:date:message-id:reply-to;
 bh=xu6GJZo6LIHx86ngq7rxsQMR7o6bfrJUMnux93Ywe04=;
 b=oX1DbSA8u/NBVUrzQpUBnvNdua/cWByPf3KDGFpUua59ZHrGnbvgPeie62JAjv5zGQ
 nxyoR8MciGoCoj3DKR/+dv5qlExsCNkkF5PAckt68LP7d5gvDZsr0m/KReGi98jREPJb
 p/3XlnNTry9b8XtyRSgCFuRZ2MhDtqtsn1i+uAGYjUDzTRsfCvk+dg4zne8fxfV3/Vix
 FpF6mjR0H7tgBaaabrJ/0Cd+EZFq6pTCSWHuSk0bphxruomBYrOkQjfI7J+1NmObHpro
 Arhwfjuohgu/2O1Cw8tC7rtPtOvgC3QWdQHruXJWr29FzuNrd42/xOyvT3fjsKnd85Zi
 nwfA==
X-Gm-Message-State: AOJu0Yw9ySp0qqtICOqzQJn0l1/JKspL2wIBKemdkmCIynLrPLQkm0QQ
 5GEq0OOlwDZk+2/nSrO6ENRtT4dI0DH2sacfRJ5J90reacLbAYr7XNiDeFLjI3DlX8IzOZ798Yi
 HpVXbTe7kKxVSnsCzKwinsmnp1bD044N9DpcV6Vvn/1ln3jPdwETXAJ0C
X-Google-Smtp-Source: AGHT+IEnkvbnK2N6F16nGFzG/rgpOB8rl+rx1e0o3FZ/DAsqJDkVSxtj2eR4D6aJKYi0UDn2KhVirtxIudQJ
X-Received: by 2002:a25:684d:0:b0:e04:e298:3749 with SMTP id
 3f1490d57ef6-e04e298a960mr9073812276.33.1720740746724; 
 Thu, 11 Jul 2024 16:32:26 -0700 (PDT)
Received: from postal.iol.unh.edu (postal.iol.unh.edu.
 [2606:4100:3880:1234::84]) by smtp-relay.gmail.com with ESMTPS id
 3f1490d57ef6-e041a87b34csm309242276.3.2024.07.11.16.32.26
 (version=TLS1_2 cipher=ECDHE-ECDSA-AES128-GCM-SHA256 bits=128/128);
 Thu, 11 Jul 2024 16:32:26 -0700 (PDT)
X-Relaying-Domain: iol.unh.edu
Date: Thu, 11 Jul 2024 16:32:26 -0700 (PDT)
Message-ID: <66906b8a.050a0220.2c9d5e.04b7SMTPIN_ADDED_MISSING@mx.google.com>
Received: from [172.21.0.7] (unknown [172.18.0.240])
 by postal.iol.unh.edu (Postfix) with ESMTP id 61627605C380;
 Thu, 11 Jul 2024 19:32:26 -0400 (EDT)
Subject: |PENDING| pw142327 [PATCH] net/ice: fix sizing of filter hash table
From: dpdklab@iol.unh.edu
To: Test Report <test-report@dpdk.org>
Cc: dpdk-test-reports@iol.unh.edu
In-Reply-To: <20240711165728.1105073-1-bruce.richardson@intel.com>
References: <20240711165728.1105073-1-bruce.richardson@intel.com>
Content-Type: text/plain
X-BeenThere: test-report@dpdk.org
X-Mailman-Version: 2.1.29
Precedence: list
List-Id: automatic DPDK test reports <test-report.dpdk.org>
List-Unsubscribe: <https://mails.dpdk.org/options/test-report>,
 <mailto:test-report-request@dpdk.org?subject=unsubscribe>
List-Archive: <http://mails.dpdk.org/archives/test-report/>
List-Post: <mailto:test-report@dpdk.org>
List-Help: <mailto:test-report-request@dpdk.org?subject=help>
List-Subscribe: <https://mails.dpdk.org/listinfo/test-report>,
 <mailto:test-report-request@dpdk.org?subject=subscribe>
Errors-To: test-report-bounces@dpdk.org

Test-Label: iol-unit-arm64-testing
Test-Status: PENDING
http://dpdk.org/patch/142327

_Testing pending_

Submitter: Bruce Richardson <bruce.richardson@intel.com>
Date: Thursday, July 11 2024 16:57:28 
DPDK git baseline: Repo:dpdk
  Branch: master
  CommitID:e014773daacdb2f4be17061352592e5bb83a1d3f

142327 --> testing pending

Test environment and result as below:

+-----------------------------+----------------+--------------+---------------------------+------------------------------+
|         Environment         | dpdk_unit_test | lpm_autotest | cryptodev_sw_zuc_autotest | cryptodev_sw_snow3g_autotest |
+=============================+================+==============+===========================+==============================+
| CentOS Stream 9 (ARM)       | PASS           | SKIPPED      | SKIPPED                   | SKIPPED                      |
+-----------------------------+----------------+--------------+---------------------------+------------------------------+
| Debian 11 (Buster) (ARM)    | PASS           | SKIPPED      | SKIPPED                   | SKIPPED                      |
+-----------------------------+----------------+--------------+---------------------------+------------------------------+
| Debian 12 (arm)             | PASS           | SKIPPED      | PEND                      | PEND                         |
+-----------------------------+----------------+--------------+---------------------------+------------------------------+
| Fedora 38 (ARM)             | PASS           | SKIPPED      | SKIPPED                   | SKIPPED                      |
+-----------------------------+----------------+--------------+---------------------------+------------------------------+
| Fedora 37 (ARM)             | PASS           | SKIPPED      | SKIPPED                   | SKIPPED                      |
+-----------------------------+----------------+--------------+---------------------------+------------------------------+
| 32-bit Ubuntu 20.04.4 (ARM) | PEND           | SKIPPED      | SKIPPED                   | SKIPPED                      |
+-----------------------------+----------------+--------------+---------------------------+------------------------------+
| Fedora 38 (ARM Clang)       | PEND           | SKIPPED      | SKIPPED                   | SKIPPED                      |
+-----------------------------+----------------+--------------+---------------------------+------------------------------+
| Fedora 39 (ARM)             | PASS           | SKIPPED      | SKIPPED                   | SKIPPED                      |
+-----------------------------+----------------+--------------+---------------------------+------------------------------+
| Fedora 39 (ARM Clang)       | PEND           | SKIPPED      | SKIPPED                   | SKIPPED                      |
+-----------------------------+----------------+--------------+---------------------------+------------------------------+
| Fedora 40 (ARM)             | PEND           | SKIPPED      | SKIPPED                   | SKIPPED                      |
+-----------------------------+----------------+--------------+---------------------------+------------------------------+
| Fedora 40 (ARM Clang)       | PEND           | SKIPPED      | SKIPPED                   | SKIPPED                      |
+-----------------------------+----------------+--------------+---------------------------+------------------------------+
| RHEL9 (ARM)                 | PEND           | SKIPPED      | SKIPPED                   | SKIPPED                      |
+-----------------------------+----------------+--------------+---------------------------+------------------------------+
| Ubuntu 20.04 (ARM)          | PEND           | SKIPPED      | SKIPPED                   | SKIPPED                      |
+-----------------------------+----------------+--------------+---------------------------+------------------------------+
| Ubuntu 24.04 (ARM)          | PEND           | SKIPPED      | SKIPPED                   | SKIPPED                      |
+-----------------------------+----------------+--------------+---------------------------+------------------------------+
| Ubuntu 22.04 (ARM)          | PEND           | SKIPPED      | SKIPPED                   | SKIPPED                      |
+-----------------------------+----------------+--------------+---------------------------+------------------------------+
| Ubuntu 20.04 ARM SVE        | SKIPPED        | PEND         | SKIPPED                   | SKIPPED                      |
+-----------------------------+----------------+--------------+---------------------------+------------------------------+


CentOS Stream 9 (ARM)
	Kernel: Container Host Kernel
	Compiler: gcc 11.4.1

Debian 11 (Buster) (ARM)
	Kernel: Container Host Kernel
	Compiler: gcc 10.2.1

Debian 12 (arm)
	Kernel: Container Host Kernel
	Compiler: gcc 12.2.0

Fedora 38 (ARM)
	Kernel: Depends on container host
	Compiler: gcc 13.2.1

Fedora 37 (ARM)
	Kernel: Depends on container host
	Compiler: gcc 12.3.1

32-bit Ubuntu 20.04.4 (ARM)
	Kernel: 5.4.0-155-generic aarch64
	Compiler: gcc 9.4

Fedora 38 (ARM Clang)
	Kernel: Depends on container host
	Compiler: clang 16.0.6

Fedora 39 (ARM)
	Kernel: Depends on container host
	Compiler: gcc 13.2.1

Fedora 39 (ARM Clang)
	Kernel: Depends on container host
	Compiler: clang 17.0.6

Fedora 40 (ARM)
	Kernel: Depends on container host
	Compiler: gcc 14.1.1

Fedora 40 (ARM Clang)
	Kernel: Depends on container host
	Compiler: clang 18.1.6

RHEL9 (ARM)
	Kernel: Depends on container host
	Compiler: gcc 11.4.1

Ubuntu 20.04 (ARM)
	Kernel: Container Host Kernel
	Compiler: gcc 9.4.0

Ubuntu 24.04 (ARM)
	Kernel: 5.4.0-167-generic
	Compiler: gcc 13.2.0

Ubuntu 22.04 (ARM)
	Kernel: Container Host Kernel
	Compiler: gcc 11.4.0

Ubuntu 20.04 ARM SVE
	Kernel: 5.4.0-167-generic
	Compiler: gcc (Ubuntu 10.5.0-1ubuntu1~20.04) 10.5.0

To view detailed results, visit:
https://lab.dpdk.org/results/dashboard/patchsets/30498/

UNH-IOL DPDK Community Lab

To manage your email subscriptions, visit: 
https://lab.dpdk.org/results/dashboard/preferences/subscriptions/