From mboxrd@z Thu Jan  1 00:00:00 1970
Return-Path: <test-report-bounces@dpdk.org>
Received: from mails.dpdk.org (mails.dpdk.org [217.70.189.124])
	by inbox.dpdk.org (Postfix) with ESMTP id 07D5F45603
	for <public@inbox.dpdk.org>; Fri, 12 Jul 2024 01:35:05 +0200 (CEST)
Received: from mails.dpdk.org (localhost [127.0.0.1])
	by mails.dpdk.org (Postfix) with ESMTP id 0022340299;
	Fri, 12 Jul 2024 01:35:04 +0200 (CEST)
Received: from mail-io1-f100.google.com (mail-io1-f100.google.com
 [209.85.166.100])
 by mails.dpdk.org (Postfix) with ESMTP id C235E4025F
 for <test-report@dpdk.org>; Fri, 12 Jul 2024 01:34:56 +0200 (CEST)
Received: by mail-io1-f100.google.com with SMTP id
 ca18e2360f4ac-809c44ad8caso8892739f.2
 for <test-report@dpdk.org>; Thu, 11 Jul 2024 16:34:56 -0700 (PDT)
DKIM-Signature: v=1; a=rsa-sha256; c=relaxed/relaxed;
 d=iol.unh.edu; s=unh-iol; t=1720740896; x=1721345696; darn=dpdk.org;
 h=references:in-reply-to:cc:to:from:subject:message-id:date:from:to
 :cc:subject:date:message-id:reply-to;
 bh=bOHt8sJtrDWRLcHESI9DkJnaUjyRODRFXnxIPUfJEFI=;
 b=Fao7lco+25NF62+EFo/YEcrisJw/1hDqlSizCOsjxikzxVNraYUHIdTIyKkLN7KZVc
 Nl9j4H8WUItczjIRvCdykR9gfK1LxQljdfuUt0NcHryFacVbuC6dt5snCzT81lojL8mq
 DfSs7wwO/iXxBZKlxHol562aRoSLv17oh6R24=
X-Google-DKIM-Signature: v=1; a=rsa-sha256; c=relaxed/relaxed;
 d=1e100.net; s=20230601; t=1720740896; x=1721345696;
 h=references:in-reply-to:cc:to:from:subject:message-id:date
 :x-gm-message-state:from:to:cc:subject:date:message-id:reply-to;
 bh=bOHt8sJtrDWRLcHESI9DkJnaUjyRODRFXnxIPUfJEFI=;
 b=aTlhDvIwVrj0eA/MczqrBE1nAR7WdrhMw2WxuhCtunVKTI93BNgJqjvF2wD4QKdjWt
 +yVO4xcRXAhigqXPLwlEP0RYtRf7yPMXyZ/wa7cHO64XKNGzBj5E5h0/48HcHM/fmBTv
 U3NwvjGWho2pZU3ROuQPbOfzWT5h1zHNE8z6m7XCoHyW+FdkcGpDfG1MrpW76yCShBdN
 SZ4l8NvyP0PIHXsPXZ42eyo8wKH5V7b54Xum3WK1mgSDYJc/fY6hcYhMKsF1sMeIPDH5
 dJjM+9Kg8oj1hOpe7RPWo1o3dNDrSe8tpo/QZUQvvOh2aomnDyS2WwjoWRr4HbYQIsiT
 XMnQ==
X-Gm-Message-State: AOJu0YxEsHZ7C1uDsZV0MC4FPsN+R9yq7nIux5veUDDwuF7MH+HNAKRs
 ezisvIxQeekDSErHyKbFxGAADfU1jIA/vDwZvayvAq+eRO9w7g3a0CGPCayXC6nwwTONon8JPDT
 0CyDqTY157V81vdTOfN3THT7BQz1rnkN6Bcs6fqF9
X-Google-Smtp-Source: AGHT+IFzjJRDTKlZb/8A6Xj/ImF2ChsQgIfMsDT5njB4ASu0AlxaRXpWgx6rSSm/KQ+r+UlKw+4HtuTJQLH+
X-Received: by 2002:a5e:8d18:0:b0:7fa:4e03:abcd with SMTP id
 ca18e2360f4ac-80003ca8ec4mr1029198339f.14.1720740896111; 
 Thu, 11 Jul 2024 16:34:56 -0700 (PDT)
Received: from postal.iol.unh.edu (postal.iol.unh.edu. [132.177.123.84])
 by smtp-relay.gmail.com with ESMTPS id
 8926c6da1cb9f-4c0b1af876esm306585173.16.2024.07.11.16.34.56
 (version=TLS1_2 cipher=ECDHE-ECDSA-AES128-GCM-SHA256 bits=128/128);
 Thu, 11 Jul 2024 16:34:56 -0700 (PDT)
X-Relaying-Domain: iol.unh.edu
Date: Thu, 11 Jul 2024 16:34:56 -0700 (PDT)
Message-ID: <66906c20.050a0220.8e4f0.0925SMTPIN_ADDED_MISSING@mx.google.com>
Received: from [172.21.0.7] (unknown [172.18.0.240])
 by postal.iol.unh.edu (Postfix) with ESMTP id B8167605C380;
 Thu, 11 Jul 2024 19:34:55 -0400 (EDT)
Subject: |PENDING| pw142328 [PATCH] net/ice: fix possible memory leak
From: dpdklab@iol.unh.edu
To: Test Report <test-report@dpdk.org>
Cc: dpdk-test-reports@iol.unh.edu
In-Reply-To: <20240711165907.3169191-1-vladimir.medvedkin@intel.com>
References: <20240711165907.3169191-1-vladimir.medvedkin@intel.com>
Content-Type: text/plain
X-BeenThere: test-report@dpdk.org
X-Mailman-Version: 2.1.29
Precedence: list
List-Id: automatic DPDK test reports <test-report.dpdk.org>
List-Unsubscribe: <https://mails.dpdk.org/options/test-report>,
 <mailto:test-report-request@dpdk.org?subject=unsubscribe>
List-Archive: <http://mails.dpdk.org/archives/test-report/>
List-Post: <mailto:test-report@dpdk.org>
List-Help: <mailto:test-report-request@dpdk.org?subject=help>
List-Subscribe: <https://mails.dpdk.org/listinfo/test-report>,
 <mailto:test-report-request@dpdk.org?subject=subscribe>
Errors-To: test-report-bounces@dpdk.org

Test-Label: iol-unit-amd64-testing
Test-Status: PENDING
http://dpdk.org/patch/142328

_Testing pending_

Submitter: Medvedkin, Vladimir <vladimir.medvedkin@intel.com>
Date: Thursday, July 11 2024 16:59:07 
DPDK git baseline: Repo:dpdk
  Branch: master
  CommitID:e014773daacdb2f4be17061352592e5bb83a1d3f

142328 --> testing pending

Test environment and result as below:

+---------------------+----------------+
|     Environment     | dpdk_unit_test |
+=====================+================+
| Windows Server 2019 | PASS           |
+---------------------+----------------+
| Windows Server 2022 | PASS           |
+---------------------+----------------+
| CentOS Stream 8     | PASS           |
+---------------------+----------------+
| CentOS Stream 9     | PASS           |
+---------------------+----------------+
| Debian 12           | PASS           |
+---------------------+----------------+
| Debian Bullseye     | PASS           |
+---------------------+----------------+
| Fedora 37           | PASS           |
+---------------------+----------------+
| Fedora 38           | PASS           |
+---------------------+----------------+
| Fedora 38 (Clang)   | PASS           |
+---------------------+----------------+
| Fedora 39 (Clang)   | PASS           |
+---------------------+----------------+
| Fedora 40           | PASS           |
+---------------------+----------------+
| openSUSE Leap 15    | PEND           |
+---------------------+----------------+
| Fedora 40 (Clang)   | PEND           |
+---------------------+----------------+
| RHEL9               | PEND           |
+---------------------+----------------+
| RHEL8               | PEND           |
+---------------------+----------------+
| Ubuntu 22.04        | PEND           |
+---------------------+----------------+
| Ubuntu 24.04        | PEND           |
+---------------------+----------------+
| Ubuntu 20.04        | PEND           |
+---------------------+----------------+


Windows Server 2019
	Kernel: 10.0.17763
	Compiler: clang 14.0 and gcc 8.1.0 (MinGW)

Windows Server 2022
	Kernel: 10.0.20348.2031
	Compiler: clang 15.0.7, gcc 8.1.0 (MinGW), and MSVC VS 17.9

CentOS Stream 8
	Kernel: 5.4.0-167-generic
	Compiler: gcc 8.5.0 20210514

CentOS Stream 9
	Kernel: 5.4.0-167-generic
	Compiler: gcc 11.4.1 20230605

Debian 12
	Kernel: Container Host Kernel
	Compiler: gcc 12.2.0

Debian Bullseye
	Kernel: 5.4.0-167-generic
	Compiler: gcc 10.2.1-6

Fedora 37
	Kernel: Depends on container host system
	Compiler: gcc 12.3.1

Fedora 38
	Kernel: Depends on container host
	Compiler: gcc 13.2.1

Fedora 38 (Clang)
	Kernel: Depends on container host
	Compiler: clang 16.0.6

Fedora 39 (Clang)
	Kernel: Depends on container host
	Compiler: clang 17.0.6

Fedora 40
	Kernel: Depends on container host
	Compiler: gcc 14.1.1

openSUSE Leap 15
	Kernel: 5.4.0-167-generic
	Compiler: gcc 7.5.0

Fedora 40 (Clang)
	Kernel: Depends on container host
	Compiler: clang 18.1.6

RHEL9
	Kernel: Depends on container host
	Compiler: gcc 11.4.1

RHEL8
	Kernel: 5.4.0-167-generic
	Compiler: gcc 8.5.0 20210514 (Red Hat 8.5.0-20)

Ubuntu 22.04
	Kernel: 5.4.0-167-generic
	Compiler: gcc 11.4.0

Ubuntu 24.04
	Kernel: 5.4.0-167-generic
	Compiler: gcc 13.2.0

Ubuntu 20.04
	Kernel: 5.4.0-167-generic
	Compiler: gcc 9.4.0-1ubuntu1~20.04.1

To view detailed results, visit:
https://lab.dpdk.org/results/dashboard/patchsets/30499/

UNH-IOL DPDK Community Lab

To manage your email subscriptions, visit: 
https://lab.dpdk.org/results/dashboard/preferences/subscriptions/