From mboxrd@z Thu Jan  1 00:00:00 1970
Return-Path: <test-report-bounces@dpdk.org>
Received: from mails.dpdk.org (mails.dpdk.org [217.70.189.124])
	by inbox.dpdk.org (Postfix) with ESMTP id 3D24C45603
	for <public@inbox.dpdk.org>; Fri, 12 Jul 2024 01:57:14 +0200 (CEST)
Received: from mails.dpdk.org (localhost [127.0.0.1])
	by mails.dpdk.org (Postfix) with ESMTP id 392C540299;
	Fri, 12 Jul 2024 01:57:14 +0200 (CEST)
Received: from mail-qv1-f100.google.com (mail-qv1-f100.google.com
 [209.85.219.100])
 by mails.dpdk.org (Postfix) with ESMTP id C25ED4025F
 for <test-report@dpdk.org>; Fri, 12 Jul 2024 01:57:12 +0200 (CEST)
Received: by mail-qv1-f100.google.com with SMTP id
 6a1803df08f44-6b5dc36b896so11447176d6.1
 for <test-report@dpdk.org>; Thu, 11 Jul 2024 16:57:12 -0700 (PDT)
DKIM-Signature: v=1; a=rsa-sha256; c=relaxed/relaxed;
 d=iol.unh.edu; s=unh-iol; t=1720742232; x=1721347032; darn=dpdk.org;
 h=references:in-reply-to:cc:to:from:subject:message-id:date:from:to
 :cc:subject:date:message-id:reply-to;
 bh=49+UWeJKaYEBBxqUOY0+tLM45cJ0ibeGJiwJEV0+2oc=;
 b=QpY3ZJqJ6F8OInyaA8i0QubQt+kUTi7++SIwq+U7nllDfnYMRznxs7qeR6guTEsIxK
 +uUotacAIkCpdOoS13O0wBacPg/jgMcyd+CP/MHxTqddV3J4+a06F8eyk3B92ceZVqIC
 jaojfEV8vgepXY9XrES4Wxp/fO1TuHlX+eQsA=
X-Google-DKIM-Signature: v=1; a=rsa-sha256; c=relaxed/relaxed;
 d=1e100.net; s=20230601; t=1720742232; x=1721347032;
 h=references:in-reply-to:cc:to:from:subject:message-id:date
 :x-gm-message-state:from:to:cc:subject:date:message-id:reply-to;
 bh=49+UWeJKaYEBBxqUOY0+tLM45cJ0ibeGJiwJEV0+2oc=;
 b=Omg1RoCjLw6uTwlWGzovJd9m0sTTikG1ZryJvRSzbSg+IFuWPv9X7NYQMaMbK02y4i
 v/Whq+KP1+TnbHlyzHe3gBky5vkF78V3gWlzLiZOQIYOQuo0k1tYeUhdgJGxEN5W9vax
 ocCM6JpaKA7XjEZLtEgBqoENo7lqeasU0u0SV0QTXaOz8LLIVVEPZFvxUTxmVhtVL09U
 yQAYzvrd2C30fykfxPiW4B53wjhTkqSERArHvheT8HswtdWC2DI4bwwqE7J9nkeoyY/q
 gJLEm81JEL59KiBNTjZK6+1w3X2Amm6oOB5UauSumpwIgrw5P0rzl4sURD41nEL358/y
 yyAA==
X-Gm-Message-State: AOJu0YxQdMgina6YxPWPQ2eyV0DssKp9fjWKYtWDw426OzDS75zDyoSU
 ndZKsSSJSaoDnx9hAw7KS2J/5o2sq6TPCxN6OLQy50CSnDlf+Hijb47uETjvGCLZ+fwNFtgYnlA
 fdLFVutoHgjZFeeOZ9PxZ/W2B0GL54JSxLVcZgMV6o+d/qtA3Jrcjw0Y0
X-Google-Smtp-Source: AGHT+IHybCDAJejoRKgThzOETJ90WnCJbUw1RnF4qVhd5Ust2QNxdwb07UQDboc+8YU7BOKXoi9t+kJBQ0i4
X-Received: by 2002:a05:6214:258a:b0:6b4:e21c:d46f with SMTP id
 6a1803df08f44-6b754d92614mr22766666d6.27.1720742232019; 
 Thu, 11 Jul 2024 16:57:12 -0700 (PDT)
Received: from postal.iol.unh.edu (postal.iol.unh.edu.
 [2606:4100:3880:1234::84]) by smtp-relay.gmail.com with ESMTPS id
 6a1803df08f44-6b61b9e2b5asm4558846d6.8.2024.07.11.16.57.11
 (version=TLS1_2 cipher=ECDHE-ECDSA-AES128-GCM-SHA256 bits=128/128);
 Thu, 11 Jul 2024 16:57:12 -0700 (PDT)
X-Relaying-Domain: iol.unh.edu
Date: Thu, 11 Jul 2024 16:57:12 -0700 (PDT)
Message-ID: <66907158.050a0220.fee5d.829aSMTPIN_ADDED_MISSING@mx.google.com>
Received: from [172.21.0.7] (unknown [172.18.0.240])
 by postal.iol.unh.edu (Postfix) with ESMTP id B895B605C380;
 Thu, 11 Jul 2024 19:57:11 -0400 (EDT)
Subject: |PENDING| pw142328 [PATCH] net/ice: fix possible memory leak
From: dpdklab@iol.unh.edu
To: Test Report <test-report@dpdk.org>
Cc: dpdk-test-reports@iol.unh.edu
In-Reply-To: <20240711165907.3169191-1-vladimir.medvedkin@intel.com>
References: <20240711165907.3169191-1-vladimir.medvedkin@intel.com>
Content-Type: text/plain
X-BeenThere: test-report@dpdk.org
X-Mailman-Version: 2.1.29
Precedence: list
List-Id: automatic DPDK test reports <test-report.dpdk.org>
List-Unsubscribe: <https://mails.dpdk.org/options/test-report>,
 <mailto:test-report-request@dpdk.org?subject=unsubscribe>
List-Archive: <http://mails.dpdk.org/archives/test-report/>
List-Post: <mailto:test-report@dpdk.org>
List-Help: <mailto:test-report-request@dpdk.org?subject=help>
List-Subscribe: <https://mails.dpdk.org/listinfo/test-report>,
 <mailto:test-report-request@dpdk.org?subject=subscribe>
Errors-To: test-report-bounces@dpdk.org

Test-Label: iol-compile-amd64-testing
Test-Status: PENDING
http://dpdk.org/patch/142328

_Testing pending_

Submitter: Medvedkin, Vladimir <vladimir.medvedkin@intel.com>
Date: Thursday, July 11 2024 16:59:07 
DPDK git baseline: Repo:dpdk
  Branch: master
  CommitID:e014773daacdb2f4be17061352592e5bb83a1d3f

142328 --> testing pending

Test environment and result as below:

+---------------------+----------------------+--------------------+-------------------+------------------+-------------------+
|     Environment     | dpdk_mingw64_compile | dpdk_meson_compile | dpdk_msvc_compile | dpdk_compile_ovs | dpdk_compile_spdk |
+=====================+======================+====================+===================+==================+===================+
| Windows Server 2022 | PASS                 | PASS               | PASS              | SKIPPED          | SKIPPED           |
+---------------------+----------------------+--------------------+-------------------+------------------+-------------------+
| Windows Server 2019 | PASS                 | PASS               | SKIPPED           | SKIPPED          | SKIPPED           |
+---------------------+----------------------+--------------------+-------------------+------------------+-------------------+
| FreeBSD 13.3        | SKIPPED              | PASS               | SKIPPED           | SKIPPED          | SKIPPED           |
+---------------------+----------------------+--------------------+-------------------+------------------+-------------------+
| FreeBSD 14.1        | SKIPPED              | PASS               | SKIPPED           | SKIPPED          | SKIPPED           |
+---------------------+----------------------+--------------------+-------------------+------------------+-------------------+
| CentOS Stream 8     | SKIPPED              | PEND               | SKIPPED           | PEND             | PEND              |
+---------------------+----------------------+--------------------+-------------------+------------------+-------------------+
| CentOS Stream 9     | SKIPPED              | PEND               | SKIPPED           | PEND             | PEND              |
+---------------------+----------------------+--------------------+-------------------+------------------+-------------------+
| Debian Bullseye     | SKIPPED              | PASS               | SKIPPED           | PASS             | PASS              |
+---------------------+----------------------+--------------------+-------------------+------------------+-------------------+
| Debian 12           | SKIPPED              | PASS               | SKIPPED           | PASS             | PASS              |
+---------------------+----------------------+--------------------+-------------------+------------------+-------------------+
| Fedora 37           | SKIPPED              | PASS               | SKIPPED           | PEND             | PEND              |
+---------------------+----------------------+--------------------+-------------------+------------------+-------------------+
| Fedora 38 (Clang)   | SKIPPED              | PEND               | SKIPPED           | PEND             | PEND              |
+---------------------+----------------------+--------------------+-------------------+------------------+-------------------+
| Fedora 38           | SKIPPED              | PEND               | SKIPPED           | PEND             | PEND              |
+---------------------+----------------------+--------------------+-------------------+------------------+-------------------+
| Fedora 39 (Clang)   | SKIPPED              | PEND               | SKIPPED           | PEND             | PEND              |
+---------------------+----------------------+--------------------+-------------------+------------------+-------------------+
| Fedora 39           | SKIPPED              | PEND               | SKIPPED           | PEND             | PEND              |
+---------------------+----------------------+--------------------+-------------------+------------------+-------------------+
| Fedora 40 (Clang)   | SKIPPED              | PEND               | SKIPPED           | PEND             | PEND              |
+---------------------+----------------------+--------------------+-------------------+------------------+-------------------+
| Fedora 40           | SKIPPED              | PEND               | SKIPPED           | PEND             | PEND              |
+---------------------+----------------------+--------------------+-------------------+------------------+-------------------+
| openSUSE Leap 15    | SKIPPED              | PEND               | SKIPPED           | PEND             | SKIPPED           |
+---------------------+----------------------+--------------------+-------------------+------------------+-------------------+
| RHEL8               | SKIPPED              | PEND               | SKIPPED           | PEND             | SKIPPED           |
+---------------------+----------------------+--------------------+-------------------+------------------+-------------------+
| RHEL9               | SKIPPED              | PEND               | SKIPPED           | PEND             | SKIPPED           |
+---------------------+----------------------+--------------------+-------------------+------------------+-------------------+
| Ubuntu 20.04        | SKIPPED              | PEND               | SKIPPED           | PEND             | SKIPPED           |
+---------------------+----------------------+--------------------+-------------------+------------------+-------------------+
| Ubuntu 22.04        | SKIPPED              | PEND               | SKIPPED           | PEND             | PEND              |
+---------------------+----------------------+--------------------+-------------------+------------------+-------------------+
| Ubuntu 24.04        | SKIPPED              | PEND               | SKIPPED           | PEND             | PEND              |
+---------------------+----------------------+--------------------+-------------------+------------------+-------------------+
| Alpine              | SKIPPED              | PEND               | SKIPPED           | PEND             | SKIPPED           |
+---------------------+----------------------+--------------------+-------------------+------------------+-------------------+


Windows Server 2022
	Kernel: 10.0.20348.2031
	Compiler: clang 15.0.7, gcc 8.1.0 (MinGW), and MSVC VS 17.9

Windows Server 2019
	Kernel: 10.0.17763
	Compiler: clang 14.0 and gcc 8.1.0 (MinGW)

FreeBSD 13.3
	Kernel: 13.3-RELEASE-p1
	Compiler: clang 17.0.6

FreeBSD 14.1
	Kernel: 14.1
	Compiler: clang 18.1.5

CentOS Stream 8
	Kernel: 5.4.0-167-generic
	Compiler: gcc 8.5.0 20210514

CentOS Stream 9
	Kernel: 5.4.0-167-generic
	Compiler: gcc 11.4.1 20230605

Debian Bullseye
	Kernel: 5.4.0-167-generic
	Compiler: gcc 10.2.1-6

Debian 12
	Kernel: Container Host Kernel
	Compiler: gcc 12.2.0

Fedora 37
	Kernel: Depends on container host system
	Compiler: gcc 12.3.1

Fedora 38 (Clang)
	Kernel: Depends on container host
	Compiler: clang 16.0.6

Fedora 38
	Kernel: Depends on container host
	Compiler: gcc 13.2.1

Fedora 39 (Clang)
	Kernel: Depends on container host
	Compiler: clang 17.0.6

Fedora 39
	Kernel: Depends on container host
	Compiler: gcc 13.2.1

Fedora 40 (Clang)
	Kernel: Depends on container host
	Compiler: clang 18.1.6

Fedora 40
	Kernel: Depends on container host
	Compiler: gcc 14.1.1

openSUSE Leap 15
	Kernel: 5.4.0-167-generic
	Compiler: gcc 7.5.0

RHEL8
	Kernel: 5.4.0-167-generic
	Compiler: gcc 8.5.0 20210514 (Red Hat 8.5.0-20)

RHEL9
	Kernel: Depends on container host
	Compiler: gcc 11.4.1

Ubuntu 20.04
	Kernel: 5.4.0-167-generic
	Compiler: gcc 9.4.0-1ubuntu1~20.04.1

Ubuntu 22.04
	Kernel: 5.4.0-167-generic
	Compiler: gcc 11.4.0

Ubuntu 24.04
	Kernel: 5.4.0-167-generic
	Compiler: gcc 13.2.0

Alpine
	Kernel: 5.4.0-167-generic
	Compiler: gcc (Alpine 13.2.1_git20231014) 13.2.1 20231014

To view detailed results, visit:
https://lab.dpdk.org/results/dashboard/patchsets/30499/

UNH-IOL DPDK Community Lab

To manage your email subscriptions, visit: 
https://lab.dpdk.org/results/dashboard/preferences/subscriptions/