From mboxrd@z Thu Jan  1 00:00:00 1970
Return-Path: <test-report-bounces@dpdk.org>
Received: from mails.dpdk.org (mails.dpdk.org [217.70.189.124])
	by inbox.dpdk.org (Postfix) with ESMTP id 277FE45604
	for <public@inbox.dpdk.org>; Fri, 12 Jul 2024 03:07:47 +0200 (CEST)
Received: from mails.dpdk.org (localhost [127.0.0.1])
	by mails.dpdk.org (Postfix) with ESMTP id 246AC402B7;
	Fri, 12 Jul 2024 03:07:47 +0200 (CEST)
Received: from mail-qt1-f226.google.com (mail-qt1-f226.google.com
 [209.85.160.226])
 by mails.dpdk.org (Postfix) with ESMTP id 918E7402AE
 for <test-report@dpdk.org>; Fri, 12 Jul 2024 03:07:45 +0200 (CEST)
Received: by mail-qt1-f226.google.com with SMTP id
 d75a77b69052e-44931f038f9so20749381cf.0
 for <test-report@dpdk.org>; Thu, 11 Jul 2024 18:07:45 -0700 (PDT)
DKIM-Signature: v=1; a=rsa-sha256; c=relaxed/relaxed;
 d=iol.unh.edu; s=unh-iol; t=1720746465; x=1721351265; darn=dpdk.org;
 h=references:in-reply-to:cc:to:from:subject:message-id:date:from:to
 :cc:subject:date:message-id:reply-to;
 bh=R6sdeekyynfjgMusO4zweCmrW+mRw3SzycFJm9l7Crw=;
 b=WRYCU3sX9tk3/XV7s2BGkpd4ZxU/CZ4sHOq72nHV1R/J6f3tiBBIuWrBV4zgo3m/aT
 jXmFgV1dQu12GQtjg7xQaqvj+HppRrKtBjl9QRmC5HAA1jE5iBLcnu+/mXzJA96KQr+j
 ygtJmNj8+4I1LY7Lq8s/nP9oORdCRzPq8Rd+g=
X-Google-DKIM-Signature: v=1; a=rsa-sha256; c=relaxed/relaxed;
 d=1e100.net; s=20230601; t=1720746465; x=1721351265;
 h=references:in-reply-to:cc:to:from:subject:message-id:date
 :x-gm-message-state:from:to:cc:subject:date:message-id:reply-to;
 bh=R6sdeekyynfjgMusO4zweCmrW+mRw3SzycFJm9l7Crw=;
 b=Z3+wBKQxnDyI7/NDeRJejiJ0pu82pmKVLrwX8Fmcet/D9UOFHYJujtLBuUpITQc2hd
 dOlkQf2ePIWRz54FGQt2fKS5684e3h6Yhzb61Ru0QIBWegROoYPj3YhU2UDegkq0gEIi
 ux1LJazFEC472hklwbKEMD3gjedKxLCGRWjs6V0w/rmf1EYpbejzHUhE/LdJ5pSXW68E
 lOz6v5tU/x4by65kxBC5aV5xg5aIOi3A7FGBD2SIMUWuzGhfYWilkK5wGjQLgRjIMgwe
 1sfH2Jq1LOyxF7MhHOmPhxHwBOHK2rCONBkse/rhoJbOXyRNQ87h95CJ+yqpcUeUfNce
 kawQ==
X-Gm-Message-State: AOJu0Yz/3QlJPm+DKBUADjziwc0Gy4rzae7lpx6ichDneYWGLVvsj5HI
 J55k3Q114ufNYKqmVKdypWOGdOXHRLiLd8nhtPVLdahzgRcUBUeFy0/Xc7hxSgWdmH3cFGzpYqt
 De9EOxAkqu68byBkR8S8r3RoPbn1FXgT84lMY/oyZ
X-Google-Smtp-Source: AGHT+IFuAo6KZsWHwlZKATtZTKnJtOPxXbbreYGIxQkhODiugWGydRmH/63LYxuNAN0TFBdeAiRoFBkFy8Kc
X-Received: by 2002:ad4:574d:0:b0:6b5:1d2f:1d3 with SMTP id
 6a1803df08f44-6b754aba9a6mr29436696d6.0.1720746465049; 
 Thu, 11 Jul 2024 18:07:45 -0700 (PDT)
Received: from postal.iol.unh.edu (postal.iol.unh.edu. [132.177.123.84])
 by smtp-relay.gmail.com with ESMTPS id
 6a1803df08f44-6b61ba17817sm4475516d6.30.2024.07.11.18.07.44
 (version=TLS1_2 cipher=ECDHE-ECDSA-AES128-GCM-SHA256 bits=128/128);
 Thu, 11 Jul 2024 18:07:45 -0700 (PDT)
X-Relaying-Domain: iol.unh.edu
Date: Thu, 11 Jul 2024 18:07:45 -0700 (PDT)
Message-ID: <669081e1.050a0220.8fc2f.75c1SMTPIN_ADDED_MISSING@mx.google.com>
Received: from [172.21.0.7] (unknown [172.18.0.240])
 by postal.iol.unh.edu (Postfix) with ESMTP id BE914605C380;
 Thu, 11 Jul 2024 21:07:44 -0400 (EDT)
Subject: |SUCCESS| pw142328 [PATCH] net/ice: fix possible memory leak
From: dpdklab@iol.unh.edu
To: Test Report <test-report@dpdk.org>
Cc: dpdk-test-reports@iol.unh.edu
In-Reply-To: <20240711165907.3169191-1-vladimir.medvedkin@intel.com>
References: <20240711165907.3169191-1-vladimir.medvedkin@intel.com>
Content-Type: text/plain
X-BeenThere: test-report@dpdk.org
X-Mailman-Version: 2.1.29
Precedence: list
List-Id: automatic DPDK test reports <test-report.dpdk.org>
List-Unsubscribe: <https://mails.dpdk.org/options/test-report>,
 <mailto:test-report-request@dpdk.org?subject=unsubscribe>
List-Archive: <http://mails.dpdk.org/archives/test-report/>
List-Post: <mailto:test-report@dpdk.org>
List-Help: <mailto:test-report-request@dpdk.org?subject=help>
List-Subscribe: <https://mails.dpdk.org/listinfo/test-report>,
 <mailto:test-report-request@dpdk.org?subject=subscribe>
Errors-To: test-report-bounces@dpdk.org

Test-Label: iol-compile-arm64-testing
Test-Status: SUCCESS
http://dpdk.org/patch/142328

_Testing PASS_

Submitter: Medvedkin, Vladimir <vladimir.medvedkin@intel.com>
Date: Thursday, July 11 2024 16:59:07 
DPDK git baseline: Repo:dpdk
  Branch: master
  CommitID:e014773daacdb2f4be17061352592e5bb83a1d3f

142328 --> testing pass

Test environment and result as below:

+----------------------------------------+--------------------+
|              Environment               | dpdk_meson_compile |
+========================================+====================+
| RHEL9 (ARM)                            | PASS               |
+----------------------------------------+--------------------+
| Ubuntu 20.04 ARM SVE                   | PASS               |
+----------------------------------------+--------------------+
| Debian 12 with MUSDK                   | PASS               |
+----------------------------------------+--------------------+
| Fedora 37 (ARM)                        | PASS               |
+----------------------------------------+--------------------+
| Fedora 38 (ARM)                        | PASS               |
+----------------------------------------+--------------------+
| Fedora 38 (ARM Clang)                  | PASS               |
+----------------------------------------+--------------------+
| Fedora 39 (ARM)                        | PASS               |
+----------------------------------------+--------------------+
| Fedora 39 (ARM Clang)                  | PASS               |
+----------------------------------------+--------------------+
| Fedora 40 (ARM)                        | PASS               |
+----------------------------------------+--------------------+
| Fedora 40 (ARM Clang)                  | PASS               |
+----------------------------------------+--------------------+
| Ubuntu 20.04 (ARM)                     | PASS               |
+----------------------------------------+--------------------+
| Ubuntu 22.04 (ARM)                     | PASS               |
+----------------------------------------+--------------------+
| Ubuntu 24.04 (ARM)                     | PASS               |
+----------------------------------------+--------------------+
| CentOS Stream 9 (ARM)                  | PASS               |
+----------------------------------------+--------------------+
| Debian 11 (Buster) (ARM)               | PASS               |
+----------------------------------------+--------------------+
| Debian 12 (arm)                        | PASS               |
+----------------------------------------+--------------------+
| Ubuntu 20.04 ARM Clang Cross Compile   | PASS               |
+----------------------------------------+--------------------+
| Ubuntu 20.04 aarch32 GCC Cross Compile | PASS               |
+----------------------------------------+--------------------+
| Ubuntu 20.04 ARM GCC Cross Compile     | PASS               |
+----------------------------------------+--------------------+


RHEL9 (ARM)
	Kernel: Depends on container host
	Compiler: gcc 11.4.1

Ubuntu 20.04 ARM SVE
	Kernel: 5.4.0-167-generic
	Compiler: gcc (Ubuntu 10.5.0-1ubuntu1~20.04) 10.5.0

Debian 12 with MUSDK
	Kernel: Container Host Kernel
	Compiler: gcc 12.2.0

Fedora 37 (ARM)
	Kernel: Depends on container host
	Compiler: gcc 12.3.1

Fedora 38 (ARM)
	Kernel: Depends on container host
	Compiler: gcc 13.2.1

Fedora 38 (ARM Clang)
	Kernel: Depends on container host
	Compiler: clang 16.0.6

Fedora 39 (ARM)
	Kernel: Depends on container host
	Compiler: gcc 13.2.1

Fedora 39 (ARM Clang)
	Kernel: Depends on container host
	Compiler: clang 17.0.6

Fedora 40 (ARM)
	Kernel: Depends on container host
	Compiler: gcc 14.1.1

Fedora 40 (ARM Clang)
	Kernel: Depends on container host
	Compiler: clang 18.1.6

Ubuntu 20.04 (ARM)
	Kernel: Container Host Kernel
	Compiler: gcc 9.4.0

Ubuntu 22.04 (ARM)
	Kernel: Container Host Kernel
	Compiler: gcc 11.4.0

Ubuntu 24.04 (ARM)
	Kernel: 5.4.0-167-generic
	Compiler: gcc 13.2.0

CentOS Stream 9 (ARM)
	Kernel: Container Host Kernel
	Compiler: gcc 11.4.1

Debian 11 (Buster) (ARM)
	Kernel: Container Host Kernel
	Compiler: gcc 10.2.1

Debian 12 (arm)
	Kernel: Container Host Kernel
	Compiler: gcc 12.2.0

Ubuntu 20.04 ARM Clang Cross Compile
	Kernel: 5.4.0-72-generic
	Compiler: clang 10.0.0-4ubuntu1

Ubuntu 20.04 aarch32 GCC Cross Compile
	Kernel: 5.4.0-167-generic
	Compiler: gcc 9.4.0

Ubuntu 20.04 ARM GCC Cross Compile
	Kernel: 5.4.0-167-generic
	Compiler: aarch64-linux-gnu-gcc (Ubuntu 9.4.0-1ubuntu1~20.04.2) 9.4.0

To view detailed results, visit:
https://lab.dpdk.org/results/dashboard/patchsets/30499/

UNH-IOL DPDK Community Lab

To manage your email subscriptions, visit: 
https://lab.dpdk.org/results/dashboard/preferences/subscriptions/