From mboxrd@z Thu Jan  1 00:00:00 1970
Return-Path: <test-report-bounces@dpdk.org>
Received: from mails.dpdk.org (mails.dpdk.org [217.70.189.124])
	by inbox.dpdk.org (Postfix) with ESMTP id 461BF45606
	for <public@inbox.dpdk.org>; Fri, 12 Jul 2024 04:30:58 +0200 (CEST)
Received: from mails.dpdk.org (localhost [127.0.0.1])
	by mails.dpdk.org (Postfix) with ESMTP id 3F8A3402AE;
	Fri, 12 Jul 2024 04:30:58 +0200 (CEST)
Received: from mail-vk1-f225.google.com (mail-vk1-f225.google.com
 [209.85.221.225])
 by mails.dpdk.org (Postfix) with ESMTP id 4753B40289
 for <test-report@dpdk.org>; Fri, 12 Jul 2024 04:30:57 +0200 (CEST)
Received: by mail-vk1-f225.google.com with SMTP id
 71dfb90a1353d-4f30012ebe8so487974e0c.2
 for <test-report@dpdk.org>; Thu, 11 Jul 2024 19:30:57 -0700 (PDT)
DKIM-Signature: v=1; a=rsa-sha256; c=relaxed/relaxed;
 d=iol.unh.edu; s=unh-iol; t=1720751456; x=1721356256; darn=dpdk.org;
 h=references:in-reply-to:cc:to:from:subject:message-id:date:from:to
 :cc:subject:date:message-id:reply-to;
 bh=2ZAsRrccZrAl49rgzAZjMWqG+1WA21Drw5CCg9IclAI=;
 b=QLmJcqLnNBQUZ8HxqK9+mvn1ooHUyl3j/VnCHzc1JA4RQfQkCLgSu9uamheaSBMH0j
 e2iBzjkwje9UX3jDkZ0Ii32UtchKVQ3yCDozgaTf5LVxfK88LjMlqwIPuGhvN71k+63g
 mC6FfV/LjvaRELQ7XHhRTC5hQXuWHPKkwYpmU=
X-Google-DKIM-Signature: v=1; a=rsa-sha256; c=relaxed/relaxed;
 d=1e100.net; s=20230601; t=1720751456; x=1721356256;
 h=references:in-reply-to:cc:to:from:subject:message-id:date
 :x-gm-message-state:from:to:cc:subject:date:message-id:reply-to;
 bh=2ZAsRrccZrAl49rgzAZjMWqG+1WA21Drw5CCg9IclAI=;
 b=KVUr7JoPhNYUnQWzGN8FVygZ4bqmKmZLVEXl4weHlC1kb3+dW1S0YkIUIyufoSKPpW
 9WJLrsZr+WujfzoRK/R1ilyDdhfLMalEascumDXU0zVGQPEXWmt6THbW6j+2rGuSdvFy
 YnS3y+Bu7vTWXYKUchUAoNNo14yxZYCERuq4a0vhdWsC1tkEIUGNl0CWtF0sPm8K1159
 sJMT5sECuh13VzDkXsbEYHS5vk08we9mImWtZWv0Bf2sKRpQgNiaR1sMmVJfYuWau6wT
 njIxIkQxDZJce7uCvgYWIzDQXaB3smkBJu8p/QtevyjH2yQHXGFF6DCMgdoVMnXfEUM1
 K2gA==
X-Gm-Message-State: AOJu0Yw18m+/Q/E7/KpjSE/c3guhjEz0RVlgZvDeEYh8a83TEwbuPVM3
 KvqzkD5uyYK6h+IKEk8tF6TKnFWFURi6fdarNcy313/Ewms68wPGqpwrEQFlP/UghCcibRGLvmR
 C92VkLkHC9aIdV0rrz6yFPMVJuOxP2NWlY4A/ZP9c
X-Google-Smtp-Source: AGHT+IFOdX1K3uV6kFgVdRIt2ZDhfvGgrBjFe/9N0k5kB4JVL0UYX9u6NcfALz9HTe0Y4sHQw2hpsnnmgPR6
X-Received: by 2002:a1f:f485:0:b0:4eb:5fb9:1654 with SMTP id
 71dfb90a1353d-4f33f231deemr9306048e0c.8.1720751456471; 
 Thu, 11 Jul 2024 19:30:56 -0700 (PDT)
Received: from postal.iol.unh.edu (postal.iol.unh.edu. [132.177.123.84])
 by smtp-relay.gmail.com with ESMTPS id
 6a1803df08f44-6b61bab140fsm4472866d6.69.2024.07.11.19.30.56
 (version=TLS1_2 cipher=ECDHE-ECDSA-AES128-GCM-SHA256 bits=128/128);
 Thu, 11 Jul 2024 19:30:56 -0700 (PDT)
X-Relaying-Domain: iol.unh.edu
Date: Thu, 11 Jul 2024 19:30:56 -0700 (PDT)
Message-ID: <66909560.d40a0220.b378b.7781SMTPIN_ADDED_MISSING@mx.google.com>
Received: from [172.21.0.7] (unknown [172.18.0.240])
 by postal.iol.unh.edu (Postfix) with ESMTP id 29D34605C380;
 Thu, 11 Jul 2024 22:30:56 -0400 (EDT)
Subject: |PENDING| pw142332-142334 [PATCH] [v6,3/3] event/dlb2: enhance DLB c
From: dpdklab@iol.unh.edu
To: Test Report <test-report@dpdk.org>
Cc: dpdk-test-reports@iol.unh.edu
In-Reply-To: <20240712001723.2791461-4-abdullah.sevincer@intel.com>
References: <20240712001723.2791461-4-abdullah.sevincer@intel.com>
Content-Type: text/plain
X-BeenThere: test-report@dpdk.org
X-Mailman-Version: 2.1.29
Precedence: list
List-Id: automatic DPDK test reports <test-report.dpdk.org>
List-Unsubscribe: <https://mails.dpdk.org/options/test-report>,
 <mailto:test-report-request@dpdk.org?subject=unsubscribe>
List-Archive: <http://mails.dpdk.org/archives/test-report/>
List-Post: <mailto:test-report@dpdk.org>
List-Help: <mailto:test-report-request@dpdk.org?subject=help>
List-Subscribe: <https://mails.dpdk.org/listinfo/test-report>,
 <mailto:test-report-request@dpdk.org?subject=subscribe>
Errors-To: test-report-bounces@dpdk.org

Test-Label: iol-unit-arm64-testing
Test-Status: PENDING
http://dpdk.org/patch/142334

_Testing pending_

Submitter: Abdullah Sevincer <abdullah.sevincer@intel.com>
Date: Friday, July 12 2024 00:17:23 
DPDK git baseline: Repo:dpdk
  Branch: master
  CommitID:55b2c404060c59fa769d5127a19b947e8de79cac

142332-142334 --> testing pending

Test environment and result as below:

+-----------------------------+----------------+--------------+------------------------------+---------------------------+
|         Environment         | dpdk_unit_test | lpm_autotest | cryptodev_sw_snow3g_autotest | cryptodev_sw_zuc_autotest |
+=============================+================+==============+==============================+===========================+
| 32-bit Ubuntu 20.04.4 (ARM) | PASS           | SKIPPED      | SKIPPED                      | SKIPPED                   |
+-----------------------------+----------------+--------------+------------------------------+---------------------------+
| CentOS Stream 9 (ARM)       | PASS           | SKIPPED      | SKIPPED                      | SKIPPED                   |
+-----------------------------+----------------+--------------+------------------------------+---------------------------+
| Debian 11 (Buster) (ARM)    | PASS           | SKIPPED      | SKIPPED                      | SKIPPED                   |
+-----------------------------+----------------+--------------+------------------------------+---------------------------+
| Debian 12 (arm)             | PASS           | SKIPPED      | PASS                         | PASS                      |
+-----------------------------+----------------+--------------+------------------------------+---------------------------+
| Fedora 37 (ARM)             | PASS           | SKIPPED      | SKIPPED                      | SKIPPED                   |
+-----------------------------+----------------+--------------+------------------------------+---------------------------+
| Fedora 38 (ARM)             | PASS           | SKIPPED      | SKIPPED                      | SKIPPED                   |
+-----------------------------+----------------+--------------+------------------------------+---------------------------+
| Fedora 38 (ARM Clang)       | PASS           | SKIPPED      | SKIPPED                      | SKIPPED                   |
+-----------------------------+----------------+--------------+------------------------------+---------------------------+
| Fedora 39 (ARM)             | PEND           | SKIPPED      | SKIPPED                      | SKIPPED                   |
+-----------------------------+----------------+--------------+------------------------------+---------------------------+
| Fedora 39 (ARM Clang)       | PEND           | SKIPPED      | SKIPPED                      | SKIPPED                   |
+-----------------------------+----------------+--------------+------------------------------+---------------------------+
| Fedora 40 (ARM)             | PASS           | SKIPPED      | SKIPPED                      | SKIPPED                   |
+-----------------------------+----------------+--------------+------------------------------+---------------------------+
| Fedora 40 (ARM Clang)       | PEND           | SKIPPED      | SKIPPED                      | SKIPPED                   |
+-----------------------------+----------------+--------------+------------------------------+---------------------------+
| RHEL9 (ARM)                 | PEND           | SKIPPED      | SKIPPED                      | SKIPPED                   |
+-----------------------------+----------------+--------------+------------------------------+---------------------------+
| Ubuntu 20.04 (ARM)          | PEND           | SKIPPED      | SKIPPED                      | SKIPPED                   |
+-----------------------------+----------------+--------------+------------------------------+---------------------------+
| Ubuntu 22.04 (ARM)          | PEND           | SKIPPED      | SKIPPED                      | SKIPPED                   |
+-----------------------------+----------------+--------------+------------------------------+---------------------------+
| Ubuntu 24.04 (ARM)          | PEND           | SKIPPED      | SKIPPED                      | SKIPPED                   |
+-----------------------------+----------------+--------------+------------------------------+---------------------------+
| Ubuntu 20.04 ARM SVE        | SKIPPED        | PEND         | SKIPPED                      | SKIPPED                   |
+-----------------------------+----------------+--------------+------------------------------+---------------------------+


32-bit Ubuntu 20.04.4 (ARM)
	Kernel: 5.4.0-155-generic aarch64
	Compiler: gcc 9.4

CentOS Stream 9 (ARM)
	Kernel: Container Host Kernel
	Compiler: gcc 11.4.1

Debian 11 (Buster) (ARM)
	Kernel: Container Host Kernel
	Compiler: gcc 10.2.1

Debian 12 (arm)
	Kernel: Container Host Kernel
	Compiler: gcc 12.2.0

Fedora 37 (ARM)
	Kernel: Depends on container host
	Compiler: gcc 12.3.1

Fedora 38 (ARM)
	Kernel: Depends on container host
	Compiler: gcc 13.2.1

Fedora 38 (ARM Clang)
	Kernel: Depends on container host
	Compiler: clang 16.0.6

Fedora 39 (ARM)
	Kernel: Depends on container host
	Compiler: gcc 13.2.1

Fedora 39 (ARM Clang)
	Kernel: Depends on container host
	Compiler: clang 17.0.6

Fedora 40 (ARM)
	Kernel: Depends on container host
	Compiler: gcc 14.1.1

Fedora 40 (ARM Clang)
	Kernel: Depends on container host
	Compiler: clang 18.1.6

RHEL9 (ARM)
	Kernel: Depends on container host
	Compiler: gcc 11.4.1

Ubuntu 20.04 (ARM)
	Kernel: Container Host Kernel
	Compiler: gcc 9.4.0

Ubuntu 22.04 (ARM)
	Kernel: Container Host Kernel
	Compiler: gcc 11.4.0

Ubuntu 24.04 (ARM)
	Kernel: 5.4.0-167-generic
	Compiler: gcc 13.2.0

Ubuntu 20.04 ARM SVE
	Kernel: 5.4.0-167-generic
	Compiler: gcc (Ubuntu 10.5.0-1ubuntu1~20.04) 10.5.0

To view detailed results, visit:
https://lab.dpdk.org/results/dashboard/patchsets/30501/

UNH-IOL DPDK Community Lab

To manage your email subscriptions, visit: 
https://lab.dpdk.org/results/dashboard/preferences/subscriptions/