From mboxrd@z Thu Jan  1 00:00:00 1970
Return-Path: <test-report-bounces@dpdk.org>
Received: from mails.dpdk.org (mails.dpdk.org [217.70.189.124])
	by inbox.dpdk.org (Postfix) with ESMTP id E32F045606
	for <public@inbox.dpdk.org>; Fri, 12 Jul 2024 04:39:38 +0200 (CEST)
Received: from mails.dpdk.org (localhost [127.0.0.1])
	by mails.dpdk.org (Postfix) with ESMTP id DF5D2402AE;
	Fri, 12 Jul 2024 04:39:38 +0200 (CEST)
Received: from mail-yb1-f225.google.com (mail-yb1-f225.google.com
 [209.85.219.225])
 by mails.dpdk.org (Postfix) with ESMTP id 7B33C40289
 for <test-report@dpdk.org>; Fri, 12 Jul 2024 04:39:37 +0200 (CEST)
Received: by mail-yb1-f225.google.com with SMTP id
 3f1490d57ef6-e035dc23a21so1591076276.0
 for <test-report@dpdk.org>; Thu, 11 Jul 2024 19:39:37 -0700 (PDT)
DKIM-Signature: v=1; a=rsa-sha256; c=relaxed/relaxed;
 d=iol.unh.edu; s=unh-iol; t=1720751976; x=1721356776; darn=dpdk.org;
 h=references:in-reply-to:cc:to:from:subject:message-id:date:from:to
 :cc:subject:date:message-id:reply-to;
 bh=q/LLNrVXch5xZAt/h5adlu9d5qfrhepmLVel30p1Zxk=;
 b=K0gs9NhBo4awSnzSWdVPqokmLpm1DkzY5m81+gH//qEatygS/4fve8LrKArYpznovk
 ZPiPz1e+oZVaeHPrXLPMIcQW4ZQ4dcshSGNWcs6fJW9k5kiSrOSrjtQgKLZlmD+VuT0Y
 fVL2SntsWYNc5tNLYeDx9jSDX9hab+vfiV6kA=
X-Google-DKIM-Signature: v=1; a=rsa-sha256; c=relaxed/relaxed;
 d=1e100.net; s=20230601; t=1720751976; x=1721356776;
 h=references:in-reply-to:cc:to:from:subject:message-id:date
 :x-gm-message-state:from:to:cc:subject:date:message-id:reply-to;
 bh=q/LLNrVXch5xZAt/h5adlu9d5qfrhepmLVel30p1Zxk=;
 b=SiKMbqvfa1PSp9/+js/SVnE5Nr6WAqzHkXomhoo3I5ZqoZd+UWBKo8uRblfXFHg50r
 cNpEi6AIVkQrOjzt7zfp9uPJyZep2IilsMfqPw2iLp9vjiNkpbLXPi461f3j2AN7vizN
 mABAkmbXAwOiaOEDYi+lIld5LsJmSC0GOdArIgNVT3Mp0F6FgBlCsFXSGODMzhATHuQ6
 g5gj8NKP2Vi8By0rYdphenknBVnAud8lsyK8qXlckTtiZzvp7aiOBHFus+GinpQPwsPq
 vYGd5ofn34g5ucKHppdjciEoY6AoQE1ZMepYdjad5hzCDikHOHGXE/1zQAQ0fzXx4Yx9
 3xhg==
X-Gm-Message-State: AOJu0Yxd5kJmN7W7uqCrfrQZqyXNwBbW/bp85d9O8B0TPn87M1BhENPg
 M8xzbQ1HG269Df4S0tsJxd/kwTh65OCUPDYnGnqwTzufE+S4QFDBK06eopEeXCglASmYMkldxDK
 O+6mXIaFDPOg/xuRS3+MKAZ5AmtBxqSwleMZLZiIS
X-Google-Smtp-Source: AGHT+IF1qerXot/f82P3qg3NSo8Eax7Z9ooU6fn89Wz/PvTTTuaN3l1ECtTXzNy+ODW6496t14m5v7STi3e+
X-Received: by 2002:a0d:e6c8:0:b0:630:f7c9:80d6 with SMTP id
 00721157ae682-658ef152fcdmr107199867b3.27.1720751976609; 
 Thu, 11 Jul 2024 19:39:36 -0700 (PDT)
Received: from postal.iol.unh.edu (postal.iol.unh.edu. [132.177.123.84])
 by smtp-relay.gmail.com with ESMTPS id
 00721157ae682-658e62f4519sm3186577b3.54.2024.07.11.19.39.36
 (version=TLS1_2 cipher=ECDHE-ECDSA-AES128-GCM-SHA256 bits=128/128);
 Thu, 11 Jul 2024 19:39:36 -0700 (PDT)
X-Relaying-Domain: iol.unh.edu
Date: Thu, 11 Jul 2024 19:39:36 -0700 (PDT)
Message-ID: <66909768.050a0220.5d243.0e10SMTPIN_ADDED_MISSING@mx.google.com>
Received: from [172.21.0.6] (unknown [172.18.0.240])
 by postal.iol.unh.edu (Postfix) with ESMTP id 46725605C380;
 Thu, 11 Jul 2024 22:39:36 -0400 (EDT)
Subject: |PENDING| pw142332-142334 [PATCH] [v6,3/3] event/dlb2: enhance DLB c
From: dpdklab@iol.unh.edu
To: Test Report <test-report@dpdk.org>
Cc: dpdk-test-reports@iol.unh.edu
In-Reply-To: <20240712001723.2791461-4-abdullah.sevincer@intel.com>
References: <20240712001723.2791461-4-abdullah.sevincer@intel.com>
Content-Type: text/plain
X-BeenThere: test-report@dpdk.org
X-Mailman-Version: 2.1.29
Precedence: list
List-Id: automatic DPDK test reports <test-report.dpdk.org>
List-Unsubscribe: <https://mails.dpdk.org/options/test-report>,
 <mailto:test-report-request@dpdk.org?subject=unsubscribe>
List-Archive: <http://mails.dpdk.org/archives/test-report/>
List-Post: <mailto:test-report@dpdk.org>
List-Help: <mailto:test-report-request@dpdk.org?subject=help>
List-Subscribe: <https://mails.dpdk.org/listinfo/test-report>,
 <mailto:test-report-request@dpdk.org?subject=subscribe>
Errors-To: test-report-bounces@dpdk.org

Test-Label: iol-abi-testing
Test-Status: PENDING
http://dpdk.org/patch/142334

_Testing pending_

Submitter: Abdullah Sevincer <abdullah.sevincer@intel.com>
Date: Friday, July 12 2024 00:17:23 
DPDK git baseline: Repo:dpdk
  Branch: master
  CommitID:55b2c404060c59fa769d5127a19b947e8de79cac

142332-142334 --> testing pending

Test environment and result as below:

+-------------------+----------+
|    Environment    | abi_test |
+===================+==========+
| Debian 12         | PASS     |
+-------------------+----------+
| Fedora 38 (Clang) | PASS     |
+-------------------+----------+
| CentOS Stream 9   | PASS     |
+-------------------+----------+
| CentOS Stream 8   | PASS     |
+-------------------+----------+
| Fedora 38         | PEND     |
+-------------------+----------+
| Fedora 37         | PEND     |
+-------------------+----------+
| Debian Bullseye   | PEND     |
+-------------------+----------+
| Fedora 40 (Clang) | PEND     |
+-------------------+----------+
| openSUSE Leap 15  | PEND     |
+-------------------+----------+
| Fedora 40         | PEND     |
+-------------------+----------+
| Ubuntu 24.04      | PEND     |
+-------------------+----------+
| Fedora 39 (Clang) | PEND     |
+-------------------+----------+
| Fedora 39         | PEND     |
+-------------------+----------+
| RHEL9             | PEND     |
+-------------------+----------+
| Ubuntu 22.04      | PEND     |
+-------------------+----------+
| RHEL8             | PEND     |
+-------------------+----------+


Debian 12
	Kernel: Container Host Kernel
	Compiler: gcc 12.2.0

Fedora 38 (Clang)
	Kernel: Depends on container host
	Compiler: clang 16.0.6

CentOS Stream 9
	Kernel: 5.4.0-167-generic
	Compiler: gcc 11.4.1 20230605

CentOS Stream 8
	Kernel: 5.4.0-167-generic
	Compiler: gcc 8.5.0 20210514

Fedora 38
	Kernel: Depends on container host
	Compiler: gcc 13.2.1

Fedora 37
	Kernel: Depends on container host system
	Compiler: gcc 12.3.1

Debian Bullseye
	Kernel: 5.4.0-167-generic
	Compiler: gcc 10.2.1-6

Fedora 40 (Clang)
	Kernel: Depends on container host
	Compiler: clang 18.1.6

openSUSE Leap 15
	Kernel: 5.4.0-167-generic
	Compiler: gcc 7.5.0

Fedora 40
	Kernel: Depends on container host
	Compiler: gcc 14.1.1

Ubuntu 24.04
	Kernel: 5.4.0-167-generic
	Compiler: gcc 13.2.0

Fedora 39 (Clang)
	Kernel: Depends on container host
	Compiler: clang 17.0.6

Fedora 39
	Kernel: Depends on container host
	Compiler: gcc 13.2.1

RHEL9
	Kernel: Depends on container host
	Compiler: gcc 11.4.1

Ubuntu 22.04
	Kernel: 5.4.0-167-generic
	Compiler: gcc 11.4.0

RHEL8
	Kernel: 5.4.0-167-generic
	Compiler: gcc 8.5.0 20210514 (Red Hat 8.5.0-20)

To view detailed results, visit:
https://lab.dpdk.org/results/dashboard/patchsets/30501/

UNH-IOL DPDK Community Lab

To manage your email subscriptions, visit: 
https://lab.dpdk.org/results/dashboard/preferences/subscriptions/