From mboxrd@z Thu Jan  1 00:00:00 1970
Return-Path: <test-report-bounces@dpdk.org>
Received: from mails.dpdk.org (mails.dpdk.org [217.70.189.124])
	by inbox.dpdk.org (Postfix) with ESMTP id CD3A245609
	for <public@inbox.dpdk.org>; Fri, 12 Jul 2024 06:28:26 +0200 (CEST)
Received: from mails.dpdk.org (localhost [127.0.0.1])
	by mails.dpdk.org (Postfix) with ESMTP id AE37F402AE;
	Fri, 12 Jul 2024 06:28:26 +0200 (CEST)
Received: from mail-oo1-f97.google.com (mail-oo1-f97.google.com
 [209.85.161.97]) by mails.dpdk.org (Postfix) with ESMTP id 3307E402A2
 for <test-report@dpdk.org>; Fri, 12 Jul 2024 06:28:25 +0200 (CEST)
Received: by mail-oo1-f97.google.com with SMTP id
 006d021491bc7-5c6661bca43so757691eaf.0
 for <test-report@dpdk.org>; Thu, 11 Jul 2024 21:28:25 -0700 (PDT)
DKIM-Signature: v=1; a=rsa-sha256; c=relaxed/relaxed;
 d=iol.unh.edu; s=unh-iol; t=1720758504; x=1721363304; darn=dpdk.org;
 h=references:in-reply-to:cc:to:from:subject:message-id:date:from:to
 :cc:subject:date:message-id:reply-to;
 bh=Dn0hUEjr0srejT5MGOkInH1kKBuVLEOwNJ5GlSIcGBQ=;
 b=ZErJFAt1mbdZ8+8rV277hEZ12ByJjLRRJssbuQZ17xWk0D9NX6RGbP8PUU6gimqMBQ
 zX6jrePAXziBKKJg+O6uv+N0W0sKwJvFCncg9Yows+XHSSVubbs8+s9knUiVU2MGmPXD
 kQNJ6KV0lLJqNaiJSAZroNi43V6kRtDIIC8Rw=
X-Google-DKIM-Signature: v=1; a=rsa-sha256; c=relaxed/relaxed;
 d=1e100.net; s=20230601; t=1720758504; x=1721363304;
 h=references:in-reply-to:cc:to:from:subject:message-id:date
 :x-gm-message-state:from:to:cc:subject:date:message-id:reply-to;
 bh=Dn0hUEjr0srejT5MGOkInH1kKBuVLEOwNJ5GlSIcGBQ=;
 b=jP77fQzlWIYMMO59OJH6cZS3D9dncmI5zYkzb5ZUbTsR7sNOScMDXb3oj/mzBMim7A
 64/orL5lLqVKRUN2wZX5Q8gqqmJGH9SKlF4HtrJqdtzPO8r6kReHRXZp7+PDiMsC7hWa
 FEUyb23sRPfuGMewGmoqAZMMpSfRH9nAMlbIWtB/8xqhTc8AXEy02iDWH/wG7FGc7si8
 E/DRef1FXfF37aqx/C8kCvwOBs4xANMhqSm9zJ2OvJzRDAQ17i9Lr0Z+ohwQ3Sz29CMi
 Gzmc2okHJQAwL6og0WGEZZFPV/WvhjD64ufSDHyH8G7Tn7NWONt/WIMOxxzF4LTeWJpw
 I2WA==
X-Gm-Message-State: AOJu0YzP9eqZcQ6VgXMolVCt/cuU27aCimjeJCC6PvWY/APOJyj8AX8N
 mIeoMeGLx852Y2j91n/N0h7dxehHuF1UCSBr5O73gkB1Ut3ArfP4bDbMdl2c5MO6nErVELUkecG
 Z/LgBQgP7S0bXCXDCNbnw4gAogvdU9mx9i8lo3mb6Q12pyw16aTT7eB/l
X-Google-Smtp-Source: AGHT+IE1vxtvGj8jGsV3FBl/BcCJ5VJC4TOYFWg2rK8LhIbij5c2ri8eOGnxGgbGWiJqH0RBv73M8+rkQIVq
X-Received: by 2002:a05:6871:b13:b0:25e:1986:d85c with SMTP id
 586e51a60fabf-25eae7cf3f7mr9561158fac.3.1720758504242; 
 Thu, 11 Jul 2024 21:28:24 -0700 (PDT)
Received: from postal.iol.unh.edu (postal.iol.unh.edu.
 [2606:4100:3880:1234::84]) by smtp-relay.gmail.com with ESMTPS id
 586e51a60fabf-25eaa0ae4d7sm290511fac.29.2024.07.11.21.28.24
 (version=TLS1_2 cipher=ECDHE-ECDSA-AES128-GCM-SHA256 bits=128/128);
 Thu, 11 Jul 2024 21:28:24 -0700 (PDT)
X-Relaying-Domain: iol.unh.edu
Date: Thu, 11 Jul 2024 21:28:24 -0700 (PDT)
Message-ID: <6690b0e8.050a0220.1da33.e5fcSMTPIN_ADDED_MISSING@mx.google.com>
Received: from [172.21.0.9] (unknown [172.18.0.240])
 by postal.iol.unh.edu (Postfix) with ESMTP id 99E0B605C380;
 Fri, 12 Jul 2024 00:28:23 -0400 (EDT)
Subject: |PENDING| pw142332-142334 [PATCH] [v6,3/3] event/dlb2: enhance DLB c
From: dpdklab@iol.unh.edu
To: Test Report <test-report@dpdk.org>
Cc: dpdk-test-reports@iol.unh.edu
In-Reply-To: <20240712001723.2791461-4-abdullah.sevincer@intel.com>
References: <20240712001723.2791461-4-abdullah.sevincer@intel.com>
Content-Type: text/plain
X-BeenThere: test-report@dpdk.org
X-Mailman-Version: 2.1.29
Precedence: list
List-Id: automatic DPDK test reports <test-report.dpdk.org>
List-Unsubscribe: <https://mails.dpdk.org/options/test-report>,
 <mailto:test-report-request@dpdk.org?subject=unsubscribe>
List-Archive: <http://mails.dpdk.org/archives/test-report/>
List-Post: <mailto:test-report@dpdk.org>
List-Help: <mailto:test-report-request@dpdk.org?subject=help>
List-Subscribe: <https://mails.dpdk.org/listinfo/test-report>,
 <mailto:test-report-request@dpdk.org?subject=subscribe>
Errors-To: test-report-bounces@dpdk.org

Test-Label: iol-compile-arm64-testing
Test-Status: PENDING
http://dpdk.org/patch/142334

_Testing pending_

Submitter: Abdullah Sevincer <abdullah.sevincer@intel.com>
Date: Friday, July 12 2024 00:17:23 
DPDK git baseline: Repo:dpdk
  Branch: master
  CommitID:55b2c404060c59fa769d5127a19b947e8de79cac

142332-142334 --> testing pending

Test environment and result as below:

+----------------------------------------+--------------------+
|              Environment               | dpdk_meson_compile |
+========================================+====================+
| RHEL9 (ARM)                            | PASS               |
+----------------------------------------+--------------------+
| Ubuntu 20.04 ARM GCC Cross Compile     | PASS               |
+----------------------------------------+--------------------+
| Ubuntu 20.04 ARM SVE                   | PASS               |
+----------------------------------------+--------------------+
| Debian 12 with MUSDK                   | PASS               |
+----------------------------------------+--------------------+
| Fedora 37 (ARM)                        | PEND               |
+----------------------------------------+--------------------+
| Fedora 38 (ARM)                        | PASS               |
+----------------------------------------+--------------------+
| Fedora 38 (ARM Clang)                  | PEND               |
+----------------------------------------+--------------------+
| Fedora 39 (ARM)                        | PEND               |
+----------------------------------------+--------------------+
| Fedora 39 (ARM Clang)                  | PEND               |
+----------------------------------------+--------------------+
| Fedora 40 (ARM)                        | PASS               |
+----------------------------------------+--------------------+
| Fedora 40 (ARM Clang)                  | PEND               |
+----------------------------------------+--------------------+
| Ubuntu 20.04 (ARM)                     | PASS               |
+----------------------------------------+--------------------+
| Ubuntu 22.04 (ARM)                     | PASS               |
+----------------------------------------+--------------------+
| Ubuntu 24.04 (ARM)                     | PASS               |
+----------------------------------------+--------------------+
| CentOS Stream 9 (ARM)                  | PASS               |
+----------------------------------------+--------------------+
| Debian 11 (Buster) (ARM)               | PASS               |
+----------------------------------------+--------------------+
| Debian 12 (arm)                        | PEND               |
+----------------------------------------+--------------------+
| Ubuntu 20.04 ARM Clang Cross Compile   | PEND               |
+----------------------------------------+--------------------+
| Ubuntu 20.04 aarch32 GCC Cross Compile | PASS               |
+----------------------------------------+--------------------+


RHEL9 (ARM)
	Kernel: Depends on container host
	Compiler: gcc 11.4.1

Ubuntu 20.04 ARM GCC Cross Compile
	Kernel: 5.4.0-167-generic
	Compiler: aarch64-linux-gnu-gcc (Ubuntu 9.4.0-1ubuntu1~20.04.2) 9.4.0

Ubuntu 20.04 ARM SVE
	Kernel: 5.4.0-167-generic
	Compiler: gcc (Ubuntu 10.5.0-1ubuntu1~20.04) 10.5.0

Debian 12 with MUSDK
	Kernel: Container Host Kernel
	Compiler: gcc 12.2.0

Fedora 37 (ARM)
	Kernel: Depends on container host
	Compiler: gcc 12.3.1

Fedora 38 (ARM)
	Kernel: Depends on container host
	Compiler: gcc 13.2.1

Fedora 38 (ARM Clang)
	Kernel: Depends on container host
	Compiler: clang 16.0.6

Fedora 39 (ARM)
	Kernel: Depends on container host
	Compiler: gcc 13.2.1

Fedora 39 (ARM Clang)
	Kernel: Depends on container host
	Compiler: clang 17.0.6

Fedora 40 (ARM)
	Kernel: Depends on container host
	Compiler: gcc 14.1.1

Fedora 40 (ARM Clang)
	Kernel: Depends on container host
	Compiler: clang 18.1.6

Ubuntu 20.04 (ARM)
	Kernel: Container Host Kernel
	Compiler: gcc 9.4.0

Ubuntu 22.04 (ARM)
	Kernel: Container Host Kernel
	Compiler: gcc 11.4.0

Ubuntu 24.04 (ARM)
	Kernel: 5.4.0-167-generic
	Compiler: gcc 13.2.0

CentOS Stream 9 (ARM)
	Kernel: Container Host Kernel
	Compiler: gcc 11.4.1

Debian 11 (Buster) (ARM)
	Kernel: Container Host Kernel
	Compiler: gcc 10.2.1

Debian 12 (arm)
	Kernel: Container Host Kernel
	Compiler: gcc 12.2.0

Ubuntu 20.04 ARM Clang Cross Compile
	Kernel: 5.4.0-72-generic
	Compiler: clang 10.0.0-4ubuntu1

Ubuntu 20.04 aarch32 GCC Cross Compile
	Kernel: 5.4.0-167-generic
	Compiler: gcc 9.4.0

To view detailed results, visit:
https://lab.dpdk.org/results/dashboard/patchsets/30501/

UNH-IOL DPDK Community Lab

To manage your email subscriptions, visit: 
https://lab.dpdk.org/results/dashboard/preferences/subscriptions/