From mboxrd@z Thu Jan  1 00:00:00 1970
Return-Path: <test-report-bounces@dpdk.org>
Received: from mails.dpdk.org (mails.dpdk.org [217.70.189.124])
	by inbox.dpdk.org (Postfix) with ESMTP id 588104560F
	for <public@inbox.dpdk.org>; Fri, 12 Jul 2024 11:56:26 +0200 (CEST)
Received: from mails.dpdk.org (localhost [127.0.0.1])
	by mails.dpdk.org (Postfix) with ESMTP id 55D4E42F39;
	Fri, 12 Jul 2024 11:56:26 +0200 (CEST)
Received: from mail-pg1-f226.google.com (mail-pg1-f226.google.com
 [209.85.215.226])
 by mails.dpdk.org (Postfix) with ESMTP id 6E99C40261
 for <test-report@dpdk.org>; Fri, 12 Jul 2024 11:55:54 +0200 (CEST)
Received: by mail-pg1-f226.google.com with SMTP id
 41be03b00d2f7-710437d0affso1288492a12.3
 for <test-report@dpdk.org>; Fri, 12 Jul 2024 02:55:54 -0700 (PDT)
DKIM-Signature: v=1; a=rsa-sha256; c=relaxed/relaxed;
 d=iol.unh.edu; s=unh-iol; t=1720778153; x=1721382953; darn=dpdk.org;
 h=references:in-reply-to:cc:to:from:subject:message-id:date:from:to
 :cc:subject:date:message-id:reply-to;
 bh=LlzQ9gcyjkBLgj+ztnbwgs38FXNM9AnZ13LEPagKU4E=;
 b=Xn9GQdvrzKy+I2ES/E0E/QZZ4R2iOZCv2qh2z28I5EvvT27+6SFM76KvT6Xuf+oTLn
 KwEedvweWauUdopRcZ3JqO8MEoZJlCYF9fkdobAcBSGYR15e5BG7CPFjAd71C4XKKFDN
 5ZXIq56NK02nIco1xn4hLHYwX5N4SJr49m1wE=
X-Google-DKIM-Signature: v=1; a=rsa-sha256; c=relaxed/relaxed;
 d=1e100.net; s=20230601; t=1720778153; x=1721382953;
 h=references:in-reply-to:cc:to:from:subject:message-id:date
 :x-gm-message-state:from:to:cc:subject:date:message-id:reply-to;
 bh=LlzQ9gcyjkBLgj+ztnbwgs38FXNM9AnZ13LEPagKU4E=;
 b=Lrq6XF5pSLwxXTxtyQCHmccKYEqz/54GSdyVnQWusYWxmP2tmzxqobFSHJjr/ZAucr
 UBtOwBrFZHTo6kN/Q7HUKeY5QwMAfjI/yOzjNaY2tVJN9dXQuEyZZPFiAFHf5ktcenNn
 A3Fv+pHynmkMd2QHLxQvT0AGxjLwyl67wR4FOsq0Q6kXp7eat5NUBxmA3iQQUxrudNJ0
 YvcFSiD4FIQQcM7KmhV7PIVfkS4ECDqTRauxsQTiGpR7Bw4JYYebm27Rh6DmY/OV5wjV
 brnuOaMgC5qqHAT4XN2wtQ0AuYjVQO7MjyCk4hLv01coszGixM+2cbXbZIqbcw2MKqwg
 LBcw==
X-Gm-Message-State: AOJu0YxEMpNLMmfbe7C8raD6NbbCumCNLts4Jhz9YPM+7JfD4H0ECqfS
 ovLoHzwnA0sGFTH9JROIFEO/udGWFUucvfVKX/zxF3YUxR40K5JhlmmsMu9XxBJEIG44Eg7NtJn
 m7fzh9qKezTrNRc3GKp4W7LMDvMWhPyhvGRJcYVea
X-Google-Smtp-Source: AGHT+IEkGCizTs3UtDVDgJFBAEuxWJAY8oM3SWL7osl6cM2Ul3fRF+AC24UWxCeRgvi1tp18OnzMAjawcVyG
X-Received: by 2002:a05:6a20:438f:b0:1c3:b264:e060 with SMTP id
 adf61e73a8af0-1c3b264e0eamr5341902637.4.1720778153575; 
 Fri, 12 Jul 2024 02:55:53 -0700 (PDT)
Received: from postal.iol.unh.edu (postal.iol.unh.edu. [132.177.123.84])
 by smtp-relay.gmail.com with ESMTPS id
 d9443c01a7336-1fbb6a1321csm3147765ad.24.2024.07.12.02.55.53
 (version=TLS1_2 cipher=ECDHE-ECDSA-AES128-GCM-SHA256 bits=128/128);
 Fri, 12 Jul 2024 02:55:53 -0700 (PDT)
X-Relaying-Domain: iol.unh.edu
Date: Fri, 12 Jul 2024 02:55:53 -0700 (PDT)
Message-ID: <6690fda9.170a0220.2013a.f588SMTPIN_ADDED_MISSING@mx.google.com>
Received: from [172.21.0.7] (unknown [172.18.0.240])
 by postal.iol.unh.edu (Postfix) with ESMTP id B9A3A605C351;
 Fri, 12 Jul 2024 05:55:52 -0400 (EDT)
Subject: |PENDING| pw142335-142339 [PATCH] [v8,5/5] dts: add API doc generati
From: dpdklab@iol.unh.edu
To: Test Report <test-report@dpdk.org>
Cc: dpdk-test-reports@iol.unh.edu
In-Reply-To: <20240712085724.21065-6-juraj.linkes@pantheon.tech>
References: <20240712085724.21065-6-juraj.linkes@pantheon.tech>
Content-Type: text/plain
X-BeenThere: test-report@dpdk.org
X-Mailman-Version: 2.1.29
Precedence: list
List-Id: automatic DPDK test reports <test-report.dpdk.org>
List-Unsubscribe: <https://mails.dpdk.org/options/test-report>,
 <mailto:test-report-request@dpdk.org?subject=unsubscribe>
List-Archive: <http://mails.dpdk.org/archives/test-report/>
List-Post: <mailto:test-report@dpdk.org>
List-Help: <mailto:test-report-request@dpdk.org?subject=help>
List-Subscribe: <https://mails.dpdk.org/listinfo/test-report>,
 <mailto:test-report-request@dpdk.org?subject=subscribe>
Errors-To: test-report-bounces@dpdk.org

Test-Label: iol-unit-amd64-testing
Test-Status: PENDING
http://dpdk.org/patch/142339

_Testing pending_

Submitter: Juraj Linkes <juraj.linkes@pantheon.tech>
Date: Friday, July 12 2024 08:57:24 
DPDK git baseline: Repo:dpdk
  Branch: master
  CommitID:76fa7797c09d5b6bb4aaed8a8f48a3afd6fb2548

142335-142339 --> testing pending

Test environment and result as below:

+---------------------+----------------+
|     Environment     | dpdk_unit_test |
+=====================+================+
| Windows Server 2019 | PASS           |
+---------------------+----------------+
| Windows Server 2022 | PASS           |
+---------------------+----------------+
| CentOS Stream 8     | PASS           |
+---------------------+----------------+
| CentOS Stream 9     | PEND           |
+---------------------+----------------+
| Debian Bullseye     | PEND           |
+---------------------+----------------+
| Debian 12           | PASS           |
+---------------------+----------------+
| Fedora 38 (Clang)   | PEND           |
+---------------------+----------------+
| Fedora 38           | PEND           |
+---------------------+----------------+
| Fedora 37           | PEND           |
+---------------------+----------------+
| Fedora 39 (Clang)   | PEND           |
+---------------------+----------------+
| Fedora 39           | PEND           |
+---------------------+----------------+
| Fedora 40           | PEND           |
+---------------------+----------------+
| Fedora 40 (Clang)   | PEND           |
+---------------------+----------------+
| openSUSE Leap 15    | PEND           |
+---------------------+----------------+
| RHEL8               | PEND           |
+---------------------+----------------+
| RHEL9               | PEND           |
+---------------------+----------------+
| Ubuntu 20.04        | PEND           |
+---------------------+----------------+
| Ubuntu 22.04        | PEND           |
+---------------------+----------------+
| Ubuntu 24.04        | PEND           |
+---------------------+----------------+


Windows Server 2019
	Kernel: 10.0.17763
	Compiler: clang 14.0 and gcc 8.1.0 (MinGW)

Windows Server 2022
	Kernel: 10.0.20348.2031
	Compiler: clang 15.0.7, gcc 8.1.0 (MinGW), and MSVC VS 17.9

CentOS Stream 8
	Kernel: 5.4.0-167-generic
	Compiler: gcc 8.5.0 20210514

CentOS Stream 9
	Kernel: 5.4.0-167-generic
	Compiler: gcc 11.4.1 20230605

Debian Bullseye
	Kernel: 5.4.0-167-generic
	Compiler: gcc 10.2.1-6

Debian 12
	Kernel: Container Host Kernel
	Compiler: gcc 12.2.0

Fedora 38 (Clang)
	Kernel: Depends on container host
	Compiler: clang 16.0.6

Fedora 38
	Kernel: Depends on container host
	Compiler: gcc 13.2.1

Fedora 37
	Kernel: Depends on container host system
	Compiler: gcc 12.3.1

Fedora 39 (Clang)
	Kernel: Depends on container host
	Compiler: clang 17.0.6

Fedora 39
	Kernel: Depends on container host
	Compiler: gcc 13.2.1

Fedora 40
	Kernel: Depends on container host
	Compiler: gcc 14.1.1

Fedora 40 (Clang)
	Kernel: Depends on container host
	Compiler: clang 18.1.6

openSUSE Leap 15
	Kernel: 5.4.0-167-generic
	Compiler: gcc 7.5.0

RHEL8
	Kernel: 5.4.0-167-generic
	Compiler: gcc 8.5.0 20210514 (Red Hat 8.5.0-20)

RHEL9
	Kernel: Depends on container host
	Compiler: gcc 11.4.1

Ubuntu 20.04
	Kernel: 5.4.0-167-generic
	Compiler: gcc 9.4.0-1ubuntu1~20.04.1

Ubuntu 22.04
	Kernel: 5.4.0-167-generic
	Compiler: gcc 11.4.0

Ubuntu 24.04
	Kernel: 5.4.0-167-generic
	Compiler: gcc 13.2.0

To view detailed results, visit:
https://lab.dpdk.org/results/dashboard/patchsets/30502/

UNH-IOL DPDK Community Lab

To manage your email subscriptions, visit: 
https://lab.dpdk.org/results/dashboard/preferences/subscriptions/