From mboxrd@z Thu Jan  1 00:00:00 1970
Return-Path: <test-report-bounces@dpdk.org>
Received: from mails.dpdk.org (mails.dpdk.org [217.70.189.124])
	by inbox.dpdk.org (Postfix) with ESMTP id EB9BB45610
	for <public@inbox.dpdk.org>; Fri, 12 Jul 2024 12:03:48 +0200 (CEST)
Received: from mails.dpdk.org (localhost [127.0.0.1])
	by mails.dpdk.org (Postfix) with ESMTP id E734642E6C;
	Fri, 12 Jul 2024 12:03:48 +0200 (CEST)
Received: from mail-qv1-f98.google.com (mail-qv1-f98.google.com
 [209.85.219.98]) by mails.dpdk.org (Postfix) with ESMTP id 11CFB40261
 for <test-report@dpdk.org>; Fri, 12 Jul 2024 12:03:47 +0200 (CEST)
Received: by mail-qv1-f98.google.com with SMTP id
 6a1803df08f44-6b5eb69e04cso11075316d6.1
 for <test-report@dpdk.org>; Fri, 12 Jul 2024 03:03:47 -0700 (PDT)
DKIM-Signature: v=1; a=rsa-sha256; c=relaxed/relaxed;
 d=iol.unh.edu; s=unh-iol; t=1720778626; x=1721383426; darn=dpdk.org;
 h=references:in-reply-to:cc:to:from:subject:message-id:date:from:to
 :cc:subject:date:message-id:reply-to;
 bh=EPgUoTsQcvBmBsiNTt6q5nE+m/KE/8bRLnUJOE2MJps=;
 b=XrYvbOYH71td5+WFgjGfPVTHDAI0Z3Rtl/9JM/xfzox+LfQbscC6PrE44IZTU31rQU
 SOKCD7Yalcpi5fqpy5Iv4BoGqK4CKEpvJT7eJhSzzrkMvPbX6CmNoPCYp18sS20iXzfK
 N8e+ek1k204dVbVXQlpCykyqOg72dFWfGGMXI=
X-Google-DKIM-Signature: v=1; a=rsa-sha256; c=relaxed/relaxed;
 d=1e100.net; s=20230601; t=1720778626; x=1721383426;
 h=references:in-reply-to:cc:to:from:subject:message-id:date
 :x-gm-message-state:from:to:cc:subject:date:message-id:reply-to;
 bh=EPgUoTsQcvBmBsiNTt6q5nE+m/KE/8bRLnUJOE2MJps=;
 b=Yqql0y4FRIb0S6vJgJe/KHYeDxBxeTgChP4Dgb7DXskB43i00yXjtJHaKEu8RrV0Yk
 ahd8RYsnmtzptWWCGjJst4rh2xu6prMFK4Sp1Ai8BbAmqBvuSsQiBTAiRRvMF+eivbUk
 ClqRDn7qr6CEK38SByeomBXQUjkR7kIiVupEGotmMBev6aaOMxZS4SYWI5FjY95ka5Or
 gDAajIAz76iGbe7O0ZdqkTLahTvfpRg50ljD9STkco3iJ3OYOZNsA96VxfGuxF5cTzSl
 DKzgb6Y5VzvMDtSEvaLbo29BPzNE8Boy6rPYQ1yueVk9CsgfEh9JDVA+U2ZULOZx7SU3
 n54Q==
X-Gm-Message-State: AOJu0YyeB42LwCoSs1PS0G+1xbodjQh99a+wplY0qHSJ/Nf23u2O+sDo
 puTKnwBMTcyvZrAExuXy2gx6QnF0LwDEx1KB6xJG2mBj3Mszn9ePj4RdcP5pH2TGO8MAk9YNe8v
 Jhmg0fL5GWzwnPmqrqTZZe7zq6c9nO2ds+YCMiBVa
X-Google-Smtp-Source: AGHT+IE0aSWqeiMz1nVz3Wj4feqLPsvQwvA97IKcxqL8PwO6JOf86uwJvePf+IDnFo0sw56lM4LAJBXisOyZ
X-Received: by 2002:a05:6214:5015:b0:6b0:90d8:b698 with SMTP id
 6a1803df08f44-6b61c1b5ac0mr146667856d6.45.1720778626340; 
 Fri, 12 Jul 2024 03:03:46 -0700 (PDT)
Received: from postal.iol.unh.edu (postal.iol.unh.edu. [132.177.123.84])
 by smtp-relay.gmail.com with ESMTPS id
 6a1803df08f44-6b61ba35ed2sm4699956d6.42.2024.07.12.03.03.46
 (version=TLS1_2 cipher=ECDHE-ECDSA-AES128-GCM-SHA256 bits=128/128);
 Fri, 12 Jul 2024 03:03:46 -0700 (PDT)
X-Relaying-Domain: iol.unh.edu
Date: Fri, 12 Jul 2024 03:03:46 -0700 (PDT)
Message-ID: <6690ff82.050a0220.ad6b9.8816SMTPIN_ADDED_MISSING@mx.google.com>
Received: from [172.21.0.6] (unknown [172.18.0.240])
 by postal.iol.unh.edu (Postfix) with ESMTP id 09CB1605C351;
 Fri, 12 Jul 2024 06:03:46 -0400 (EDT)
Subject: |PENDING| pw142335-142339 [PATCH] [v8,5/5] dts: add API doc generati
From: dpdklab@iol.unh.edu
To: Test Report <test-report@dpdk.org>
Cc: dpdk-test-reports@iol.unh.edu
In-Reply-To: <20240712085724.21065-6-juraj.linkes@pantheon.tech>
References: <20240712085724.21065-6-juraj.linkes@pantheon.tech>
Content-Type: text/plain
X-BeenThere: test-report@dpdk.org
X-Mailman-Version: 2.1.29
Precedence: list
List-Id: automatic DPDK test reports <test-report.dpdk.org>
List-Unsubscribe: <https://mails.dpdk.org/options/test-report>,
 <mailto:test-report-request@dpdk.org?subject=unsubscribe>
List-Archive: <http://mails.dpdk.org/archives/test-report/>
List-Post: <mailto:test-report@dpdk.org>
List-Help: <mailto:test-report-request@dpdk.org?subject=help>
List-Subscribe: <https://mails.dpdk.org/listinfo/test-report>,
 <mailto:test-report-request@dpdk.org?subject=subscribe>
Errors-To: test-report-bounces@dpdk.org

Test-Label: iol-unit-amd64-testing
Test-Status: PENDING
http://dpdk.org/patch/142339

_Testing pending_

Submitter: Juraj Linkes <juraj.linkes@pantheon.tech>
Date: Friday, July 12 2024 08:57:24 
DPDK git baseline: Repo:dpdk
  Branch: master
  CommitID:76fa7797c09d5b6bb4aaed8a8f48a3afd6fb2548

142335-142339 --> testing pending

Test environment and result as below:

+---------------------+----------------+
|     Environment     | dpdk_unit_test |
+=====================+================+
| Windows Server 2019 | PASS           |
+---------------------+----------------+
| Windows Server 2022 | PASS           |
+---------------------+----------------+
| CentOS Stream 8     | PASS           |
+---------------------+----------------+
| CentOS Stream 9     | PASS           |
+---------------------+----------------+
| Debian Bullseye     | PASS           |
+---------------------+----------------+
| Debian 12           | PASS           |
+---------------------+----------------+
| Fedora 38 (Clang)   | PEND           |
+---------------------+----------------+
| Fedora 38           | PASS           |
+---------------------+----------------+
| Fedora 37           | PEND           |
+---------------------+----------------+
| Fedora 39 (Clang)   | PEND           |
+---------------------+----------------+
| Fedora 39           | PEND           |
+---------------------+----------------+
| Fedora 40           | PEND           |
+---------------------+----------------+
| Fedora 40 (Clang)   | PEND           |
+---------------------+----------------+
| openSUSE Leap 15    | PEND           |
+---------------------+----------------+
| RHEL8               | PEND           |
+---------------------+----------------+
| RHEL9               | PEND           |
+---------------------+----------------+
| Ubuntu 20.04        | PEND           |
+---------------------+----------------+
| Ubuntu 22.04        | PEND           |
+---------------------+----------------+
| Ubuntu 24.04        | PEND           |
+---------------------+----------------+


Windows Server 2019
	Kernel: 10.0.17763
	Compiler: clang 14.0 and gcc 8.1.0 (MinGW)

Windows Server 2022
	Kernel: 10.0.20348.2031
	Compiler: clang 15.0.7, gcc 8.1.0 (MinGW), and MSVC VS 17.9

CentOS Stream 8
	Kernel: 5.4.0-167-generic
	Compiler: gcc 8.5.0 20210514

CentOS Stream 9
	Kernel: 5.4.0-167-generic
	Compiler: gcc 11.4.1 20230605

Debian Bullseye
	Kernel: 5.4.0-167-generic
	Compiler: gcc 10.2.1-6

Debian 12
	Kernel: Container Host Kernel
	Compiler: gcc 12.2.0

Fedora 38 (Clang)
	Kernel: Depends on container host
	Compiler: clang 16.0.6

Fedora 38
	Kernel: Depends on container host
	Compiler: gcc 13.2.1

Fedora 37
	Kernel: Depends on container host system
	Compiler: gcc 12.3.1

Fedora 39 (Clang)
	Kernel: Depends on container host
	Compiler: clang 17.0.6

Fedora 39
	Kernel: Depends on container host
	Compiler: gcc 13.2.1

Fedora 40
	Kernel: Depends on container host
	Compiler: gcc 14.1.1

Fedora 40 (Clang)
	Kernel: Depends on container host
	Compiler: clang 18.1.6

openSUSE Leap 15
	Kernel: 5.4.0-167-generic
	Compiler: gcc 7.5.0

RHEL8
	Kernel: 5.4.0-167-generic
	Compiler: gcc 8.5.0 20210514 (Red Hat 8.5.0-20)

RHEL9
	Kernel: Depends on container host
	Compiler: gcc 11.4.1

Ubuntu 20.04
	Kernel: 5.4.0-167-generic
	Compiler: gcc 9.4.0-1ubuntu1~20.04.1

Ubuntu 22.04
	Kernel: 5.4.0-167-generic
	Compiler: gcc 11.4.0

Ubuntu 24.04
	Kernel: 5.4.0-167-generic
	Compiler: gcc 13.2.0

To view detailed results, visit:
https://lab.dpdk.org/results/dashboard/patchsets/30502/

UNH-IOL DPDK Community Lab

To manage your email subscriptions, visit: 
https://lab.dpdk.org/results/dashboard/preferences/subscriptions/