From mboxrd@z Thu Jan  1 00:00:00 1970
Return-Path: <test-report-bounces@dpdk.org>
Received: from mails.dpdk.org (mails.dpdk.org [217.70.189.124])
	by inbox.dpdk.org (Postfix) with ESMTP id B4124455D7
	for <public@inbox.dpdk.org>; Tue, 16 Jul 2024 02:35:59 +0200 (CEST)
Received: from mails.dpdk.org (localhost [127.0.0.1])
	by mails.dpdk.org (Postfix) with ESMTP id B19EB40DF5;
	Tue, 16 Jul 2024 02:35:59 +0200 (CEST)
Received: from mail-yb1-f227.google.com (mail-yb1-f227.google.com
 [209.85.219.227])
 by mails.dpdk.org (Postfix) with ESMTP id B09CE40274
 for <test-report@dpdk.org>; Tue, 16 Jul 2024 02:35:55 +0200 (CEST)
Received: by mail-yb1-f227.google.com with SMTP id
 3f1490d57ef6-e03a0faee1eso4602189276.1
 for <test-report@dpdk.org>; Mon, 15 Jul 2024 17:35:55 -0700 (PDT)
DKIM-Signature: v=1; a=rsa-sha256; c=relaxed/relaxed;
 d=iol.unh.edu; s=unh-iol; t=1721090155; x=1721694955; darn=dpdk.org;
 h=references:in-reply-to:cc:to:from:subject:message-id:date:from:to
 :cc:subject:date:message-id:reply-to;
 bh=LpDeMW/aWC/V9HBz8mq4txYHVP/cTshtcr7DtPWSLP8=;
 b=W+2og24NpcNBa1yDs3bF3kTLOLn38F/gBuTZEi/popGarFzwbHEZdcOyZLstYenVsp
 F3VFFUZpzDLuNQ3HJHLVYBqKFNwhZ1HWO8vT0x/VSFEZrZa5e9g3J/X1EcTtr3lSCd24
 5pOwSwyWM1krBI33pLRJPM+qu06WVqkEt9NjQ=
X-Google-DKIM-Signature: v=1; a=rsa-sha256; c=relaxed/relaxed;
 d=1e100.net; s=20230601; t=1721090155; x=1721694955;
 h=references:in-reply-to:cc:to:from:subject:message-id:date
 :x-gm-message-state:from:to:cc:subject:date:message-id:reply-to;
 bh=LpDeMW/aWC/V9HBz8mq4txYHVP/cTshtcr7DtPWSLP8=;
 b=cEjBjJMQ/ah6V9ujG/6X71Kia+WddCbits8ratqbRa1IgMjntFscPgUeDs7uEQYYrZ
 0/wO99zmPBX4pwkE5KCj+5e1AdH1tcuzBELF8JzYVTsf6ROpXl00uT6ZtMCYyZpaw4X5
 YC6fvGM4FQdHlytJ+EbRaiEROaDdEhPdlQvYcgfStkPoyJ6wvBCghQ5g0hFoGqNRNJxm
 rlDguo3i/1Gb3zUe+f13nqqMYzsB28Gyqy8r/f/w3IskSZOWgJGpzxfyIG6YO2asfQix
 ogGWPY7G5E7twFZMlC+dQFDkexEsdjv8oxsgiWO7JXzt4V1FXP0WHck3R9h+XrVQAXki
 rB8A==
X-Gm-Message-State: AOJu0Yw8YS0wytuSyTpegXw5V34t1YWxwYvLxRdL9bj1/aWETSvcMHA7
 y/1yjezqhUXOn4lLdGnZxuKrYi2pz/CuhftClrOar34QNks3ZAGbzQSCJardaoiJE6n2LnBwQlX
 GEnko2sQ8n+02sh71UFZcL+Q903EpdB3LrHfsPLGy6VxgPhezihu77rDC
X-Google-Smtp-Source: AGHT+IFtceqE9cJSlb0Dh33S3HpxgY77q9thdjGllsTkJPe0Ew+HlofsaxWt77oxkvErjR9TBmp5HR7F1J/Q
X-Received: by 2002:a05:690c:ecf:b0:650:4542:56e6 with SMTP id
 00721157ae682-66381abfa0dmr7641637b3.48.1721090155033; 
 Mon, 15 Jul 2024 17:35:55 -0700 (PDT)
Received: from postal.iol.unh.edu (postal.iol.unh.edu.
 [2606:4100:3880:1234::84]) by smtp-relay.gmail.com with ESMTPS id
 00721157ae682-65fc4c1818fsm2078637b3.55.2024.07.15.17.35.54
 (version=TLS1_2 cipher=ECDHE-ECDSA-AES128-GCM-SHA256 bits=128/128);
 Mon, 15 Jul 2024 17:35:55 -0700 (PDT)
X-Relaying-Domain: iol.unh.edu
Date: Mon, 15 Jul 2024 17:35:55 -0700 (PDT)
Message-ID: <6695c06b.050a0220.cfafa.932cSMTPIN_ADDED_MISSING@mx.google.com>
Received: from [172.21.0.7] (unknown [172.18.0.240])
 by postal.iol.unh.edu (Postfix) with ESMTP id AAEBC605C380;
 Mon, 15 Jul 2024 20:35:54 -0400 (EDT)
Subject: |PENDING| pw142403 [PATCH] [v1] test/crypto: remove unused stats in 
From: dpdklab@iol.unh.edu
To: Test Report <test-report@dpdk.org>
Cc: dpdk-test-reports@iol.unh.edu
In-Reply-To: <20240715133613.1459-1-gmuthukrishn@marvell.com>
References: <20240715133613.1459-1-gmuthukrishn@marvell.com>
Content-Type: text/plain
X-BeenThere: test-report@dpdk.org
X-Mailman-Version: 2.1.29
Precedence: list
List-Id: automatic DPDK test reports <test-report.dpdk.org>
List-Unsubscribe: <https://mails.dpdk.org/options/test-report>,
 <mailto:test-report-request@dpdk.org?subject=unsubscribe>
List-Archive: <http://mails.dpdk.org/archives/test-report/>
List-Post: <mailto:test-report@dpdk.org>
List-Help: <mailto:test-report-request@dpdk.org?subject=help>
List-Subscribe: <https://mails.dpdk.org/listinfo/test-report>,
 <mailto:test-report-request@dpdk.org?subject=subscribe>
Errors-To: test-report-bounces@dpdk.org

Test-Label: iol-unit-amd64-testing
Test-Status: PENDING
http://dpdk.org/patch/142403

_Testing pending_

Submitter: Gowrishankar Muthukrishnan <gmuthukrishn@marvell.com>
Date: Monday, July 15 2024 13:36:10 
DPDK git baseline: Repo:dpdk
  Branch: master
  CommitID:ba268b0bb43b56174e3d9345a27e6b1675a5a991

142403 --> testing pending

Test environment and result as below:

+---------------------+----------------+
|     Environment     | dpdk_unit_test |
+=====================+================+
| Windows Server 2022 | PASS           |
+---------------------+----------------+
| CentOS Stream 9     | PASS           |
+---------------------+----------------+
| CentOS Stream 8     | PASS           |
+---------------------+----------------+
| Debian Bullseye     | PASS           |
+---------------------+----------------+
| Fedora 37           | PASS           |
+---------------------+----------------+
| Debian 12           | PASS           |
+---------------------+----------------+
| Fedora 38           | PASS           |
+---------------------+----------------+
| Fedora 38 (Clang)   | PASS           |
+---------------------+----------------+
| Fedora 39           | PASS           |
+---------------------+----------------+
| Fedora 39 (Clang)   | PASS           |
+---------------------+----------------+
| Fedora 40           | PASS           |
+---------------------+----------------+
| Fedora 40 (Clang)   | PASS           |
+---------------------+----------------+
| openSUSE Leap 15    | PASS           |
+---------------------+----------------+
| RHEL8               | PASS           |
+---------------------+----------------+
| RHEL9               | PASS           |
+---------------------+----------------+
| Ubuntu 20.04        | PASS           |
+---------------------+----------------+
| Ubuntu 22.04        | PEND           |
+---------------------+----------------+
| Ubuntu 24.04        | PEND           |
+---------------------+----------------+
| Windows Server 2019 | PASS           |
+---------------------+----------------+


Windows Server 2022
	Kernel: 10.0.20348.2031
	Compiler: clang 15.0.7, gcc 8.1.0 (MinGW), and MSVC VS 17.9

CentOS Stream 9
	Kernel: 5.4.0-167-generic
	Compiler: gcc 11.4.1 20230605

CentOS Stream 8
	Kernel: 5.4.0-167-generic
	Compiler: gcc 8.5.0 20210514

Debian Bullseye
	Kernel: 5.4.0-167-generic
	Compiler: gcc 10.2.1-6

Fedora 37
	Kernel: Depends on container host system
	Compiler: gcc 12.3.1

Debian 12
	Kernel: Container Host Kernel
	Compiler: gcc 12.2.0

Fedora 38
	Kernel: Depends on container host
	Compiler: gcc 13.2.1

Fedora 38 (Clang)
	Kernel: Depends on container host
	Compiler: clang 16.0.6

Fedora 39
	Kernel: Depends on container host
	Compiler: gcc 13.2.1

Fedora 39 (Clang)
	Kernel: Depends on container host
	Compiler: clang 17.0.6

Fedora 40
	Kernel: Depends on container host
	Compiler: gcc 14.1.1

Fedora 40 (Clang)
	Kernel: Depends on container host
	Compiler: clang 18.1.6

openSUSE Leap 15
	Kernel: 5.4.0-167-generic
	Compiler: gcc 7.5.0

RHEL8
	Kernel: 5.4.0-167-generic
	Compiler: gcc 8.5.0 20210514 (Red Hat 8.5.0-20)

RHEL9
	Kernel: Depends on container host
	Compiler: gcc 11.4.1

Ubuntu 20.04
	Kernel: 5.4.0-167-generic
	Compiler: gcc 9.4.0-1ubuntu1~20.04.1

Ubuntu 22.04
	Kernel: 5.4.0-167-generic
	Compiler: gcc 11.4.0

Ubuntu 24.04
	Kernel: 5.4.0-167-generic
	Compiler: gcc 13.2.0

Windows Server 2019
	Kernel: 10.0.17763
	Compiler: clang 14.0 and gcc 8.1.0 (MinGW)

To view detailed results, visit:
https://lab.dpdk.org/results/dashboard/patchsets/30516/

UNH-IOL DPDK Community Lab

To manage your email subscriptions, visit: 
https://lab.dpdk.org/results/dashboard/preferences/subscriptions/