From mboxrd@z Thu Jan  1 00:00:00 1970
Return-Path: <test-report-bounces@dpdk.org>
Received: from mails.dpdk.org (mails.dpdk.org [217.70.189.124])
	by inbox.dpdk.org (Postfix) with ESMTP id 9B637455D7
	for <public@inbox.dpdk.org>; Tue, 16 Jul 2024 02:39:57 +0200 (CEST)
Received: from mails.dpdk.org (localhost [127.0.0.1])
	by mails.dpdk.org (Postfix) with ESMTP id 9585240DF5;
	Tue, 16 Jul 2024 02:39:57 +0200 (CEST)
Received: from mail-ua1-f99.google.com (mail-ua1-f99.google.com
 [209.85.222.99]) by mails.dpdk.org (Postfix) with ESMTP id A258D40274
 for <test-report@dpdk.org>; Tue, 16 Jul 2024 02:39:56 +0200 (CEST)
Received: by mail-ua1-f99.google.com with SMTP id
 a1e0cc1a2514c-8102c9a5badso1790587241.0
 for <test-report@dpdk.org>; Mon, 15 Jul 2024 17:39:56 -0700 (PDT)
DKIM-Signature: v=1; a=rsa-sha256; c=relaxed/relaxed;
 d=iol.unh.edu; s=unh-iol; t=1721090396; x=1721695196; darn=dpdk.org;
 h=references:in-reply-to:cc:to:from:subject:message-id:date:from:to
 :cc:subject:date:message-id:reply-to;
 bh=kfqfatk6VfRCHV47c5wvz6m++6oQrvYdElTPVIjTMFo=;
 b=T6AvjuZoXpjU7RYeN71YvNJpU8OC8EYe8sFmcJ8MEzinDmlJcq+plgBYs3LX4xQ1LQ
 kyU1E86Sj1wAg3V9GwHA1h+gjNmJ5VVTDrQRXoIXcskyPK4W3NojRGpQBCuduTI4TmW3
 NOEy69P/6OEKKHYWT6do5LM0vaZXIASurm4HY=
X-Google-DKIM-Signature: v=1; a=rsa-sha256; c=relaxed/relaxed;
 d=1e100.net; s=20230601; t=1721090396; x=1721695196;
 h=references:in-reply-to:cc:to:from:subject:message-id:date
 :x-gm-message-state:from:to:cc:subject:date:message-id:reply-to;
 bh=kfqfatk6VfRCHV47c5wvz6m++6oQrvYdElTPVIjTMFo=;
 b=NPuSkwHY55Qc+Lr2WbaT5t27iqVguP1jpQ3un+yRYAKNYEmLlAUnsQy2j3Ss1hUsji
 jvMiU7wYS4JrizUWqlWi3MqsSVH0IoT1Cpt+zcPi4r2vlYKd+VzHAwTxCk6affdvVOiT
 M0EVnILMpsZHf3AXZG4x/Nx5v41SzvA52R6eJOl9BOOQaioOjsiz0856mp1i4r9jaSuv
 upX6iWvAfB1NZUcnxxo2b5Dg+1Xs2KlGsl06aO1KqmWVVdIYNcsJXosuf+O1xs1vSrUe
 WV5+XMBa+S91kR01YSHRu7x4iRdREm3bHfTotB30WC2R2KtZg1YZI7pXRy3KPr+OWkMg
 B6ww==
X-Gm-Message-State: AOJu0YwVq+3lLeQHdm+ZXNuyYFrvUeR6hBbCJrZ80bAx90yVBT4zhjb4
 eHCtBdhD5bgJLs4V0x2fNECUZ74fjaxIzzaarZ1zgme2WdBpiMGqNquXlyVx2aHXW19/ij0HfC6
 zH/SzK1Y/tpgzGDXED6lckT4aLDa4ZgrFrfHS5vK0Jk9i3ZCVa+hp04QX
X-Google-Smtp-Source: AGHT+IH+8k0wP0BjcIzFBWcUY1zSliwZKLIynShnvA+tBuPtSWIu2XkponsR5M7J7oMlt7gQn6IObGZ/XENa
X-Received: by 2002:a05:6102:468b:b0:48f:e77d:6e72 with SMTP id
 ada2fe7eead31-4914c5d2047mr553030137.33.1721090395765; 
 Mon, 15 Jul 2024 17:39:55 -0700 (PDT)
Received: from postal.iol.unh.edu (postal.iol.unh.edu.
 [2606:4100:3880:1234::84]) by smtp-relay.gmail.com with ESMTPS id
 6a1803df08f44-6b7619cf3b1sm3114736d6.40.2024.07.15.17.39.55
 (version=TLS1_2 cipher=ECDHE-ECDSA-AES128-GCM-SHA256 bits=128/128);
 Mon, 15 Jul 2024 17:39:55 -0700 (PDT)
X-Relaying-Domain: iol.unh.edu
Date: Mon, 15 Jul 2024 17:39:55 -0700 (PDT)
Message-ID: <6695c15b.050a0220.b2a6c.fb1aSMTPIN_ADDED_MISSING@mx.google.com>
Received: from [172.21.0.9] (unknown [172.18.0.240])
 by postal.iol.unh.edu (Postfix) with ESMTP id 782D9605C380;
 Mon, 15 Jul 2024 20:39:55 -0400 (EDT)
Subject: |PENDING| pw142407-142409 [PATCH] [v4,3/3] dts: dynamic config test 
From: dpdklab@iol.unh.edu
To: Test Report <test-report@dpdk.org>
Cc: dpdk-test-reports@iol.unh.edu
In-Reply-To: <20240715160021.23352-3-dmarx@iol.unh.edu>
References: <20240715160021.23352-3-dmarx@iol.unh.edu>
Content-Type: text/plain
X-BeenThere: test-report@dpdk.org
X-Mailman-Version: 2.1.29
Precedence: list
List-Id: automatic DPDK test reports <test-report.dpdk.org>
List-Unsubscribe: <https://mails.dpdk.org/options/test-report>,
 <mailto:test-report-request@dpdk.org?subject=unsubscribe>
List-Archive: <http://mails.dpdk.org/archives/test-report/>
List-Post: <mailto:test-report@dpdk.org>
List-Help: <mailto:test-report-request@dpdk.org?subject=help>
List-Subscribe: <https://mails.dpdk.org/listinfo/test-report>,
 <mailto:test-report-request@dpdk.org?subject=subscribe>
Errors-To: test-report-bounces@dpdk.org

Test-Label: iol-compile-arm64-testing
Test-Status: PENDING
http://dpdk.org/patch/142409

_Testing pending_

Submitter: Dean Marx <dmarx@iol.unh.edu>
Date: Monday, July 15 2024 16:00:21 
DPDK git baseline: Repo:dpdk
  Branch: master
  CommitID:fa8d2f7f28524a6c8defa3dcd94f5aa131aae084

142407-142409 --> testing pending

Test environment and result as below:

+----------------------------------------+--------------------+
|              Environment               | dpdk_meson_compile |
+========================================+====================+
| RHEL9 (ARM)                            | PASS               |
+----------------------------------------+--------------------+
| Ubuntu 20.04 ARM GCC Cross Compile     | PEND               |
+----------------------------------------+--------------------+
| Ubuntu 20.04 ARM SVE                   | PASS               |
+----------------------------------------+--------------------+
| Debian 12 with MUSDK                   | PASS               |
+----------------------------------------+--------------------+
| Fedora 37 (ARM)                        | PASS               |
+----------------------------------------+--------------------+
| Fedora 38 (ARM)                        | PASS               |
+----------------------------------------+--------------------+
| Fedora 38 (ARM Clang)                  | PEND               |
+----------------------------------------+--------------------+
| Fedora 39 (ARM)                        | PEND               |
+----------------------------------------+--------------------+
| Fedora 39 (ARM Clang)                  | PEND               |
+----------------------------------------+--------------------+
| Fedora 40 (ARM)                        | PEND               |
+----------------------------------------+--------------------+
| Fedora 40 (ARM Clang)                  | PEND               |
+----------------------------------------+--------------------+
| Ubuntu 20.04 (ARM)                     | PEND               |
+----------------------------------------+--------------------+
| Ubuntu 22.04 (ARM)                     | PEND               |
+----------------------------------------+--------------------+
| Ubuntu 24.04 (ARM)                     | PEND               |
+----------------------------------------+--------------------+
| CentOS Stream 9 (ARM)                  | PEND               |
+----------------------------------------+--------------------+
| Debian 11 (Buster) (ARM)               | PEND               |
+----------------------------------------+--------------------+
| Debian 12 (arm)                        | PEND               |
+----------------------------------------+--------------------+
| Ubuntu 20.04 ARM Clang Cross Compile   | PEND               |
+----------------------------------------+--------------------+
| Ubuntu 20.04 aarch32 GCC Cross Compile | PEND               |
+----------------------------------------+--------------------+


RHEL9 (ARM)
	Kernel: Depends on container host
	Compiler: gcc 11.4.1

Ubuntu 20.04 ARM GCC Cross Compile
	Kernel: 5.4.0-167-generic
	Compiler: aarch64-linux-gnu-gcc (Ubuntu 9.4.0-1ubuntu1~20.04.2) 9.4.0

Ubuntu 20.04 ARM SVE
	Kernel: 5.4.0-167-generic
	Compiler: gcc (Ubuntu 10.5.0-1ubuntu1~20.04) 10.5.0

Debian 12 with MUSDK
	Kernel: Container Host Kernel
	Compiler: gcc 12.2.0

Fedora 37 (ARM)
	Kernel: Depends on container host
	Compiler: gcc 12.3.1

Fedora 38 (ARM)
	Kernel: Depends on container host
	Compiler: gcc 13.2.1

Fedora 38 (ARM Clang)
	Kernel: Depends on container host
	Compiler: clang 16.0.6

Fedora 39 (ARM)
	Kernel: Depends on container host
	Compiler: gcc 13.2.1

Fedora 39 (ARM Clang)
	Kernel: Depends on container host
	Compiler: clang 17.0.6

Fedora 40 (ARM)
	Kernel: Depends on container host
	Compiler: gcc 14.1.1

Fedora 40 (ARM Clang)
	Kernel: Depends on container host
	Compiler: clang 18.1.6

Ubuntu 20.04 (ARM)
	Kernel: Container Host Kernel
	Compiler: gcc 9.4.0

Ubuntu 22.04 (ARM)
	Kernel: Container Host Kernel
	Compiler: gcc 11.4.0

Ubuntu 24.04 (ARM)
	Kernel: 5.4.0-167-generic
	Compiler: gcc 13.2.0

CentOS Stream 9 (ARM)
	Kernel: Container Host Kernel
	Compiler: gcc 11.4.1

Debian 11 (Buster) (ARM)
	Kernel: Container Host Kernel
	Compiler: gcc 10.2.1

Debian 12 (arm)
	Kernel: Container Host Kernel
	Compiler: gcc 12.2.0

Ubuntu 20.04 ARM Clang Cross Compile
	Kernel: 5.4.0-72-generic
	Compiler: clang 10.0.0-4ubuntu1

Ubuntu 20.04 aarch32 GCC Cross Compile
	Kernel: 5.4.0-167-generic
	Compiler: gcc 9.4.0

To view detailed results, visit:
https://lab.dpdk.org/results/dashboard/patchsets/30520/

UNH-IOL DPDK Community Lab

To manage your email subscriptions, visit: 
https://lab.dpdk.org/results/dashboard/preferences/subscriptions/