From mboxrd@z Thu Jan  1 00:00:00 1970
Return-Path: <test-report-bounces@dpdk.org>
Received: from mails.dpdk.org (mails.dpdk.org [217.70.189.124])
	by inbox.dpdk.org (Postfix) with ESMTP id 4F832455D7
	for <public@inbox.dpdk.org>; Tue, 16 Jul 2024 02:42:46 +0200 (CEST)
Received: from mails.dpdk.org (localhost [127.0.0.1])
	by mails.dpdk.org (Postfix) with ESMTP id 491ED427E3;
	Tue, 16 Jul 2024 02:42:46 +0200 (CEST)
Received: from mail-io1-f97.google.com (mail-io1-f97.google.com
 [209.85.166.97]) by mails.dpdk.org (Postfix) with ESMTP id 24C3C41060
 for <test-report@dpdk.org>; Tue, 16 Jul 2024 02:42:45 +0200 (CEST)
Received: by mail-io1-f97.google.com with SMTP id
 ca18e2360f4ac-8036ce66134so206779639f.3
 for <test-report@dpdk.org>; Mon, 15 Jul 2024 17:42:45 -0700 (PDT)
DKIM-Signature: v=1; a=rsa-sha256; c=relaxed/relaxed;
 d=iol.unh.edu; s=unh-iol; t=1721090564; x=1721695364; darn=dpdk.org;
 h=references:in-reply-to:cc:to:from:subject:message-id:date:from:to
 :cc:subject:date:message-id:reply-to;
 bh=2Ie+Ih04RU1pEEQNoubEbZfuH2hNVK6VeZyvqvk9PKM=;
 b=d4spYnI0Q5EYFjUO0DnUqmdK5BSMbePKEMdViCrVC/GTAbyDIer/NPi6AI3gfaUji3
 p6Igl8rvC7R3+zDPx3P6owKDMJDpWfaCE75Jw1MTTVn/xX2DuXLgQGVUYszpESCbXaAm
 EJvphnaUyP9b4g1tm/xvrw72uzvXAhhJJSGcQ=
X-Google-DKIM-Signature: v=1; a=rsa-sha256; c=relaxed/relaxed;
 d=1e100.net; s=20230601; t=1721090564; x=1721695364;
 h=references:in-reply-to:cc:to:from:subject:message-id:date
 :x-gm-message-state:from:to:cc:subject:date:message-id:reply-to;
 bh=2Ie+Ih04RU1pEEQNoubEbZfuH2hNVK6VeZyvqvk9PKM=;
 b=H8B86tRvafq/7c1pvMBmxFK0qK61u19nDZeddUTBEMp4j3HZkrOIMJ6tkNTNxtcG6G
 Jbp86+BnklAGNm99iEZPpjzagvuFWGdqkLqCj7fFstf1/4xX8KAf3I/tS9EBY+z9THC9
 qXUvLITqKlbK1Xp/8ibHqJWbK7dd7Gm6eYK2+9uvUpMclj56PzxY83ASnZaqVLzs6H8A
 K5aEl5O09ebHmiHGaWUgNSDoKEB4FD1M3RR6ERVQAJHphf46fCJooBsETPREbdjlT7sh
 2kPbTEJDNcelSabppLfRwRmMA86TtMkHak6SS3fB3WfRK0Qvu3ISDwNw/YWNx5C/8A1h
 1SbA==
X-Gm-Message-State: AOJu0Yx8kpGV6oI56cqNXDPJvaV4gTk4Dg5nzTHQ9D2vzpjMC0T5M6/Q
 Yggh1loZxqn80XXw9yYMKw2gPV//vy7iDLkmbeqmoFPozA916PYJFbr09enNTRuW3z+q9bo/+W1
 WQvvJX07YmTNNwk1I76AqJf2uK1CCw8txMHQ2ukrP46Mbdm5Npve/tYg4
X-Google-Smtp-Source: AGHT+IFwiFZUZ806vdYKpFCpG0QGbVoBAO8wcDl+LJDjQGGn4Yr8JL+/oQGmeXi5d1e6CzuhwyK57W3IZDWV
X-Received: by 2002:a05:6e02:17ca:b0:375:b567:a6af with SMTP id
 e9e14a558f8ab-393d1cdbe51mr10841825ab.12.1721090564466; 
 Mon, 15 Jul 2024 17:42:44 -0700 (PDT)
Received: from postal.iol.unh.edu (postal.iol.unh.edu.
 [2606:4100:3880:1234::84]) by smtp-relay.gmail.com with ESMTPS id
 e9e14a558f8ab-3900ff0ca15sm4458915ab.23.2024.07.15.17.42.44
 (version=TLS1_2 cipher=ECDHE-ECDSA-AES128-GCM-SHA256 bits=128/128);
 Mon, 15 Jul 2024 17:42:44 -0700 (PDT)
X-Relaying-Domain: iol.unh.edu
Date: Mon, 15 Jul 2024 17:42:44 -0700 (PDT)
Message-ID: <6695c204.050a0220.d092e.76cdSMTPIN_ADDED_MISSING@mx.google.com>
Received: from [172.21.0.11] (unknown [172.18.0.240])
 by postal.iol.unh.edu (Postfix) with ESMTP id EFAAC605C380;
 Mon, 15 Jul 2024 20:42:43 -0400 (EDT)
Subject: |PENDING| pw142410-142412 [PATCH] [v2,3/3] net/ice: fix return value
From: dpdklab@iol.unh.edu
To: Test Report <test-report@dpdk.org>
Cc: dpdk-test-reports@iol.unh.edu
In-Reply-To: <20240715180441.3682734-3-vladimir.medvedkin@intel.com>
References: <20240715180441.3682734-3-vladimir.medvedkin@intel.com>
Content-Type: text/plain
X-BeenThere: test-report@dpdk.org
X-Mailman-Version: 2.1.29
Precedence: list
List-Id: automatic DPDK test reports <test-report.dpdk.org>
List-Unsubscribe: <https://mails.dpdk.org/options/test-report>,
 <mailto:test-report-request@dpdk.org?subject=unsubscribe>
List-Archive: <http://mails.dpdk.org/archives/test-report/>
List-Post: <mailto:test-report@dpdk.org>
List-Help: <mailto:test-report-request@dpdk.org?subject=help>
List-Subscribe: <https://mails.dpdk.org/listinfo/test-report>,
 <mailto:test-report-request@dpdk.org?subject=subscribe>
Errors-To: test-report-bounces@dpdk.org

Test-Label: iol-unit-arm64-testing
Test-Status: PENDING
http://dpdk.org/patch/142412

_Testing pending_

Submitter: Vladimir Medvedkin <vladimir.medvedkin@intel.com>
Date: Monday, July 15 2024 18:04:41 
DPDK git baseline: Repo:dpdk
  Branch: master
  CommitID:fa8d2f7f28524a6c8defa3dcd94f5aa131aae084

142410-142412 --> testing pending

Test environment and result as below:

+-----------------------------+--------------+---------------------------+------------------------------+----------------+
|         Environment         | lpm_autotest | cryptodev_sw_zuc_autotest | cryptodev_sw_snow3g_autotest | dpdk_unit_test |
+=============================+==============+===========================+==============================+================+
| Ubuntu 20.04 ARM SVE        | PEND         | SKIPPED                   | SKIPPED                      | SKIPPED        |
+-----------------------------+--------------+---------------------------+------------------------------+----------------+
| Debian 12 (arm)             | SKIPPED      | PASS                      | PASS                         | PASS           |
+-----------------------------+--------------+---------------------------+------------------------------+----------------+
| CentOS Stream 9 (ARM)       | SKIPPED      | SKIPPED                   | SKIPPED                      | PASS           |
+-----------------------------+--------------+---------------------------+------------------------------+----------------+
| Debian 11 (Buster) (ARM)    | SKIPPED      | SKIPPED                   | SKIPPED                      | PASS           |
+-----------------------------+--------------+---------------------------+------------------------------+----------------+
| Fedora 37 (ARM)             | SKIPPED      | SKIPPED                   | SKIPPED                      | PASS           |
+-----------------------------+--------------+---------------------------+------------------------------+----------------+
| Fedora 38 (ARM)             | SKIPPED      | SKIPPED                   | SKIPPED                      | PASS           |
+-----------------------------+--------------+---------------------------+------------------------------+----------------+
| Fedora 38 (ARM Clang)       | SKIPPED      | SKIPPED                   | SKIPPED                      | PASS           |
+-----------------------------+--------------+---------------------------+------------------------------+----------------+
| Fedora 39 (ARM)             | SKIPPED      | SKIPPED                   | SKIPPED                      | PASS           |
+-----------------------------+--------------+---------------------------+------------------------------+----------------+
| Fedora 39 (ARM Clang)       | SKIPPED      | SKIPPED                   | SKIPPED                      | PASS           |
+-----------------------------+--------------+---------------------------+------------------------------+----------------+
| 32-bit Ubuntu 20.04.4 (ARM) | SKIPPED      | SKIPPED                   | SKIPPED                      | PASS           |
+-----------------------------+--------------+---------------------------+------------------------------+----------------+
| Fedora 40 (ARM)             | SKIPPED      | SKIPPED                   | SKIPPED                      | PASS           |
+-----------------------------+--------------+---------------------------+------------------------------+----------------+
| Fedora 40 (ARM Clang)       | SKIPPED      | SKIPPED                   | SKIPPED                      | PASS           |
+-----------------------------+--------------+---------------------------+------------------------------+----------------+
| RHEL9 (ARM)                 | SKIPPED      | SKIPPED                   | SKIPPED                      | PASS           |
+-----------------------------+--------------+---------------------------+------------------------------+----------------+
| Ubuntu 20.04 (ARM)          | SKIPPED      | SKIPPED                   | SKIPPED                      | PASS           |
+-----------------------------+--------------+---------------------------+------------------------------+----------------+
| Ubuntu 22.04 (ARM)          | SKIPPED      | SKIPPED                   | SKIPPED                      | PEND           |
+-----------------------------+--------------+---------------------------+------------------------------+----------------+
| Ubuntu 24.04 (ARM)          | SKIPPED      | SKIPPED                   | SKIPPED                      | PEND           |
+-----------------------------+--------------+---------------------------+------------------------------+----------------+


Ubuntu 20.04 ARM SVE
	Kernel: 5.4.0-167-generic
	Compiler: gcc (Ubuntu 10.5.0-1ubuntu1~20.04) 10.5.0

Debian 12 (arm)
	Kernel: Container Host Kernel
	Compiler: gcc 12.2.0

CentOS Stream 9 (ARM)
	Kernel: Container Host Kernel
	Compiler: gcc 11.4.1

Debian 11 (Buster) (ARM)
	Kernel: Container Host Kernel
	Compiler: gcc 10.2.1

Fedora 37 (ARM)
	Kernel: Depends on container host
	Compiler: gcc 12.3.1

Fedora 38 (ARM)
	Kernel: Depends on container host
	Compiler: gcc 13.2.1

Fedora 38 (ARM Clang)
	Kernel: Depends on container host
	Compiler: clang 16.0.6

Fedora 39 (ARM)
	Kernel: Depends on container host
	Compiler: gcc 13.2.1

Fedora 39 (ARM Clang)
	Kernel: Depends on container host
	Compiler: clang 17.0.6

32-bit Ubuntu 20.04.4 (ARM)
	Kernel: 5.4.0-155-generic aarch64
	Compiler: gcc 9.4

Fedora 40 (ARM)
	Kernel: Depends on container host
	Compiler: gcc 14.1.1

Fedora 40 (ARM Clang)
	Kernel: Depends on container host
	Compiler: clang 18.1.6

RHEL9 (ARM)
	Kernel: Depends on container host
	Compiler: gcc 11.4.1

Ubuntu 20.04 (ARM)
	Kernel: Container Host Kernel
	Compiler: gcc 9.4.0

Ubuntu 22.04 (ARM)
	Kernel: Container Host Kernel
	Compiler: gcc 11.4.0

Ubuntu 24.04 (ARM)
	Kernel: 5.4.0-167-generic
	Compiler: gcc 13.2.0

To view detailed results, visit:
https://lab.dpdk.org/results/dashboard/patchsets/30521/

UNH-IOL DPDK Community Lab

To manage your email subscriptions, visit: 
https://lab.dpdk.org/results/dashboard/preferences/subscriptions/