From mboxrd@z Thu Jan  1 00:00:00 1970
Return-Path: <test-report-bounces@dpdk.org>
Received: from mails.dpdk.org (mails.dpdk.org [217.70.189.124])
	by inbox.dpdk.org (Postfix) with ESMTP id 37F66455D7
	for <public@inbox.dpdk.org>; Tue, 16 Jul 2024 02:53:28 +0200 (CEST)
Received: from mails.dpdk.org (localhost [127.0.0.1])
	by mails.dpdk.org (Postfix) with ESMTP id 3394643003;
	Tue, 16 Jul 2024 02:53:28 +0200 (CEST)
Received: from mail-vk1-f226.google.com (mail-vk1-f226.google.com
 [209.85.221.226])
 by mails.dpdk.org (Postfix) with ESMTP id 444C9427E3
 for <test-report@dpdk.org>; Tue, 16 Jul 2024 02:53:27 +0200 (CEST)
Received: by mail-vk1-f226.google.com with SMTP id
 71dfb90a1353d-4f2c8e99c0fso1795378e0c.1
 for <test-report@dpdk.org>; Mon, 15 Jul 2024 17:53:27 -0700 (PDT)
DKIM-Signature: v=1; a=rsa-sha256; c=relaxed/relaxed;
 d=iol.unh.edu; s=unh-iol; t=1721091206; x=1721696006; darn=dpdk.org;
 h=references:in-reply-to:cc:to:from:subject:message-id:date:from:to
 :cc:subject:date:message-id:reply-to;
 bh=zsq+sBJR5Qz676p9+PGOv3Z1JGfPJEclpFeKtLvNGIg=;
 b=KIjPDuS9AshDRze9oCDQt9n+rOpuXq4AFbuR3Fdg4pqiycfJ4BZFHhFEsRrg1FiSvL
 Z0IPwpVT37wWb/jS82n9deoe9zscguNSfBAzJUQic+be04hqJfmz+oji+/XtN0oy2TZS
 i5DbHwJy97GyF5ehoNDxI2u34tP66iSaw8gP0=
X-Google-DKIM-Signature: v=1; a=rsa-sha256; c=relaxed/relaxed;
 d=1e100.net; s=20230601; t=1721091206; x=1721696006;
 h=references:in-reply-to:cc:to:from:subject:message-id:date
 :x-gm-message-state:from:to:cc:subject:date:message-id:reply-to;
 bh=zsq+sBJR5Qz676p9+PGOv3Z1JGfPJEclpFeKtLvNGIg=;
 b=iYSZ7jRxDq21aE5PhuCo0lfU3POf5YGosgmHiM0ztCV7lE3AFqhkI8Z/2nMGuahIyh
 oyoPR9NwoZ8hQiiYB2Z8rYSGbp1mWdizcKStIpj7sDNA1QhUwjZUTzBz+UeZFOUX/fAN
 SWPE05UocHaqDTz3xAB7dZyBNSkwNYlfjBGLPb+ID1cQxx0caT+WirBqjjOt/4ZUL4my
 8DZcRSjSbhypVjbcMZMsDLZ+hAE3kbLVIo/kX2PAKxePiDc+pu0eSuL6+bddaEfialen
 D/UTPuPhAE4k7ZYD8acc065mpqDuQTQVHACFaik16uF5/X/umM00J/hmak8UZTjUk2nz
 spfg==
X-Gm-Message-State: AOJu0YzriKJoC6uopgHn9qFR2i5aqAFwv6oX/g27w2P0Y9f7tEtMbTb6
 +M0I+638CDhX/og+s/X/WJgrMMEang7XzKhRGi5NLkMPQih0sQDrvj91ncxB226+K8eHaaVbFbN
 U7m8U3Z+u+8RPGYSH8CrfQHs4FLl40w+y37uRLTvbUplY5Xsf/x3BnJk5
X-Google-Smtp-Source: AGHT+IE0KwPD0TXOTPKWqA9IhVyynt/l/6M46g7shqUxDrBDzNQmTrHuUxz8TtgJPFERQML1oMoOZAIlQ0q6
X-Received: by 2002:a05:6122:549:b0:4ed:682:7496 with SMTP id
 71dfb90a1353d-4f4d089d135mr705814e0c.12.1721091204998; 
 Mon, 15 Jul 2024 17:53:24 -0700 (PDT)
Received: from postal.iol.unh.edu (postal.iol.unh.edu.
 [2606:4100:3880:1234::84]) by smtp-relay.gmail.com with ESMTPS id
 71dfb90a1353d-4f4a4932771sm549258e0c.9.2024.07.15.17.53.24
 (version=TLS1_2 cipher=ECDHE-ECDSA-AES128-GCM-SHA256 bits=128/128);
 Mon, 15 Jul 2024 17:53:24 -0700 (PDT)
X-Relaying-Domain: iol.unh.edu
Date: Mon, 15 Jul 2024 17:53:24 -0700 (PDT)
Message-ID: <6695c484.050a0220.f038f.d36dSMTPIN_ADDED_MISSING@mx.google.com>
Received: from [172.21.0.7] (unknown [172.18.0.240])
 by postal.iol.unh.edu (Postfix) with ESMTP id A7E00605C380;
 Mon, 15 Jul 2024 20:53:24 -0400 (EDT)
Subject: |PENDING| pw142407-142409 [PATCH] [v4,3/3] dts: dynamic config test 
From: dpdklab@iol.unh.edu
To: Test Report <test-report@dpdk.org>
Cc: dpdk-test-reports@iol.unh.edu
In-Reply-To: <20240715160021.23352-3-dmarx@iol.unh.edu>
References: <20240715160021.23352-3-dmarx@iol.unh.edu>
Content-Type: text/plain
X-BeenThere: test-report@dpdk.org
X-Mailman-Version: 2.1.29
Precedence: list
List-Id: automatic DPDK test reports <test-report.dpdk.org>
List-Unsubscribe: <https://mails.dpdk.org/options/test-report>,
 <mailto:test-report-request@dpdk.org?subject=unsubscribe>
List-Archive: <http://mails.dpdk.org/archives/test-report/>
List-Post: <mailto:test-report@dpdk.org>
List-Help: <mailto:test-report-request@dpdk.org?subject=help>
List-Subscribe: <https://mails.dpdk.org/listinfo/test-report>,
 <mailto:test-report-request@dpdk.org?subject=subscribe>
Errors-To: test-report-bounces@dpdk.org

Test-Label: iol-abi-testing
Test-Status: PENDING
http://dpdk.org/patch/142409

_Testing pending_

Submitter: Dean Marx <dmarx@iol.unh.edu>
Date: Monday, July 15 2024 16:00:21 
DPDK git baseline: Repo:dpdk
  Branch: master
  CommitID:fa8d2f7f28524a6c8defa3dcd94f5aa131aae084

142407-142409 --> testing pending

Test environment and result as below:

+-------------------+----------+
|    Environment    | abi_test |
+===================+==========+
| CentOS Stream 8   | PASS     |
+-------------------+----------+
| CentOS Stream 9   | PASS     |
+-------------------+----------+
| Debian Bullseye   | PASS     |
+-------------------+----------+
| Debian 12         | PASS     |
+-------------------+----------+
| Fedora 37         | PEND     |
+-------------------+----------+
| Fedora 38 (Clang) | PEND     |
+-------------------+----------+
| Fedora 38         | PASS     |
+-------------------+----------+
| Fedora 39 (Clang) | PASS     |
+-------------------+----------+
| Fedora 39         | PEND     |
+-------------------+----------+
| Fedora 40 (Clang) | PASS     |
+-------------------+----------+
| Fedora 40         | PEND     |
+-------------------+----------+
| openSUSE Leap 15  | PASS     |
+-------------------+----------+
| RHEL8             | PEND     |
+-------------------+----------+
| RHEL9             | PEND     |
+-------------------+----------+
| Ubuntu 22.04      | PEND     |
+-------------------+----------+
| Ubuntu 24.04      | PEND     |
+-------------------+----------+


CentOS Stream 8
	Kernel: 5.4.0-167-generic
	Compiler: gcc 8.5.0 20210514

CentOS Stream 9
	Kernel: 5.4.0-167-generic
	Compiler: gcc 11.4.1 20230605

Debian Bullseye
	Kernel: 5.4.0-167-generic
	Compiler: gcc 10.2.1-6

Debian 12
	Kernel: Container Host Kernel
	Compiler: gcc 12.2.0

Fedora 37
	Kernel: Depends on container host system
	Compiler: gcc 12.3.1

Fedora 38 (Clang)
	Kernel: Depends on container host
	Compiler: clang 16.0.6

Fedora 38
	Kernel: Depends on container host
	Compiler: gcc 13.2.1

Fedora 39 (Clang)
	Kernel: Depends on container host
	Compiler: clang 17.0.6

Fedora 39
	Kernel: Depends on container host
	Compiler: gcc 13.2.1

Fedora 40 (Clang)
	Kernel: Depends on container host
	Compiler: clang 18.1.6

Fedora 40
	Kernel: Depends on container host
	Compiler: gcc 14.1.1

openSUSE Leap 15
	Kernel: 5.4.0-167-generic
	Compiler: gcc 7.5.0

RHEL8
	Kernel: 5.4.0-167-generic
	Compiler: gcc 8.5.0 20210514 (Red Hat 8.5.0-20)

RHEL9
	Kernel: Depends on container host
	Compiler: gcc 11.4.1

Ubuntu 22.04
	Kernel: 5.4.0-167-generic
	Compiler: gcc 11.4.0

Ubuntu 24.04
	Kernel: 5.4.0-167-generic
	Compiler: gcc 13.2.0

To view detailed results, visit:
https://lab.dpdk.org/results/dashboard/patchsets/30520/

UNH-IOL DPDK Community Lab

To manage your email subscriptions, visit: 
https://lab.dpdk.org/results/dashboard/preferences/subscriptions/