From mboxrd@z Thu Jan  1 00:00:00 1970
Return-Path: <test-report-bounces@dpdk.org>
Received: from mails.dpdk.org (mails.dpdk.org [217.70.189.124])
	by inbox.dpdk.org (Postfix) with ESMTP id EDF47455D7
	for <public@inbox.dpdk.org>; Tue, 16 Jul 2024 03:03:53 +0200 (CEST)
Received: from mails.dpdk.org (localhost [127.0.0.1])
	by mails.dpdk.org (Postfix) with ESMTP id EAF6540DD2;
	Tue, 16 Jul 2024 03:03:53 +0200 (CEST)
Received: from mail-yb1-f226.google.com (mail-yb1-f226.google.com
 [209.85.219.226])
 by mails.dpdk.org (Postfix) with ESMTP id AF5A040A8B
 for <test-report@dpdk.org>; Tue, 16 Jul 2024 03:03:52 +0200 (CEST)
Received: by mail-yb1-f226.google.com with SMTP id
 3f1490d57ef6-e03a8955ae3so4747397276.1
 for <test-report@dpdk.org>; Mon, 15 Jul 2024 18:03:52 -0700 (PDT)
DKIM-Signature: v=1; a=rsa-sha256; c=relaxed/relaxed;
 d=iol.unh.edu; s=unh-iol; t=1721091832; x=1721696632; darn=dpdk.org;
 h=references:in-reply-to:cc:to:from:subject:message-id:date:from:to
 :cc:subject:date:message-id:reply-to;
 bh=9vH+P1m3Vz1r2MMo1PTKNNTMcexGydcpmDBP5Y+EUVI=;
 b=cLttHbZ93dh6cO9XGhr8L3d5YEikcoHN0u1q2K3BK+f/uMVhTuQiESu3TLtK8YMHCK
 tFXxg4lqccRtpsRbVFIm7NF3yflRQ14cio2dVQTcKA+/z4wlTAIM+n7KpLJoZ8XB8uGn
 e7vowSNXKO4cQBni4vpvtMm1JQhKc/SBJXjIc=
X-Google-DKIM-Signature: v=1; a=rsa-sha256; c=relaxed/relaxed;
 d=1e100.net; s=20230601; t=1721091832; x=1721696632;
 h=references:in-reply-to:cc:to:from:subject:message-id:date
 :x-gm-message-state:from:to:cc:subject:date:message-id:reply-to;
 bh=9vH+P1m3Vz1r2MMo1PTKNNTMcexGydcpmDBP5Y+EUVI=;
 b=DrFCxDkX9V7VnhF8+jgZKGSwVvq7yfrUlGmaJdyPb+xBJ1E1Mko2YWV0Su2Ag2jAW2
 RAuN/XE1DFDRFvmnv4AcZD412Dx81NYgVQtURVvTuCr1Ikbz3ChoGmBnEwkuEzmy+dL0
 m9TGAkiBKJobsDzgiTJPVG7fwjJA3pV5rpkBrfgLqawMbPJMCYO5oXqLqy+Xs5Hh1sSw
 lTSID7Y1WpV6i/YdzDBBYKZNjzA4llky+Py0yC0sCW88t/acKMxLy0W2xtLe8QUHvnld
 b7xM2Anb7vt757DTq6s3auyMaMSY7qzoVF9ypw1b7h31OpDwkB6G4ymbbifFHaKhw6bl
 t0aA==
X-Gm-Message-State: AOJu0YycIlJhotMqgXPRzEASrNfrJ09bmYLI6l2ALornrOAt6eTIbHOz
 jOrW0mYEkrKDRGik0TvksVwS4AqqapjyAPdeBYug5yuptN1NY0yh5uEMrYuQs8znCsJMTB0fXLb
 5YyfxUJURgoLvRsd80Y15vdS7zu7ujGXoy6Cj17AO
X-Google-Smtp-Source: AGHT+IH9UlmJEO05M7u2cTKLYmlzOpmfJs6UJwTIiHzv1iJRhyNxguPYbmk2K8ly+Q1UE5/ZlXf3j6Yj0qPS
X-Received: by 2002:a05:6902:1206:b0:e03:5da5:37d1 with SMTP id
 3f1490d57ef6-e05d567a1bemr981822276.9.1721091832024; 
 Mon, 15 Jul 2024 18:03:52 -0700 (PDT)
Received: from postal.iol.unh.edu (postal.iol.unh.edu. [132.177.123.84])
 by smtp-relay.gmail.com with ESMTPS id
 3f1490d57ef6-e05a4647ec1sm310525276.22.2024.07.15.18.03.51
 (version=TLS1_2 cipher=ECDHE-ECDSA-AES128-GCM-SHA256 bits=128/128);
 Mon, 15 Jul 2024 18:03:52 -0700 (PDT)
X-Relaying-Domain: iol.unh.edu
Date: Mon, 15 Jul 2024 18:03:52 -0700 (PDT)
Message-ID: <6695c6f8.050a0220.1ebc0f.03f3SMTPIN_ADDED_MISSING@mx.google.com>
Received: from [172.21.0.6] (unknown [172.18.0.240])
 by postal.iol.unh.edu (Postfix) with ESMTP id A1628605C380;
 Mon, 15 Jul 2024 21:03:51 -0400 (EDT)
Subject: |PENDING| pw142407-142409 [PATCH] [v4,3/3] dts: dynamic config test 
From: dpdklab@iol.unh.edu
To: Test Report <test-report@dpdk.org>
Cc: dpdk-test-reports@iol.unh.edu
In-Reply-To: <20240715160021.23352-3-dmarx@iol.unh.edu>
References: <20240715160021.23352-3-dmarx@iol.unh.edu>
Content-Type: text/plain
X-BeenThere: test-report@dpdk.org
X-Mailman-Version: 2.1.29
Precedence: list
List-Id: automatic DPDK test reports <test-report.dpdk.org>
List-Unsubscribe: <https://mails.dpdk.org/options/test-report>,
 <mailto:test-report-request@dpdk.org?subject=unsubscribe>
List-Archive: <http://mails.dpdk.org/archives/test-report/>
List-Post: <mailto:test-report@dpdk.org>
List-Help: <mailto:test-report-request@dpdk.org?subject=help>
List-Subscribe: <https://mails.dpdk.org/listinfo/test-report>,
 <mailto:test-report-request@dpdk.org?subject=subscribe>
Errors-To: test-report-bounces@dpdk.org

Test-Label: iol-abi-testing
Test-Status: PENDING
http://dpdk.org/patch/142409

_Testing pending_

Submitter: Dean Marx <dmarx@iol.unh.edu>
Date: Monday, July 15 2024 16:00:21 
DPDK git baseline: Repo:dpdk
  Branch: master
  CommitID:fa8d2f7f28524a6c8defa3dcd94f5aa131aae084

142407-142409 --> testing pending

Test environment and result as below:

+-------------------+----------+
|    Environment    | abi_test |
+===================+==========+
| CentOS Stream 8   | PASS     |
+-------------------+----------+
| CentOS Stream 9   | PASS     |
+-------------------+----------+
| Debian Bullseye   | PASS     |
+-------------------+----------+
| Debian 12         | PASS     |
+-------------------+----------+
| Fedora 37         | PASS     |
+-------------------+----------+
| Fedora 38 (Clang) | PASS     |
+-------------------+----------+
| Fedora 38         | PASS     |
+-------------------+----------+
| Fedora 39 (Clang) | PASS     |
+-------------------+----------+
| Fedora 39         | PASS     |
+-------------------+----------+
| Fedora 40 (Clang) | PASS     |
+-------------------+----------+
| Fedora 40         | PEND     |
+-------------------+----------+
| openSUSE Leap 15  | PASS     |
+-------------------+----------+
| RHEL8             | PEND     |
+-------------------+----------+
| RHEL9             | PEND     |
+-------------------+----------+
| Ubuntu 22.04      | PEND     |
+-------------------+----------+
| Ubuntu 24.04      | PEND     |
+-------------------+----------+


CentOS Stream 8
	Kernel: 5.4.0-167-generic
	Compiler: gcc 8.5.0 20210514

CentOS Stream 9
	Kernel: 5.4.0-167-generic
	Compiler: gcc 11.4.1 20230605

Debian Bullseye
	Kernel: 5.4.0-167-generic
	Compiler: gcc 10.2.1-6

Debian 12
	Kernel: Container Host Kernel
	Compiler: gcc 12.2.0

Fedora 37
	Kernel: Depends on container host system
	Compiler: gcc 12.3.1

Fedora 38 (Clang)
	Kernel: Depends on container host
	Compiler: clang 16.0.6

Fedora 38
	Kernel: Depends on container host
	Compiler: gcc 13.2.1

Fedora 39 (Clang)
	Kernel: Depends on container host
	Compiler: clang 17.0.6

Fedora 39
	Kernel: Depends on container host
	Compiler: gcc 13.2.1

Fedora 40 (Clang)
	Kernel: Depends on container host
	Compiler: clang 18.1.6

Fedora 40
	Kernel: Depends on container host
	Compiler: gcc 14.1.1

openSUSE Leap 15
	Kernel: 5.4.0-167-generic
	Compiler: gcc 7.5.0

RHEL8
	Kernel: 5.4.0-167-generic
	Compiler: gcc 8.5.0 20210514 (Red Hat 8.5.0-20)

RHEL9
	Kernel: Depends on container host
	Compiler: gcc 11.4.1

Ubuntu 22.04
	Kernel: 5.4.0-167-generic
	Compiler: gcc 11.4.0

Ubuntu 24.04
	Kernel: 5.4.0-167-generic
	Compiler: gcc 13.2.0

To view detailed results, visit:
https://lab.dpdk.org/results/dashboard/patchsets/30520/

UNH-IOL DPDK Community Lab

To manage your email subscriptions, visit: 
https://lab.dpdk.org/results/dashboard/preferences/subscriptions/