From mboxrd@z Thu Jan  1 00:00:00 1970
Return-Path: <test-report-bounces@dpdk.org>
Received: from mails.dpdk.org (mails.dpdk.org [217.70.189.124])
	by inbox.dpdk.org (Postfix) with ESMTP id 53668455D7
	for <public@inbox.dpdk.org>; Tue, 16 Jul 2024 03:16:49 +0200 (CEST)
Received: from mails.dpdk.org (localhost [127.0.0.1])
	by mails.dpdk.org (Postfix) with ESMTP id 50FE140BA6;
	Tue, 16 Jul 2024 03:16:49 +0200 (CEST)
Received: from mail-pg1-f225.google.com (mail-pg1-f225.google.com
 [209.85.215.225])
 by mails.dpdk.org (Postfix) with ESMTP id 365B340A8B
 for <test-report@dpdk.org>; Tue, 16 Jul 2024 03:16:37 +0200 (CEST)
Received: by mail-pg1-f225.google.com with SMTP id
 41be03b00d2f7-765590154b4so2912823a12.0
 for <test-report@dpdk.org>; Mon, 15 Jul 2024 18:16:37 -0700 (PDT)
DKIM-Signature: v=1; a=rsa-sha256; c=relaxed/relaxed;
 d=iol.unh.edu; s=unh-iol; t=1721092596; x=1721697396; darn=dpdk.org;
 h=references:in-reply-to:cc:to:from:subject:message-id:date:from:to
 :cc:subject:date:message-id:reply-to;
 bh=xAWMswdadMyHW9V1NB6XujTgJAe8ZnnL/r5bUofrS1U=;
 b=bZrfZM0QRwh5RBNW+WcE24DmoQS4GKJOQvt+J863f3c7n9GIATz8bGSJhFODdFBnCn
 wi09kUh04ZIDDaC81hrCA8qiiBdkfzU5NOG3kMWXdJ26MOoTC2QmuMf4fXVVz1SwTZ6i
 xceRJk2qMtxOdKAT6RkEvoHdReOQ1BN1/mD8Y=
X-Google-DKIM-Signature: v=1; a=rsa-sha256; c=relaxed/relaxed;
 d=1e100.net; s=20230601; t=1721092596; x=1721697396;
 h=references:in-reply-to:cc:to:from:subject:message-id:date
 :x-gm-message-state:from:to:cc:subject:date:message-id:reply-to;
 bh=xAWMswdadMyHW9V1NB6XujTgJAe8ZnnL/r5bUofrS1U=;
 b=KqR6wU7DgliYF9HaHyT102rPkQwVshy4h4no0/rqJa2JXj/zaKrieYNVjEIZM8D8jA
 BZJ8v5xf1rA5kCTLsfC7fmF0Qzoqc0MIQgVwSzgMzSuOg8406Pn9uXeIqkIAB0UxmoI2
 Auq0fZ4HnUWmn/H77tux8+vgArZ1V1lWZ3CsvKFJyB5Ro3lEzSQNcShy7LTe9gukgHlA
 3/zagqo5kt1RdjdiamnXZlv9lSf1YnmlOrVS9ACvPKt37Vqug/p4W+p3yIoBa3+NiJrf
 TRqtZBZEm+S2C0hV5IHAwl6vMYz7fyhe7bNK5ppcKsUVpMrJDQykFi+3Pn5ILtVJfSHX
 yICg==
X-Gm-Message-State: AOJu0Ywq5ZEbOP+ym08K/IATPDlE/I9cUKy6tej0J06yzOb3MQZW3Gya
 GKRdZ1R8vzHcdrC+fOnEhbXrkiFKca//prUl7Fkwr3pLIWrHO1EvNK5RkrMxk2DE8ZJwnY73IWs
 XEzBW9m95m7FUXxfqEYX8pt21DbNimG5iVV9lE+y0
X-Google-Smtp-Source: AGHT+IFKc+kwV/8p57K2tTadJlB8iR7+mcE3VH2TWudMtn/6/WSq+kThBaee9loMn+T6xfnbZdWHh7tOPDL5
X-Received: by 2002:a05:6a21:1014:b0:1c3:abc2:1439 with SMTP id
 adf61e73a8af0-1c3f124bf70mr723356637.29.1721092596317; 
 Mon, 15 Jul 2024 18:16:36 -0700 (PDT)
Received: from postal.iol.unh.edu (postal.iol.unh.edu. [132.177.123.84])
 by smtp-relay.gmail.com with ESMTPS id
 d9443c01a7336-1fc0bc1911asm982725ad.77.2024.07.15.18.16.36
 (version=TLS1_2 cipher=ECDHE-ECDSA-AES128-GCM-SHA256 bits=128/128);
 Mon, 15 Jul 2024 18:16:36 -0700 (PDT)
X-Relaying-Domain: iol.unh.edu
Date: Mon, 15 Jul 2024 18:16:36 -0700 (PDT)
Message-ID: <6695c9f4.170a0220.9d35c.6cc7SMTPIN_ADDED_MISSING@mx.google.com>
Received: from [172.21.0.7] (unknown [172.18.0.240])
 by postal.iol.unh.edu (Postfix) with ESMTP id B721F605C380;
 Mon, 15 Jul 2024 21:16:35 -0400 (EDT)
Subject: |PENDING| pw142407-142409 [PATCH] [v4,3/3] dts: dynamic config test 
From: dpdklab@iol.unh.edu
To: Test Report <test-report@dpdk.org>
Cc: dpdk-test-reports@iol.unh.edu
In-Reply-To: <20240715160021.23352-3-dmarx@iol.unh.edu>
References: <20240715160021.23352-3-dmarx@iol.unh.edu>
Content-Type: text/plain
X-BeenThere: test-report@dpdk.org
X-Mailman-Version: 2.1.29
Precedence: list
List-Id: automatic DPDK test reports <test-report.dpdk.org>
List-Unsubscribe: <https://mails.dpdk.org/options/test-report>,
 <mailto:test-report-request@dpdk.org?subject=unsubscribe>
List-Archive: <http://mails.dpdk.org/archives/test-report/>
List-Post: <mailto:test-report@dpdk.org>
List-Help: <mailto:test-report-request@dpdk.org?subject=help>
List-Subscribe: <https://mails.dpdk.org/listinfo/test-report>,
 <mailto:test-report-request@dpdk.org?subject=subscribe>
Errors-To: test-report-bounces@dpdk.org

Test-Label: iol-abi-testing
Test-Status: PENDING
http://dpdk.org/patch/142409

_Testing pending_

Submitter: Dean Marx <dmarx@iol.unh.edu>
Date: Monday, July 15 2024 16:00:21 
DPDK git baseline: Repo:dpdk
  Branch: master
  CommitID:fa8d2f7f28524a6c8defa3dcd94f5aa131aae084

142407-142409 --> testing pending

Test environment and result as below:

+-------------------+----------+
|    Environment    | abi_test |
+===================+==========+
| CentOS Stream 8   | PASS     |
+-------------------+----------+
| CentOS Stream 9   | PASS     |
+-------------------+----------+
| Debian Bullseye   | PASS     |
+-------------------+----------+
| Debian 12         | PASS     |
+-------------------+----------+
| Fedora 37         | PASS     |
+-------------------+----------+
| Fedora 38 (Clang) | PASS     |
+-------------------+----------+
| Fedora 38         | PASS     |
+-------------------+----------+
| Fedora 39 (Clang) | PASS     |
+-------------------+----------+
| Fedora 39         | PASS     |
+-------------------+----------+
| Fedora 40 (Clang) | PASS     |
+-------------------+----------+
| Fedora 40         | PASS     |
+-------------------+----------+
| openSUSE Leap 15  | PASS     |
+-------------------+----------+
| RHEL8             | PASS     |
+-------------------+----------+
| RHEL9             | PASS     |
+-------------------+----------+
| Ubuntu 22.04      | PEND     |
+-------------------+----------+
| Ubuntu 24.04      | PASS     |
+-------------------+----------+


CentOS Stream 8
	Kernel: 5.4.0-167-generic
	Compiler: gcc 8.5.0 20210514

CentOS Stream 9
	Kernel: 5.4.0-167-generic
	Compiler: gcc 11.4.1 20230605

Debian Bullseye
	Kernel: 5.4.0-167-generic
	Compiler: gcc 10.2.1-6

Debian 12
	Kernel: Container Host Kernel
	Compiler: gcc 12.2.0

Fedora 37
	Kernel: Depends on container host system
	Compiler: gcc 12.3.1

Fedora 38 (Clang)
	Kernel: Depends on container host
	Compiler: clang 16.0.6

Fedora 38
	Kernel: Depends on container host
	Compiler: gcc 13.2.1

Fedora 39 (Clang)
	Kernel: Depends on container host
	Compiler: clang 17.0.6

Fedora 39
	Kernel: Depends on container host
	Compiler: gcc 13.2.1

Fedora 40 (Clang)
	Kernel: Depends on container host
	Compiler: clang 18.1.6

Fedora 40
	Kernel: Depends on container host
	Compiler: gcc 14.1.1

openSUSE Leap 15
	Kernel: 5.4.0-167-generic
	Compiler: gcc 7.5.0

RHEL8
	Kernel: 5.4.0-167-generic
	Compiler: gcc 8.5.0 20210514 (Red Hat 8.5.0-20)

RHEL9
	Kernel: Depends on container host
	Compiler: gcc 11.4.1

Ubuntu 22.04
	Kernel: 5.4.0-167-generic
	Compiler: gcc 11.4.0

Ubuntu 24.04
	Kernel: 5.4.0-167-generic
	Compiler: gcc 13.2.0

To view detailed results, visit:
https://lab.dpdk.org/results/dashboard/patchsets/30520/

UNH-IOL DPDK Community Lab

To manage your email subscriptions, visit: 
https://lab.dpdk.org/results/dashboard/preferences/subscriptions/