From mboxrd@z Thu Jan  1 00:00:00 1970
Return-Path: <test-report-bounces@dpdk.org>
Received: from mails.dpdk.org (mails.dpdk.org [217.70.189.124])
	by inbox.dpdk.org (Postfix) with ESMTP id 7AF77455D7
	for <public@inbox.dpdk.org>; Tue, 16 Jul 2024 03:17:26 +0200 (CEST)
Received: from mails.dpdk.org (localhost [127.0.0.1])
	by mails.dpdk.org (Postfix) with ESMTP id 7828340BA6;
	Tue, 16 Jul 2024 03:17:26 +0200 (CEST)
Received: from mail-pj1-f99.google.com (mail-pj1-f99.google.com
 [209.85.216.99]) by mails.dpdk.org (Postfix) with ESMTP id E604040A8B
 for <test-report@dpdk.org>; Tue, 16 Jul 2024 03:17:24 +0200 (CEST)
Received: by mail-pj1-f99.google.com with SMTP id
 98e67ed59e1d1-2c964f5a037so3224658a91.0
 for <test-report@dpdk.org>; Mon, 15 Jul 2024 18:17:24 -0700 (PDT)
DKIM-Signature: v=1; a=rsa-sha256; c=relaxed/relaxed;
 d=iol.unh.edu; s=unh-iol; t=1721092644; x=1721697444; darn=dpdk.org;
 h=references:in-reply-to:cc:to:from:subject:message-id:date:from:to
 :cc:subject:date:message-id:reply-to;
 bh=xAWMswdadMyHW9V1NB6XujTgJAe8ZnnL/r5bUofrS1U=;
 b=bzTWHIlUO1tTMChsIQ72YjtXmol1KbedylITgKXhXo5P39VSaRUCOpnbhTNH9MGTtd
 c+b3F+W+AfLUH4AAo3xXOYi3emxKwfl3crvkDp0wu0sp9FuoNNqXFUTe787nHjqrIo22
 CVNlsgHQssEdZJ6VqXML+1cY1VGHh4y1I8hiE=
X-Google-DKIM-Signature: v=1; a=rsa-sha256; c=relaxed/relaxed;
 d=1e100.net; s=20230601; t=1721092644; x=1721697444;
 h=references:in-reply-to:cc:to:from:subject:message-id:date
 :x-gm-message-state:from:to:cc:subject:date:message-id:reply-to;
 bh=xAWMswdadMyHW9V1NB6XujTgJAe8ZnnL/r5bUofrS1U=;
 b=LAqvZpJZJqniPwQrDFfpjr5i7fImwIU4S6AHHVSsGpVT9wrpDMFnnERdbM65qp5S6w
 8pVs1AdsB/dJjlCIkyENwVnZ8Sodwp5/WFSU6EJLiiaXN0icKJGxdDj5StwKT5AmzKEl
 gWGip0tss65LqSynFs6J+PMffh1P+EsE0cITqRvGG8rGv2YXb88b7DatoX4uzpMZQOZ/
 FtJptykfdXpECD3rOx/zjz/Yv40xj10Zrlz+BYosKcpvCV6hcBclvnoEpwCGyqYK7paF
 eI/JhkOf/cLTJTrjzNrOkrW1Sb2sTTeFmc/N6NySzdxCdYfMaG8emlXyKSgalWJ55Y5m
 8PSQ==
X-Gm-Message-State: AOJu0YzGcBL9Gv8kOfn4mkJDX0hcEIiwA63k90vX6bGh/Bvr6uUm0bwn
 WbYG+zdlq2OVaZcg2+IWhV2I6+/+/l4BB/25N0t+/DJ+hltZ4QiZEcxPRqz3hzgWZVW9ZkPGDob
 toTGpXV2iFL/mKtOOu5Cg3+nRIyhzy9ZOPMcBuLpfZ286jyKHjfqKL9ig
X-Google-Smtp-Source: AGHT+IE+4FYGP23Tk1lVd/43tFm0FwQxD/zJQ+gLxGbeubymXv0nOPsrSldXszUOgcIN2g7pgq29th6mfE6j
X-Received: by 2002:a17:90a:e395:b0:2c9:8b33:318f with SMTP id
 98e67ed59e1d1-2cb3740080amr427090a91.11.1721092644057; 
 Mon, 15 Jul 2024 18:17:24 -0700 (PDT)
Received: from postal.iol.unh.edu (postal.iol.unh.edu.
 [2606:4100:3880:1234::84]) by smtp-relay.gmail.com with ESMTPS id
 98e67ed59e1d1-2cacd719898sm656394a91.17.2024.07.15.18.17.23
 (version=TLS1_2 cipher=ECDHE-ECDSA-AES128-GCM-SHA256 bits=128/128);
 Mon, 15 Jul 2024 18:17:24 -0700 (PDT)
X-Relaying-Domain: iol.unh.edu
Date: Mon, 15 Jul 2024 18:17:24 -0700 (PDT)
Message-ID: <6695ca24.170a0220.1de8c.061dSMTPIN_ADDED_MISSING@mx.google.com>
Received: from [172.21.0.6] (unknown [172.18.0.240])
 by postal.iol.unh.edu (Postfix) with ESMTP id 45780605C380;
 Mon, 15 Jul 2024 21:17:23 -0400 (EDT)
Subject: |PENDING| pw142407-142409 [PATCH] [v4,3/3] dts: dynamic config test 
From: dpdklab@iol.unh.edu
To: Test Report <test-report@dpdk.org>
Cc: dpdk-test-reports@iol.unh.edu
In-Reply-To: <20240715160021.23352-3-dmarx@iol.unh.edu>
References: <20240715160021.23352-3-dmarx@iol.unh.edu>
Content-Type: text/plain
X-BeenThere: test-report@dpdk.org
X-Mailman-Version: 2.1.29
Precedence: list
List-Id: automatic DPDK test reports <test-report.dpdk.org>
List-Unsubscribe: <https://mails.dpdk.org/options/test-report>,
 <mailto:test-report-request@dpdk.org?subject=unsubscribe>
List-Archive: <http://mails.dpdk.org/archives/test-report/>
List-Post: <mailto:test-report@dpdk.org>
List-Help: <mailto:test-report-request@dpdk.org?subject=help>
List-Subscribe: <https://mails.dpdk.org/listinfo/test-report>,
 <mailto:test-report-request@dpdk.org?subject=subscribe>
Errors-To: test-report-bounces@dpdk.org

Test-Label: iol-abi-testing
Test-Status: PENDING
http://dpdk.org/patch/142409

_Testing pending_

Submitter: Dean Marx <dmarx@iol.unh.edu>
Date: Monday, July 15 2024 16:00:21 
DPDK git baseline: Repo:dpdk
  Branch: master
  CommitID:fa8d2f7f28524a6c8defa3dcd94f5aa131aae084

142407-142409 --> testing pending

Test environment and result as below:

+-------------------+----------+
|    Environment    | abi_test |
+===================+==========+
| CentOS Stream 8   | PASS     |
+-------------------+----------+
| CentOS Stream 9   | PASS     |
+-------------------+----------+
| Debian Bullseye   | PASS     |
+-------------------+----------+
| Debian 12         | PASS     |
+-------------------+----------+
| Fedora 37         | PASS     |
+-------------------+----------+
| Fedora 38 (Clang) | PASS     |
+-------------------+----------+
| Fedora 38         | PASS     |
+-------------------+----------+
| Fedora 39 (Clang) | PASS     |
+-------------------+----------+
| Fedora 39         | PASS     |
+-------------------+----------+
| Fedora 40 (Clang) | PASS     |
+-------------------+----------+
| Fedora 40         | PASS     |
+-------------------+----------+
| openSUSE Leap 15  | PASS     |
+-------------------+----------+
| RHEL8             | PASS     |
+-------------------+----------+
| RHEL9             | PASS     |
+-------------------+----------+
| Ubuntu 22.04      | PEND     |
+-------------------+----------+
| Ubuntu 24.04      | PASS     |
+-------------------+----------+


CentOS Stream 8
	Kernel: 5.4.0-167-generic
	Compiler: gcc 8.5.0 20210514

CentOS Stream 9
	Kernel: 5.4.0-167-generic
	Compiler: gcc 11.4.1 20230605

Debian Bullseye
	Kernel: 5.4.0-167-generic
	Compiler: gcc 10.2.1-6

Debian 12
	Kernel: Container Host Kernel
	Compiler: gcc 12.2.0

Fedora 37
	Kernel: Depends on container host system
	Compiler: gcc 12.3.1

Fedora 38 (Clang)
	Kernel: Depends on container host
	Compiler: clang 16.0.6

Fedora 38
	Kernel: Depends on container host
	Compiler: gcc 13.2.1

Fedora 39 (Clang)
	Kernel: Depends on container host
	Compiler: clang 17.0.6

Fedora 39
	Kernel: Depends on container host
	Compiler: gcc 13.2.1

Fedora 40 (Clang)
	Kernel: Depends on container host
	Compiler: clang 18.1.6

Fedora 40
	Kernel: Depends on container host
	Compiler: gcc 14.1.1

openSUSE Leap 15
	Kernel: 5.4.0-167-generic
	Compiler: gcc 7.5.0

RHEL8
	Kernel: 5.4.0-167-generic
	Compiler: gcc 8.5.0 20210514 (Red Hat 8.5.0-20)

RHEL9
	Kernel: Depends on container host
	Compiler: gcc 11.4.1

Ubuntu 22.04
	Kernel: 5.4.0-167-generic
	Compiler: gcc 11.4.0

Ubuntu 24.04
	Kernel: 5.4.0-167-generic
	Compiler: gcc 13.2.0

To view detailed results, visit:
https://lab.dpdk.org/results/dashboard/patchsets/30520/

UNH-IOL DPDK Community Lab

To manage your email subscriptions, visit: 
https://lab.dpdk.org/results/dashboard/preferences/subscriptions/