From mboxrd@z Thu Jan  1 00:00:00 1970
Return-Path: <test-report-bounces@dpdk.org>
Received: from mails.dpdk.org (mails.dpdk.org [217.70.189.124])
	by inbox.dpdk.org (Postfix) with ESMTP id DEF1B45626
	for <public@inbox.dpdk.org>; Tue, 16 Jul 2024 04:53:03 +0200 (CEST)
Received: from mails.dpdk.org (localhost [127.0.0.1])
	by mails.dpdk.org (Postfix) with ESMTP id BFEEC40E0F;
	Tue, 16 Jul 2024 04:53:03 +0200 (CEST)
Received: from mail-il1-f227.google.com (mail-il1-f227.google.com
 [209.85.166.227])
 by mails.dpdk.org (Postfix) with ESMTP id C44DA40E0C
 for <test-report@dpdk.org>; Tue, 16 Jul 2024 04:53:01 +0200 (CEST)
Received: by mail-il1-f227.google.com with SMTP id
 e9e14a558f8ab-382458be739so21270385ab.1
 for <test-report@dpdk.org>; Mon, 15 Jul 2024 19:53:01 -0700 (PDT)
DKIM-Signature: v=1; a=rsa-sha256; c=relaxed/relaxed;
 d=iol.unh.edu; s=unh-iol; t=1721098381; x=1721703181; darn=dpdk.org;
 h=references:in-reply-to:cc:to:from:subject:message-id:date:from:to
 :cc:subject:date:message-id:reply-to;
 bh=8IF8+ZPtqIxBTYb2bOmSA9SSSg/qJLgQcCZi9K/395E=;
 b=GXtvGZ6MT7lr7uZIsDMRC/GK9Ryb3wCl0YNbsA+KdUDh2JBm5klzp7pN5oowKyvB7D
 kzXzF4AM3+XvBfmEeDGqrIYmlj2iKeJExCp0HAgTBwAIGtwRyRKMeCWFjEcwzewQjFpn
 5GygEdVb+1eD4DGyybn2WoVTWsxOFJOG1AZu4=
X-Google-DKIM-Signature: v=1; a=rsa-sha256; c=relaxed/relaxed;
 d=1e100.net; s=20230601; t=1721098381; x=1721703181;
 h=references:in-reply-to:cc:to:from:subject:message-id:date
 :x-gm-message-state:from:to:cc:subject:date:message-id:reply-to;
 bh=8IF8+ZPtqIxBTYb2bOmSA9SSSg/qJLgQcCZi9K/395E=;
 b=TcISNZPB+yXRZy4KSd1fk3OG+bZerwPQtECaRMSnJRysbHh+5yOtUXXNZoJ9msNFA4
 oPUI9icQVLphTNsKnP2T6txCEZqfiky34fEMDy8MgoDcS88DXBtpJ1C8q+fdXPnJ8Kvc
 2qyImsrJkDUawMPLnQ0YU1e/blkoO3oOL2XXtVtICMwHTZSFbonFPNz1Eh4lcxfKPxPd
 vHK1m8XYmrcmOim4+jXZpyAB34CFW5/MkERRi4w15b9kTd4rSMp1g0jZDmT68xMUsKwa
 h3UKP4/eA8QKUvEEkqE/3+cNNUgsjW9qtX6cHNtThuNsxpVKPo8pL+umZVBXJ75A+mxG
 LQ5A==
X-Gm-Message-State: AOJu0Yw3WXqHgih96m4hN9pEuI84oHcJrN9KuELYd4XFJmpJSg83588L
 aAKkY2zndIwWqIV3QMBRq6Aa2qrUvePfQOIr9mJVyzrNNFkpENVJibXbFE1dOPrI7tLOj2aE38n
 yUqoyhUQkGQx8174Qw89CVnI3hzWz83sFjpP+vE4g
X-Google-Smtp-Source: AGHT+IEhY9ty1LKh74RW0V1JEGyn9cP8uvxC/yzgAIWx3jaW0+noSgms+UT/0EtGAiJZ+z748oRgwQIMJZZt
X-Received: by 2002:a05:6e02:1546:b0:385:49f2:e571 with SMTP id
 e9e14a558f8ab-393d31765b8mr12447575ab.26.1721098380881; 
 Mon, 15 Jul 2024 19:53:00 -0700 (PDT)
Received: from postal.iol.unh.edu (postal.iol.unh.edu. [132.177.123.84])
 by smtp-relay.gmail.com with ESMTPS id
 e9e14a558f8ab-39011c7fb02sm4306235ab.70.2024.07.15.19.53.00
 (version=TLS1_2 cipher=ECDHE-ECDSA-AES128-GCM-SHA256 bits=128/128);
 Mon, 15 Jul 2024 19:53:00 -0700 (PDT)
X-Relaying-Domain: iol.unh.edu
Date: Mon, 15 Jul 2024 19:53:00 -0700 (PDT)
Message-ID: <6695e08c.050a0220.9cd2b.5665SMTPIN_ADDED_MISSING@mx.google.com>
Received: from [172.21.0.6] (unknown [172.18.0.240])
 by postal.iol.unh.edu (Postfix) with ESMTP id 5624F605C380;
 Mon, 15 Jul 2024 22:53:00 -0400 (EDT)
Subject: |PENDING| pw142407-142409 [PATCH] [v4,3/3] dts: dynamic config test 
From: dpdklab@iol.unh.edu
To: Test Report <test-report@dpdk.org>
Cc: dpdk-test-reports@iol.unh.edu
In-Reply-To: <20240715160021.23352-3-dmarx@iol.unh.edu>
References: <20240715160021.23352-3-dmarx@iol.unh.edu>
Content-Type: text/plain
X-BeenThere: test-report@dpdk.org
X-Mailman-Version: 2.1.29
Precedence: list
List-Id: automatic DPDK test reports <test-report.dpdk.org>
List-Unsubscribe: <https://mails.dpdk.org/options/test-report>,
 <mailto:test-report-request@dpdk.org?subject=unsubscribe>
List-Archive: <http://mails.dpdk.org/archives/test-report/>
List-Post: <mailto:test-report@dpdk.org>
List-Help: <mailto:test-report-request@dpdk.org?subject=help>
List-Subscribe: <https://mails.dpdk.org/listinfo/test-report>,
 <mailto:test-report-request@dpdk.org?subject=subscribe>
Errors-To: test-report-bounces@dpdk.org

Test-Label: iol-unit-amd64-testing
Test-Status: PENDING
http://dpdk.org/patch/142409

_Testing pending_

Submitter: Dean Marx <dmarx@iol.unh.edu>
Date: Monday, July 15 2024 16:00:21 
DPDK git baseline: Repo:dpdk
  Branch: master
  CommitID:fa8d2f7f28524a6c8defa3dcd94f5aa131aae084

142407-142409 --> testing pending

Test environment and result as below:

+---------------------+----------------+
|     Environment     | dpdk_unit_test |
+=====================+================+
| Windows Server 2022 | PASS           |
+---------------------+----------------+
| Windows Server 2019 | PASS           |
+---------------------+----------------+
| CentOS Stream 8     | PASS           |
+---------------------+----------------+
| CentOS Stream 9     | PASS           |
+---------------------+----------------+
| Debian Bullseye     | PASS           |
+---------------------+----------------+
| Debian 12           | PASS           |
+---------------------+----------------+
| Fedora 37           | PASS           |
+---------------------+----------------+
| Fedora 38           | PASS           |
+---------------------+----------------+
| Fedora 38 (Clang)   | PASS           |
+---------------------+----------------+
| Fedora 39 (Clang)   | PASS           |
+---------------------+----------------+
| Fedora 39           | PASS           |
+---------------------+----------------+
| Fedora 40           | PASS           |
+---------------------+----------------+
| Fedora 40 (Clang)   | PASS           |
+---------------------+----------------+
| RHEL9               | PEND           |
+---------------------+----------------+
| RHEL8               | PEND           |
+---------------------+----------------+
| openSUSE Leap 15    | PASS           |
+---------------------+----------------+
| Ubuntu 22.04        | PEND           |
+---------------------+----------------+
| Ubuntu 20.04        | PEND           |
+---------------------+----------------+
| Ubuntu 24.04        | PEND           |
+---------------------+----------------+


Windows Server 2022
	Kernel: 10.0.20348.2031
	Compiler: clang 15.0.7, gcc 8.1.0 (MinGW), and MSVC VS 17.9

Windows Server 2019
	Kernel: 10.0.17763
	Compiler: clang 14.0 and gcc 8.1.0 (MinGW)

CentOS Stream 8
	Kernel: 5.4.0-167-generic
	Compiler: gcc 8.5.0 20210514

CentOS Stream 9
	Kernel: 5.4.0-167-generic
	Compiler: gcc 11.4.1 20230605

Debian Bullseye
	Kernel: 5.4.0-167-generic
	Compiler: gcc 10.2.1-6

Debian 12
	Kernel: Container Host Kernel
	Compiler: gcc 12.2.0

Fedora 37
	Kernel: Depends on container host system
	Compiler: gcc 12.3.1

Fedora 38
	Kernel: Depends on container host
	Compiler: gcc 13.2.1

Fedora 38 (Clang)
	Kernel: Depends on container host
	Compiler: clang 16.0.6

Fedora 39 (Clang)
	Kernel: Depends on container host
	Compiler: clang 17.0.6

Fedora 39
	Kernel: Depends on container host
	Compiler: gcc 13.2.1

Fedora 40
	Kernel: Depends on container host
	Compiler: gcc 14.1.1

Fedora 40 (Clang)
	Kernel: Depends on container host
	Compiler: clang 18.1.6

RHEL9
	Kernel: Depends on container host
	Compiler: gcc 11.4.1

RHEL8
	Kernel: 5.4.0-167-generic
	Compiler: gcc 8.5.0 20210514 (Red Hat 8.5.0-20)

openSUSE Leap 15
	Kernel: 5.4.0-167-generic
	Compiler: gcc 7.5.0

Ubuntu 22.04
	Kernel: 5.4.0-167-generic
	Compiler: gcc 11.4.0

Ubuntu 20.04
	Kernel: 5.4.0-167-generic
	Compiler: gcc 9.4.0-1ubuntu1~20.04.1

Ubuntu 24.04
	Kernel: 5.4.0-167-generic
	Compiler: gcc 13.2.0

To view detailed results, visit:
https://lab.dpdk.org/results/dashboard/patchsets/30520/

UNH-IOL DPDK Community Lab

To manage your email subscriptions, visit: 
https://lab.dpdk.org/results/dashboard/preferences/subscriptions/