From mboxrd@z Thu Jan  1 00:00:00 1970
Return-Path: <test-report-bounces@dpdk.org>
Received: from mails.dpdk.org (mails.dpdk.org [217.70.189.124])
	by inbox.dpdk.org (Postfix) with ESMTP id A85FF45626
	for <public@inbox.dpdk.org>; Tue, 16 Jul 2024 05:50:47 +0200 (CEST)
Received: from mails.dpdk.org (localhost [127.0.0.1])
	by mails.dpdk.org (Postfix) with ESMTP id 982E042FD5;
	Tue, 16 Jul 2024 05:50:47 +0200 (CEST)
Received: from mail-pf1-f227.google.com (mail-pf1-f227.google.com
 [209.85.210.227])
 by mails.dpdk.org (Postfix) with ESMTP id 4524740DC9
 for <test-report@dpdk.org>; Tue, 16 Jul 2024 05:50:46 +0200 (CEST)
Received: by mail-pf1-f227.google.com with SMTP id
 d2e1a72fcca58-70b13791a5eso4113342b3a.1
 for <test-report@dpdk.org>; Mon, 15 Jul 2024 20:50:46 -0700 (PDT)
DKIM-Signature: v=1; a=rsa-sha256; c=relaxed/relaxed;
 d=iol.unh.edu; s=unh-iol; t=1721101845; x=1721706645; darn=dpdk.org;
 h=references:in-reply-to:cc:to:from:subject:message-id:date:from:to
 :cc:subject:date:message-id:reply-to;
 bh=rBxSgzouJ2OKieGPADHw8YywJnPm28lsbIP2BN2b2kg=;
 b=BL1Oz+pmetJlsM+mdGjE8jd0dqarTyKRwXZLIQS3cNafazSy9uLHOVoqmXiPa3gIQo
 pe2UTH1Rs5h93Nvob6I82qvzQVB4FaehRmX66VGemsqK/YKoHeKB7d7Sv5EgzDhur1qx
 kKAWFv9MrGkzd6NSn5pUPO+u6iMF/gWXndStE=
X-Google-DKIM-Signature: v=1; a=rsa-sha256; c=relaxed/relaxed;
 d=1e100.net; s=20230601; t=1721101845; x=1721706645;
 h=references:in-reply-to:cc:to:from:subject:message-id:date
 :x-gm-message-state:from:to:cc:subject:date:message-id:reply-to;
 bh=rBxSgzouJ2OKieGPADHw8YywJnPm28lsbIP2BN2b2kg=;
 b=Vt6GkpyX1zBjNoJxpXE1JymJ8UX3m2WFLt38AfpJoCh0h8CWxDgEQSy/yGmHTuXF6B
 ZOlxWyxP9oICcfREZbLO3l+u8SID7iWHbCAO/PWUox/6WWx9QrDRBW3ed+S84AEdrit6
 rG9+slmqj7tMh8g25cYQygld8PoR5HV/yDH22+dq56+Rm46XTKywF+LVderFMKYC3ifs
 epslz99qeF5o6HkEuZTn1BcT9lU2MpQVMvvGGVxUQoC1OxJlSbiL0/HtAIdmHMs5B1/v
 RCeSIhufF2Kpe8EyM1mT8BmPyTg0R9Ed8Zjep5slMSsETafWbkdi6WSKkkeZS7iMYNwR
 VXdA==
X-Gm-Message-State: AOJu0YwuX0M7udcx8IeoxnnZHA9n4Bcl5+w8GE0p00Gyeb7zUJPDClNC
 9TElsUU7mUBVmDdOtpLVhAjc3Ou8zZr7PNmVAZFn7wSNTfi1evSeuPnw4FYa/jvJ2aap+Z9Jyij
 BDKqIxTOU7l85SUj+nVhI5Fc4sidBnGgZ9iiNx0xN
X-Google-Smtp-Source: AGHT+IH6Eb+UgezuOFcZszrwuLmxflbsh9VGhzKfkSRFTK+YGU42x84M+zI8iAkTKD16qHZdJO3Dra8u7p41
X-Received: by 2002:a05:6a20:748e:b0:1c0:ef1c:b83 with SMTP id
 adf61e73a8af0-1c3f12b4c63mr841165637.55.1721101845381; 
 Mon, 15 Jul 2024 20:50:45 -0700 (PDT)
Received: from postal.iol.unh.edu (postal.iol.unh.edu. [132.177.123.84])
 by smtp-relay.gmail.com with ESMTPS id
 d9443c01a7336-1fc0bbc25c6sm1112955ad.67.2024.07.15.20.50.45
 (version=TLS1_2 cipher=ECDHE-ECDSA-AES128-GCM-SHA256 bits=128/128);
 Mon, 15 Jul 2024 20:50:45 -0700 (PDT)
X-Relaying-Domain: iol.unh.edu
Date: Mon, 15 Jul 2024 20:50:45 -0700 (PDT)
Message-ID: <6695ee15.170a0220.44cf1.8893SMTPIN_ADDED_MISSING@mx.google.com>
Received: from [172.21.0.6] (unknown [172.18.0.240])
 by postal.iol.unh.edu (Postfix) with ESMTP id 8D4F7605C380;
 Mon, 15 Jul 2024 23:50:44 -0400 (EDT)
Subject: |PENDING| pw142410-142412 [PATCH] [v2,3/3] net/ice: fix return value
From: dpdklab@iol.unh.edu
To: Test Report <test-report@dpdk.org>
Cc: dpdk-test-reports@iol.unh.edu
In-Reply-To: <20240715180441.3682734-3-vladimir.medvedkin@intel.com>
References: <20240715180441.3682734-3-vladimir.medvedkin@intel.com>
Content-Type: text/plain
X-BeenThere: test-report@dpdk.org
X-Mailman-Version: 2.1.29
Precedence: list
List-Id: automatic DPDK test reports <test-report.dpdk.org>
List-Unsubscribe: <https://mails.dpdk.org/options/test-report>,
 <mailto:test-report-request@dpdk.org?subject=unsubscribe>
List-Archive: <http://mails.dpdk.org/archives/test-report/>
List-Post: <mailto:test-report@dpdk.org>
List-Help: <mailto:test-report-request@dpdk.org?subject=help>
List-Subscribe: <https://mails.dpdk.org/listinfo/test-report>,
 <mailto:test-report-request@dpdk.org?subject=subscribe>
Errors-To: test-report-bounces@dpdk.org

Test-Label: iol-unit-amd64-testing
Test-Status: PENDING
http://dpdk.org/patch/142412

_Testing pending_

Submitter: Vladimir Medvedkin <vladimir.medvedkin@intel.com>
Date: Monday, July 15 2024 18:04:41 
DPDK git baseline: Repo:dpdk
  Branch: master
  CommitID:fa8d2f7f28524a6c8defa3dcd94f5aa131aae084

142410-142412 --> testing pending

Test environment and result as below:

+---------------------+----------------+
|     Environment     | dpdk_unit_test |
+=====================+================+
| Windows Server 2022 | PASS           |
+---------------------+----------------+
| CentOS Stream 8     | PASS           |
+---------------------+----------------+
| CentOS Stream 9     | PASS           |
+---------------------+----------------+
| Debian Bullseye     | PASS           |
+---------------------+----------------+
| Debian 12           | PEND           |
+---------------------+----------------+
| Fedora 37           | PEND           |
+---------------------+----------------+
| Fedora 38           | PEND           |
+---------------------+----------------+
| Fedora 38 (Clang)   | PEND           |
+---------------------+----------------+
| Fedora 39           | PEND           |
+---------------------+----------------+
| Fedora 39 (Clang)   | PEND           |
+---------------------+----------------+
| Fedora 40           | PEND           |
+---------------------+----------------+
| Fedora 40 (Clang)   | PEND           |
+---------------------+----------------+
| openSUSE Leap 15    | PEND           |
+---------------------+----------------+
| RHEL8               | PEND           |
+---------------------+----------------+
| RHEL9               | PEND           |
+---------------------+----------------+
| Ubuntu 20.04        | PEND           |
+---------------------+----------------+
| Ubuntu 22.04        | PEND           |
+---------------------+----------------+
| Ubuntu 24.04        | PEND           |
+---------------------+----------------+
| Windows Server 2019 | PASS           |
+---------------------+----------------+


Windows Server 2022
	Kernel: 10.0.20348.2031
	Compiler: clang 15.0.7, gcc 8.1.0 (MinGW), and MSVC VS 17.9

CentOS Stream 8
	Kernel: 5.4.0-167-generic
	Compiler: gcc 8.5.0 20210514

CentOS Stream 9
	Kernel: 5.4.0-167-generic
	Compiler: gcc 11.4.1 20230605

Debian Bullseye
	Kernel: 5.4.0-167-generic
	Compiler: gcc 10.2.1-6

Debian 12
	Kernel: Container Host Kernel
	Compiler: gcc 12.2.0

Fedora 37
	Kernel: Depends on container host system
	Compiler: gcc 12.3.1

Fedora 38
	Kernel: Depends on container host
	Compiler: gcc 13.2.1

Fedora 38 (Clang)
	Kernel: Depends on container host
	Compiler: clang 16.0.6

Fedora 39
	Kernel: Depends on container host
	Compiler: gcc 13.2.1

Fedora 39 (Clang)
	Kernel: Depends on container host
	Compiler: clang 17.0.6

Fedora 40
	Kernel: Depends on container host
	Compiler: gcc 14.1.1

Fedora 40 (Clang)
	Kernel: Depends on container host
	Compiler: clang 18.1.6

openSUSE Leap 15
	Kernel: 5.4.0-167-generic
	Compiler: gcc 7.5.0

RHEL8
	Kernel: 5.4.0-167-generic
	Compiler: gcc 8.5.0 20210514 (Red Hat 8.5.0-20)

RHEL9
	Kernel: Depends on container host
	Compiler: gcc 11.4.1

Ubuntu 20.04
	Kernel: 5.4.0-167-generic
	Compiler: gcc 9.4.0-1ubuntu1~20.04.1

Ubuntu 22.04
	Kernel: 5.4.0-167-generic
	Compiler: gcc 11.4.0

Ubuntu 24.04
	Kernel: 5.4.0-167-generic
	Compiler: gcc 13.2.0

Windows Server 2019
	Kernel: 10.0.17763
	Compiler: clang 14.0 and gcc 8.1.0 (MinGW)

To view detailed results, visit:
https://lab.dpdk.org/results/dashboard/patchsets/30521/

UNH-IOL DPDK Community Lab

To manage your email subscriptions, visit: 
https://lab.dpdk.org/results/dashboard/preferences/subscriptions/