From mboxrd@z Thu Jan  1 00:00:00 1970
Return-Path: <test-report-bounces@dpdk.org>
Received: from mails.dpdk.org (mails.dpdk.org [217.70.189.124])
	by inbox.dpdk.org (Postfix) with ESMTP id DFBC045628
	for <public@inbox.dpdk.org>; Tue, 16 Jul 2024 06:31:52 +0200 (CEST)
Received: from mails.dpdk.org (localhost [127.0.0.1])
	by mails.dpdk.org (Postfix) with ESMTP id DC33E40B99;
	Tue, 16 Jul 2024 06:31:52 +0200 (CEST)
Received: from mail-pg1-f225.google.com (mail-pg1-f225.google.com
 [209.85.215.225])
 by mails.dpdk.org (Postfix) with ESMTP id B9AE140B94
 for <test-report@dpdk.org>; Tue, 16 Jul 2024 06:31:11 +0200 (CEST)
Received: by mail-pg1-f225.google.com with SMTP id
 41be03b00d2f7-75e15a48d6aso2782178a12.0
 for <test-report@dpdk.org>; Mon, 15 Jul 2024 21:31:11 -0700 (PDT)
DKIM-Signature: v=1; a=rsa-sha256; c=relaxed/relaxed;
 d=iol.unh.edu; s=unh-iol; t=1721104271; x=1721709071; darn=dpdk.org;
 h=references:in-reply-to:cc:to:from:subject:message-id:date:from:to
 :cc:subject:date:message-id:reply-to;
 bh=PBvn11XcyoCMiLPiAgK9eiLOpEKTwLs1n/B+RF3XViQ=;
 b=EAkZJARHkCRSa8CB47RYM16QtvhFDTJya7rq/kFbrKjyqvgP+05wPmKoao7911UtJ3
 5EbDRJfvS/5HAKISv+7KaXfFqGORxKpoSe4C2nDEv+AEYeV6HuDdXnh8pd146MobMloV
 BTe0MLnTFJu0oH9emKoSYy3S8ttQjLgegYQiY=
X-Google-DKIM-Signature: v=1; a=rsa-sha256; c=relaxed/relaxed;
 d=1e100.net; s=20230601; t=1721104271; x=1721709071;
 h=references:in-reply-to:cc:to:from:subject:message-id:date
 :x-gm-message-state:from:to:cc:subject:date:message-id:reply-to;
 bh=PBvn11XcyoCMiLPiAgK9eiLOpEKTwLs1n/B+RF3XViQ=;
 b=XMX4tHYD4oZBFxpbD/x2EyLHdx6P9PWdiHqvXdbdm3hEIEzFs4NuAtywsxS6DVf65O
 jYcaI5u0UA9H0L+LTJhmALxaXnOlArahW5jRQLzg9C9+sYVfKQfL/FfHwxzTWyyYBEf3
 cesQLL9UCos/O48vaZdFR4JqVNa8tEy/ujoAYqrGQyMkZqJDKEUBh9wl7UIh7Fq9mUlL
 yFw6WQXPhbeHd2G+oCfFOLviIvyY2BYZgUkm8d9cBFkw3XkrkhD3w4Xu9npLkc+ffNCN
 kUTzwN598KsDaL0rA5CwoDFzgrQ8iBT3p+hAh3X8gxaFSF5s/IPOfsXefzff7tUCEV8G
 RCNw==
X-Gm-Message-State: AOJu0YxXdO3wf8v9sE9fUOoRA9NtlH7uz4kvRjz3QAk9Knke0Mk/ehO3
 iN1n/iHrgKxVXQzF1+Pf1wZStu/ZFkm6ywCqII0Pi4e1wuDV/pEvdGtJo3Q3f8z2X2dX5WLpvQe
 FXxizn6HDDfcU77KDpZcvyGXpRW1KgRkRvLRq7k2S
X-Google-Smtp-Source: AGHT+IFF/IpmYRABSYb3dM7AMyrHWEyF9MOZTSCJJ+1Ao4ZSnEcZj83Km0pqWzuDWn/cK9BCGtB7jp1lYSoC
X-Received: by 2002:a05:6a21:7899:b0:1c2:a696:6a48 with SMTP id
 adf61e73a8af0-1c3f129aa16mr1166556637.48.1721104270456; 
 Mon, 15 Jul 2024 21:31:10 -0700 (PDT)
Received: from postal.iol.unh.edu (postal.iol.unh.edu. [132.177.123.84])
 by smtp-relay.gmail.com with ESMTPS id
 d9443c01a7336-1fc0bc27820sm1105355ad.114.2024.07.15.21.31.10
 (version=TLS1_2 cipher=ECDHE-ECDSA-AES128-GCM-SHA256 bits=128/128);
 Mon, 15 Jul 2024 21:31:10 -0700 (PDT)
X-Relaying-Domain: iol.unh.edu
Date: Mon, 15 Jul 2024 21:31:10 -0700 (PDT)
Message-ID: <6695f78e.170a0220.eeeed.8044SMTPIN_ADDED_MISSING@mx.google.com>
Received: from [172.21.0.8] (unknown [172.18.0.240])
 by postal.iol.unh.edu (Postfix) with ESMTP id 8E163605C380;
 Tue, 16 Jul 2024 00:31:09 -0400 (EDT)
Subject: |PENDING| pw142410-142412 [PATCH] [v2,3/3] net/ice: fix return value
From: dpdklab@iol.unh.edu
To: Test Report <test-report@dpdk.org>
Cc: dpdk-test-reports@iol.unh.edu
In-Reply-To: <20240715180441.3682734-3-vladimir.medvedkin@intel.com>
References: <20240715180441.3682734-3-vladimir.medvedkin@intel.com>
Content-Type: text/plain
X-BeenThere: test-report@dpdk.org
X-Mailman-Version: 2.1.29
Precedence: list
List-Id: automatic DPDK test reports <test-report.dpdk.org>
List-Unsubscribe: <https://mails.dpdk.org/options/test-report>,
 <mailto:test-report-request@dpdk.org?subject=unsubscribe>
List-Archive: <http://mails.dpdk.org/archives/test-report/>
List-Post: <mailto:test-report@dpdk.org>
List-Help: <mailto:test-report-request@dpdk.org?subject=help>
List-Subscribe: <https://mails.dpdk.org/listinfo/test-report>,
 <mailto:test-report-request@dpdk.org?subject=subscribe>
Errors-To: test-report-bounces@dpdk.org

Test-Label: iol-unit-amd64-testing
Test-Status: PENDING
http://dpdk.org/patch/142412

_Testing pending_

Submitter: Vladimir Medvedkin <vladimir.medvedkin@intel.com>
Date: Monday, July 15 2024 18:04:41 
DPDK git baseline: Repo:dpdk
  Branch: master
  CommitID:fa8d2f7f28524a6c8defa3dcd94f5aa131aae084

142410-142412 --> testing pending

Test environment and result as below:

+---------------------+----------------+
|     Environment     | dpdk_unit_test |
+=====================+================+
| Windows Server 2022 | PASS           |
+---------------------+----------------+
| CentOS Stream 8     | PASS           |
+---------------------+----------------+
| CentOS Stream 9     | PASS           |
+---------------------+----------------+
| Debian Bullseye     | PASS           |
+---------------------+----------------+
| Debian 12           | PASS           |
+---------------------+----------------+
| Fedora 37           | PASS           |
+---------------------+----------------+
| Fedora 38           | PASS           |
+---------------------+----------------+
| Fedora 38 (Clang)   | PASS           |
+---------------------+----------------+
| Fedora 39           | PASS           |
+---------------------+----------------+
| Fedora 39 (Clang)   | PASS           |
+---------------------+----------------+
| Fedora 40           | PASS           |
+---------------------+----------------+
| Fedora 40 (Clang)   | PASS           |
+---------------------+----------------+
| openSUSE Leap 15    | PASS           |
+---------------------+----------------+
| RHEL8               | PASS           |
+---------------------+----------------+
| RHEL9               | PASS           |
+---------------------+----------------+
| Ubuntu 20.04        | PASS           |
+---------------------+----------------+
| Ubuntu 22.04        | PEND           |
+---------------------+----------------+
| Ubuntu 24.04        | PASS           |
+---------------------+----------------+
| Windows Server 2019 | PASS           |
+---------------------+----------------+


Windows Server 2022
	Kernel: 10.0.20348.2031
	Compiler: clang 15.0.7, gcc 8.1.0 (MinGW), and MSVC VS 17.9

CentOS Stream 8
	Kernel: 5.4.0-167-generic
	Compiler: gcc 8.5.0 20210514

CentOS Stream 9
	Kernel: 5.4.0-167-generic
	Compiler: gcc 11.4.1 20230605

Debian Bullseye
	Kernel: 5.4.0-167-generic
	Compiler: gcc 10.2.1-6

Debian 12
	Kernel: Container Host Kernel
	Compiler: gcc 12.2.0

Fedora 37
	Kernel: Depends on container host system
	Compiler: gcc 12.3.1

Fedora 38
	Kernel: Depends on container host
	Compiler: gcc 13.2.1

Fedora 38 (Clang)
	Kernel: Depends on container host
	Compiler: clang 16.0.6

Fedora 39
	Kernel: Depends on container host
	Compiler: gcc 13.2.1

Fedora 39 (Clang)
	Kernel: Depends on container host
	Compiler: clang 17.0.6

Fedora 40
	Kernel: Depends on container host
	Compiler: gcc 14.1.1

Fedora 40 (Clang)
	Kernel: Depends on container host
	Compiler: clang 18.1.6

openSUSE Leap 15
	Kernel: 5.4.0-167-generic
	Compiler: gcc 7.5.0

RHEL8
	Kernel: 5.4.0-167-generic
	Compiler: gcc 8.5.0 20210514 (Red Hat 8.5.0-20)

RHEL9
	Kernel: Depends on container host
	Compiler: gcc 11.4.1

Ubuntu 20.04
	Kernel: 5.4.0-167-generic
	Compiler: gcc 9.4.0-1ubuntu1~20.04.1

Ubuntu 22.04
	Kernel: 5.4.0-167-generic
	Compiler: gcc 11.4.0

Ubuntu 24.04
	Kernel: 5.4.0-167-generic
	Compiler: gcc 13.2.0

Windows Server 2019
	Kernel: 10.0.17763
	Compiler: clang 14.0 and gcc 8.1.0 (MinGW)

To view detailed results, visit:
https://lab.dpdk.org/results/dashboard/patchsets/30521/

UNH-IOL DPDK Community Lab

To manage your email subscriptions, visit: 
https://lab.dpdk.org/results/dashboard/preferences/subscriptions/