From mboxrd@z Thu Jan  1 00:00:00 1970
Return-Path: <test-report-bounces@dpdk.org>
Received: from mails.dpdk.org (mails.dpdk.org [217.70.189.124])
	by inbox.dpdk.org (Postfix) with ESMTP id AEA16455D8
	for <public@inbox.dpdk.org>; Tue, 16 Jul 2024 12:27:22 +0200 (CEST)
Received: from mails.dpdk.org (localhost [127.0.0.1])
	by mails.dpdk.org (Postfix) with ESMTP id ABA7F40B94;
	Tue, 16 Jul 2024 12:27:22 +0200 (CEST)
Received: from mail-il1-f228.google.com (mail-il1-f228.google.com
 [209.85.166.228])
 by mails.dpdk.org (Postfix) with ESMTP id 97596402AD
 for <test-report@dpdk.org>; Tue, 16 Jul 2024 12:27:21 +0200 (CEST)
Received: by mail-il1-f228.google.com with SMTP id
 e9e14a558f8ab-38b4e08c3e5so24527255ab.3
 for <test-report@dpdk.org>; Tue, 16 Jul 2024 03:27:21 -0700 (PDT)
DKIM-Signature: v=1; a=rsa-sha256; c=relaxed/relaxed;
 d=iol.unh.edu; s=unh-iol; t=1721125641; x=1721730441; darn=dpdk.org;
 h=references:in-reply-to:cc:to:from:subject:message-id:date:from:to
 :cc:subject:date:message-id:reply-to;
 bh=cbSLBuiEuxf2nXuXCUK32lkAbm6OEVmw1QdCUs3FDEs=;
 b=a2TD6yVausBFKeBIBjJNbimwrHUh27IeEtMuxFOH/mbd8GL+2a1p2hByxjiE/0DJK1
 g3nDKJFqG0BYhbZ+gZx4BV1iSM6LYpHPt9vCnucV5hmC9B7n8YcivbsKIyFIUUlBB7yI
 1DZ0ihTLB0OQmDjCLAfrBVbe3bAmcCNbreqZA=
X-Google-DKIM-Signature: v=1; a=rsa-sha256; c=relaxed/relaxed;
 d=1e100.net; s=20230601; t=1721125641; x=1721730441;
 h=references:in-reply-to:cc:to:from:subject:message-id:date
 :x-gm-message-state:from:to:cc:subject:date:message-id:reply-to;
 bh=cbSLBuiEuxf2nXuXCUK32lkAbm6OEVmw1QdCUs3FDEs=;
 b=XLONZXrU6zDReisuAnOw+U9Mgk5t9t3iPwnrSVUIdI15B572WBgHhfg4qwiWkNE7QH
 H2g/6vAqpedEpdXkVB0GYUIzaTl1PYLtvn9RFRiDK1i54ps69h53ciKp4qvgrc2HNLIQ
 Nn5oEo78TKTD3sHs+md+ncYnO1JnFo2JzXn3rnEahsMfqiyJ9LLrEe+iHp5rDFoByzMN
 3Q1HHlm6pe9s+busulIhWcwbWJjpDf1zEi4moRkWZPkfehtxl7jypZff1OzWsGXW+L29
 SXx/cskHvvfZ/fKtTS8C9odysv+P/VK+XaB+Wb2exPEoCvrx02xq73xhr2DCYtJn8l8L
 6Rjw==
X-Gm-Message-State: AOJu0YzqpfqG137+rIGD+x2Ob7/QSe/2ziRCXK7GJj2u91fRXtVzS9c9
 P94XChFfJBU6XjvXC0Sh73gNlLbn5m3utkikUWokHkZF45HqBEJ5rlX9M4ZJQZM3kraIAy5CRx8
 3VaNhp+bxJIfQqU7zvOGMMZouCvnxuEJ5vmlXCv0z60zRTIonZGVKn2B7
X-Google-Smtp-Source: AGHT+IEBKHCt3HJEZ2lvYvpWalSitQ/nllbkuLqjpwoawY9dklY0mW5HaitkAMzY0axEMbHNgMOi3XrqS8RE
X-Received: by 2002:a05:6e02:1563:b0:376:1299:81e8 with SMTP id
 e9e14a558f8ab-393d31742eamr22925565ab.28.1721125641020; 
 Tue, 16 Jul 2024 03:27:21 -0700 (PDT)
Received: from postal.iol.unh.edu (postal.iol.unh.edu.
 [2606:4100:3880:1234::84]) by smtp-relay.gmail.com with ESMTPS id
 e9e14a558f8ab-3900ff04321sm4691165ab.21.2024.07.16.03.27.20
 (version=TLS1_2 cipher=ECDHE-ECDSA-AES128-GCM-SHA256 bits=128/128);
 Tue, 16 Jul 2024 03:27:21 -0700 (PDT)
X-Relaying-Domain: iol.unh.edu
Date: Tue, 16 Jul 2024 03:27:21 -0700 (PDT)
Message-ID: <66964b09.050a0220.a0143.8a0eSMTPIN_ADDED_MISSING@mx.google.com>
Received: from [172.21.0.9] (unknown [172.18.0.240])
 by postal.iol.unh.edu (Postfix) with ESMTP id 7DB376052500;
 Tue, 16 Jul 2024 06:27:20 -0400 (EDT)
Subject: |SUCCESS| pw142418-142421 [PATCH] [v3,4/4] eal: describe Arm CPU fea
From: dpdklab@iol.unh.edu
To: Test Report <test-report@dpdk.org>
Cc: dpdk-test-reports@iol.unh.edu
In-Reply-To: <20240715225305.18563-4-wathsala.vithanage@arm.com>
References: <20240715225305.18563-4-wathsala.vithanage@arm.com>
Content-Type: text/plain
X-BeenThere: test-report@dpdk.org
X-Mailman-Version: 2.1.29
Precedence: list
List-Id: automatic DPDK test reports <test-report.dpdk.org>
List-Unsubscribe: <https://mails.dpdk.org/options/test-report>,
 <mailto:test-report-request@dpdk.org?subject=unsubscribe>
List-Archive: <http://mails.dpdk.org/archives/test-report/>
List-Post: <mailto:test-report@dpdk.org>
List-Help: <mailto:test-report-request@dpdk.org?subject=help>
List-Subscribe: <https://mails.dpdk.org/listinfo/test-report>,
 <mailto:test-report-request@dpdk.org?subject=subscribe>
Errors-To: test-report-bounces@dpdk.org

Test-Label: iol-abi-testing
Test-Status: SUCCESS
http://dpdk.org/patch/142421

_Testing PASS_

Submitter: Wathsala Vithanage <wathsala.vithanage@arm.com>
Date: Monday, July 15 2024 22:53:05 
DPDK git baseline: Repo:dpdk
  Branch: master
  CommitID:fa8d2f7f28524a6c8defa3dcd94f5aa131aae084

142418-142421 --> testing pass

Test environment and result as below:

+-------------------+----------+
|    Environment    | abi_test |
+===================+==========+
| CentOS Stream 8   | PASS     |
+-------------------+----------+
| CentOS Stream 9   | PASS     |
+-------------------+----------+
| Debian Bullseye   | PASS     |
+-------------------+----------+
| Fedora 37         | PASS     |
+-------------------+----------+
| Fedora 39 (Clang) | PASS     |
+-------------------+----------+
| Fedora 38         | PASS     |
+-------------------+----------+
| Fedora 40 (Clang) | PASS     |
+-------------------+----------+
| Fedora 38 (Clang) | PASS     |
+-------------------+----------+
| Fedora 39         | PASS     |
+-------------------+----------+
| Debian 12         | PASS     |
+-------------------+----------+
| RHEL9             | PASS     |
+-------------------+----------+
| Fedora 40         | PASS     |
+-------------------+----------+
| RHEL8             | PASS     |
+-------------------+----------+
| openSUSE Leap 15  | PASS     |
+-------------------+----------+
| Ubuntu 24.04      | PASS     |
+-------------------+----------+
| Ubuntu 22.04      | PASS     |
+-------------------+----------+


CentOS Stream 8
	Kernel: 5.4.0-167-generic
	Compiler: gcc 8.5.0 20210514

CentOS Stream 9
	Kernel: 5.4.0-167-generic
	Compiler: gcc 11.4.1 20230605

Debian Bullseye
	Kernel: 5.4.0-167-generic
	Compiler: gcc 10.2.1-6

Fedora 37
	Kernel: Depends on container host system
	Compiler: gcc 12.3.1

Fedora 39 (Clang)
	Kernel: Depends on container host
	Compiler: clang 17.0.6

Fedora 38
	Kernel: Depends on container host
	Compiler: gcc 13.2.1

Fedora 40 (Clang)
	Kernel: Depends on container host
	Compiler: clang 18.1.6

Fedora 38 (Clang)
	Kernel: Depends on container host
	Compiler: clang 16.0.6

Fedora 39
	Kernel: Depends on container host
	Compiler: gcc 13.2.1

Debian 12
	Kernel: Container Host Kernel
	Compiler: gcc 12.2.0

RHEL9
	Kernel: Depends on container host
	Compiler: gcc 11.4.1

Fedora 40
	Kernel: Depends on container host
	Compiler: gcc 14.1.1

RHEL8
	Kernel: 5.4.0-167-generic
	Compiler: gcc 8.5.0 20210514 (Red Hat 8.5.0-20)

openSUSE Leap 15
	Kernel: 5.4.0-167-generic
	Compiler: gcc 7.5.0

Ubuntu 24.04
	Kernel: 5.4.0-167-generic
	Compiler: gcc 13.2.0

Ubuntu 22.04
	Kernel: 5.4.0-167-generic
	Compiler: gcc 11.4.0

To view detailed results, visit:
https://lab.dpdk.org/results/dashboard/patchsets/30525/

UNH-IOL DPDK Community Lab

To manage your email subscriptions, visit: 
https://lab.dpdk.org/results/dashboard/preferences/subscriptions/