From mboxrd@z Thu Jan  1 00:00:00 1970
Return-Path: <test-report-bounces@dpdk.org>
Received: from mails.dpdk.org (mails.dpdk.org [217.70.189.124])
	by inbox.dpdk.org (Postfix) with ESMTP id 9A586455D8
	for <public@inbox.dpdk.org>; Tue, 16 Jul 2024 13:05:52 +0200 (CEST)
Received: from mails.dpdk.org (localhost [127.0.0.1])
	by mails.dpdk.org (Postfix) with ESMTP id 960B140B94;
	Tue, 16 Jul 2024 13:05:52 +0200 (CEST)
Received: from mail-yw1-f227.google.com (mail-yw1-f227.google.com
 [209.85.128.227])
 by mails.dpdk.org (Postfix) with ESMTP id D510F402AD
 for <test-report@dpdk.org>; Tue, 16 Jul 2024 13:05:50 +0200 (CEST)
Received: by mail-yw1-f227.google.com with SMTP id
 00721157ae682-65cd720cee2so48411357b3.1
 for <test-report@dpdk.org>; Tue, 16 Jul 2024 04:05:50 -0700 (PDT)
DKIM-Signature: v=1; a=rsa-sha256; c=relaxed/relaxed;
 d=iol.unh.edu; s=unh-iol; t=1721127950; x=1721732750; darn=dpdk.org;
 h=references:in-reply-to:cc:to:from:subject:message-id:date:from:to
 :cc:subject:date:message-id:reply-to;
 bh=m4AXydfgPc9V9l83M4rVVNYsmCvUCM+l4W/Tj6wo7f0=;
 b=Fgz2aWzRnAOO2LVghhaEHNuRLOusdEqYrJk/RrA22U/89P7dp8z9T+SHj9SHBomVIt
 CpO/w8nQwSlLrsivlp+KqVJm58qQ95bBKp85w0wGHrf4LjdunXTl+d9469h6AJJH60y2
 A3Y/dSvfqondvAtw+1OIjsbfhbQzkLjA/j258=
X-Google-DKIM-Signature: v=1; a=rsa-sha256; c=relaxed/relaxed;
 d=1e100.net; s=20230601; t=1721127950; x=1721732750;
 h=references:in-reply-to:cc:to:from:subject:message-id:date
 :x-gm-message-state:from:to:cc:subject:date:message-id:reply-to;
 bh=m4AXydfgPc9V9l83M4rVVNYsmCvUCM+l4W/Tj6wo7f0=;
 b=tlcztykaZC+fDJg2FIz1WZisdnTHLcCE6fqShG+rwGiJTbRzwpjw0gOaeYdsLVx7/P
 tumjs4yG6WEpxUswn55rwDvoQa15OhcgSV3psV5X6vRZb7faeUctkrSbQnQP+AA1a9yT
 lnfdcgz1jyIFhk1eoU9KAP+biT8o6bHxX7iWkWwxSXJkpk46e2KxU/g82dGrpJ8chwUx
 bDJgGTWVsZQy03g0QFQaoXK5Ko/H3yMvVDDS7Vh69M2xni14VYLxi5gMKSHgOBmnjucX
 2kRipHTNKBr6deNRPHOj347KRK+9oq3/vwTGgl7Y2SjXpsfU3MZOOkRE9f5Ho2G+ZkIU
 k9HQ==
X-Gm-Message-State: AOJu0YzcU7ZahJ8YuvCPvWYsDxPEehDKfl4i0YUaIbwbiUovqZskIeFT
 m5ni9joZVmoa09fTom4kKkuXiOw8zB9FAFu86ATCy7iNlagrUoGAlUYAx28t7j1ZoLXI6wT/Stk
 V4spt/0yU/H8ElLBCK4sP6aQ82Iw1/ag9EJc9eAfq
X-Google-Smtp-Source: AGHT+IGmhJpd8v7KdYdevk0Zxx1byhageuQZ7DDWkZOsx2PPIzixCIqrYvn4Zhu6atft+uVZ42K+Ee+XpYKm
X-Received: by 2002:a0d:d083:0:b0:65f:a0e5:8324 with SMTP id
 00721157ae682-6637f2b9e00mr21020987b3.4.1721127950193; 
 Tue, 16 Jul 2024 04:05:50 -0700 (PDT)
Received: from postal.iol.unh.edu (postal.iol.unh.edu. [132.177.123.84])
 by smtp-relay.gmail.com with ESMTPS id
 00721157ae682-65fc31c3a56sm2501627b3.20.2024.07.16.04.05.50
 (version=TLS1_2 cipher=ECDHE-ECDSA-AES128-GCM-SHA256 bits=128/128);
 Tue, 16 Jul 2024 04:05:50 -0700 (PDT)
X-Relaying-Domain: iol.unh.edu
Date: Tue, 16 Jul 2024 04:05:50 -0700 (PDT)
Message-ID: <6696540e.050a0220.64d4c.b7d3SMTPIN_ADDED_MISSING@mx.google.com>
Received: from [172.17.0.3] (unknown [172.18.0.217])
 by postal.iol.unh.edu (Postfix) with ESMTP id CB4A06052500;
 Tue, 16 Jul 2024 07:05:49 -0400 (EDT)
Subject: |PENDING| pw142418-142421 [PATCH] [v3,4/4] eal: describe Arm CPU fea
From: dpdklab@iol.unh.edu
To: Test Report <test-report@dpdk.org>
Cc: dpdk-test-reports@iol.unh.edu
In-Reply-To: <20240715225305.18563-4-wathsala.vithanage@arm.com>
References: <20240715225305.18563-4-wathsala.vithanage@arm.com>
Content-Type: text/plain
X-BeenThere: test-report@dpdk.org
X-Mailman-Version: 2.1.29
Precedence: list
List-Id: automatic DPDK test reports <test-report.dpdk.org>
List-Unsubscribe: <https://mails.dpdk.org/options/test-report>,
 <mailto:test-report-request@dpdk.org?subject=unsubscribe>
List-Archive: <http://mails.dpdk.org/archives/test-report/>
List-Post: <mailto:test-report@dpdk.org>
List-Help: <mailto:test-report-request@dpdk.org?subject=help>
List-Subscribe: <https://mails.dpdk.org/listinfo/test-report>,
 <mailto:test-report-request@dpdk.org?subject=subscribe>
Errors-To: test-report-bounces@dpdk.org

Test-Label: iol-unit-amd64-testing
Test-Status: PENDING
http://dpdk.org/patch/142421

_Testing pending_

Submitter: Wathsala Vithanage <wathsala.vithanage@arm.com>
Date: Monday, July 15 2024 22:53:05 
DPDK git baseline: Repo:dpdk
  Branch: master
  CommitID:fa8d2f7f28524a6c8defa3dcd94f5aa131aae084

142418-142421 --> testing pending

Test environment and result as below:

+---------------------+----------------+
|     Environment     | dpdk_unit_test |
+=====================+================+
| Windows Server 2019 | PASS           |
+---------------------+----------------+
| Windows Server 2022 | PASS           |
+---------------------+----------------+
| CentOS Stream 8     | PASS           |
+---------------------+----------------+
| CentOS Stream 9     | PASS           |
+---------------------+----------------+
| Debian Bullseye     | PEND           |
+---------------------+----------------+
| Debian 12           | PEND           |
+---------------------+----------------+
| Fedora 37           | PEND           |
+---------------------+----------------+
| Fedora 38           | PEND           |
+---------------------+----------------+
| Fedora 39 (Clang)   | PEND           |
+---------------------+----------------+
| Fedora 38 (Clang)   | PEND           |
+---------------------+----------------+
| Fedora 39           | PEND           |
+---------------------+----------------+
| Fedora 40           | PEND           |
+---------------------+----------------+
| Fedora 40 (Clang)   | PEND           |
+---------------------+----------------+
| RHEL8               | PEND           |
+---------------------+----------------+
| openSUSE Leap 15    | PEND           |
+---------------------+----------------+
| RHEL9               | PEND           |
+---------------------+----------------+
| Ubuntu 20.04        | PEND           |
+---------------------+----------------+
| Ubuntu 22.04        | PEND           |
+---------------------+----------------+
| Ubuntu 24.04        | PEND           |
+---------------------+----------------+


Windows Server 2019
	Kernel: 10.0.17763
	Compiler: clang 14.0 and gcc 8.1.0 (MinGW)

Windows Server 2022
	Kernel: 10.0.20348.2031
	Compiler: clang 15.0.7, gcc 8.1.0 (MinGW), and MSVC VS 17.9

CentOS Stream 8
	Kernel: 5.4.0-167-generic
	Compiler: gcc 8.5.0 20210514

CentOS Stream 9
	Kernel: 5.4.0-167-generic
	Compiler: gcc 11.4.1 20230605

Debian Bullseye
	Kernel: 5.4.0-167-generic
	Compiler: gcc 10.2.1-6

Debian 12
	Kernel: Container Host Kernel
	Compiler: gcc 12.2.0

Fedora 37
	Kernel: Depends on container host system
	Compiler: gcc 12.3.1

Fedora 38
	Kernel: Depends on container host
	Compiler: gcc 13.2.1

Fedora 39 (Clang)
	Kernel: Depends on container host
	Compiler: clang 17.0.6

Fedora 38 (Clang)
	Kernel: Depends on container host
	Compiler: clang 16.0.6

Fedora 39
	Kernel: Depends on container host
	Compiler: gcc 13.2.1

Fedora 40
	Kernel: Depends on container host
	Compiler: gcc 14.1.1

Fedora 40 (Clang)
	Kernel: Depends on container host
	Compiler: clang 18.1.6

RHEL8
	Kernel: 5.4.0-167-generic
	Compiler: gcc 8.5.0 20210514 (Red Hat 8.5.0-20)

openSUSE Leap 15
	Kernel: 5.4.0-167-generic
	Compiler: gcc 7.5.0

RHEL9
	Kernel: Depends on container host
	Compiler: gcc 11.4.1

Ubuntu 20.04
	Kernel: 5.4.0-167-generic
	Compiler: gcc 9.4.0-1ubuntu1~20.04.1

Ubuntu 22.04
	Kernel: 5.4.0-167-generic
	Compiler: gcc 11.4.0

Ubuntu 24.04
	Kernel: 5.4.0-167-generic
	Compiler: gcc 13.2.0

To view detailed results, visit:
https://lab.dpdk.org/results/dashboard/patchsets/30525/

UNH-IOL DPDK Community Lab

To manage your email subscriptions, visit: 
https://lab.dpdk.org/results/dashboard/preferences/subscriptions/