From mboxrd@z Thu Jan  1 00:00:00 1970
Return-Path: <test-report-bounces@dpdk.org>
Received: from mails.dpdk.org (mails.dpdk.org [217.70.189.124])
	by inbox.dpdk.org (Postfix) with ESMTP id 820D6455D8
	for <public@inbox.dpdk.org>; Tue, 16 Jul 2024 13:08:18 +0200 (CEST)
Received: from mails.dpdk.org (localhost [127.0.0.1])
	by mails.dpdk.org (Postfix) with ESMTP id 7CB9940B94;
	Tue, 16 Jul 2024 13:08:18 +0200 (CEST)
Received: from mail-qk1-f226.google.com (mail-qk1-f226.google.com
 [209.85.222.226])
 by mails.dpdk.org (Postfix) with ESMTP id BE183402AD
 for <test-report@dpdk.org>; Tue, 16 Jul 2024 13:08:16 +0200 (CEST)
Received: by mail-qk1-f226.google.com with SMTP id
 af79cd13be357-79f1828ed64so364474885a.1
 for <test-report@dpdk.org>; Tue, 16 Jul 2024 04:08:16 -0700 (PDT)
DKIM-Signature: v=1; a=rsa-sha256; c=relaxed/relaxed;
 d=iol.unh.edu; s=unh-iol; t=1721128096; x=1721732896; darn=dpdk.org;
 h=references:in-reply-to:cc:to:from:subject:message-id:date:from:to
 :cc:subject:date:message-id:reply-to;
 bh=9y8ZE/Vi/U0GBrIIIwZ8MWvBhvTZqFxWb4kyVSPje9o=;
 b=Y2rpbsILRwSlC14KSqyrb6nzdm6UHuyFzSCDGn8PmFbouufBvzOxhHhU7lbv1tZhE7
 2m69J6+eEFPJpbSfOD6CljnCTh0yg6svxBF1J+PeFuqGFlxsvG9U6Wnz05mo8v6TTHDq
 mjvBGFo8Eql2GHdg4LZZ/Bt2rJCEqj01tmydc=
X-Google-DKIM-Signature: v=1; a=rsa-sha256; c=relaxed/relaxed;
 d=1e100.net; s=20230601; t=1721128096; x=1721732896;
 h=references:in-reply-to:cc:to:from:subject:message-id:date
 :x-gm-message-state:from:to:cc:subject:date:message-id:reply-to;
 bh=9y8ZE/Vi/U0GBrIIIwZ8MWvBhvTZqFxWb4kyVSPje9o=;
 b=Yf4E7Eh3Cjka36RpWZPbqMcysrKsoSGlxb+m1wIBePDLm2s7LGHkyDb1kAodvSOXRA
 ZD/vseTkiezi7J9vLwmPveszJny5Zij6+f4O9DMnpLfCFWZUC4wUNWwueqoBImib0cXG
 FLQ4Atb4NWdqFtsXBaNuK2HyI7a9FdFRrnh7w0ICFjqYy07Fwgum9H6K7mulKLtTmE+G
 sziPF67xofAovb1Cfon2Kw4vu5aj6vtHCp5S08fOKQB07cO0vL1fgknRJrZrTfPiPhZs
 R/140bVTSI1KtJOafv521XFfrPLmBlDisgtmI8DZ2RE0L8W6RfkgSTNUK371F4N7/cvw
 15nw==
X-Gm-Message-State: AOJu0YxLApj/TjDELj3okIyXp/NwAsMKLYYb6pvXmgZeiRrRAJ4cQKkE
 OD7DDoJI5HcngbsEALS13cD+mXr69A1tksMSAc2y+oYS2zohUgmXfwYU38N8N1/sPcRx6tDQlzM
 vmW6ewLaqrfO2AfCfkonI1ub8ihmpmY2ekv45CCII
X-Google-Smtp-Source: AGHT+IH0rsVneDFy2QnwXxMRixaU+rzNnvI9vahpDD3M418OOlOsDimW0qPaJVL/I8HZq7kdlUui6j8YeG8N
X-Received: by 2002:a05:6214:2621:b0:6b5:65ab:e860 with SMTP id
 6a1803df08f44-6b77f4f81b2mr22139426d6.20.1721128096157; 
 Tue, 16 Jul 2024 04:08:16 -0700 (PDT)
Received: from postal.iol.unh.edu (postal.iol.unh.edu. [132.177.123.84])
 by smtp-relay.gmail.com with ESMTPS id
 6a1803df08f44-6b7619cf3b1sm3564596d6.40.2024.07.16.04.08.16
 (version=TLS1_2 cipher=ECDHE-ECDSA-AES128-GCM-SHA256 bits=128/128);
 Tue, 16 Jul 2024 04:08:16 -0700 (PDT)
X-Relaying-Domain: iol.unh.edu
Date: Tue, 16 Jul 2024 04:08:16 -0700 (PDT)
Message-ID: <669654a0.050a0220.b2a6c.1bc8SMTPIN_ADDED_MISSING@mx.google.com>
Received: from [172.17.0.5] (unknown [172.18.0.217])
 by postal.iol.unh.edu (Postfix) with ESMTP id C9F0D6052500;
 Tue, 16 Jul 2024 07:08:15 -0400 (EDT)
Subject: |PENDING| pw142418-142421 [PATCH] [v3,4/4] eal: describe Arm CPU fea
From: dpdklab@iol.unh.edu
To: Test Report <test-report@dpdk.org>
Cc: dpdk-test-reports@iol.unh.edu
In-Reply-To: <20240715225305.18563-4-wathsala.vithanage@arm.com>
References: <20240715225305.18563-4-wathsala.vithanage@arm.com>
Content-Type: text/plain
X-BeenThere: test-report@dpdk.org
X-Mailman-Version: 2.1.29
Precedence: list
List-Id: automatic DPDK test reports <test-report.dpdk.org>
List-Unsubscribe: <https://mails.dpdk.org/options/test-report>,
 <mailto:test-report-request@dpdk.org?subject=unsubscribe>
List-Archive: <http://mails.dpdk.org/archives/test-report/>
List-Post: <mailto:test-report@dpdk.org>
List-Help: <mailto:test-report-request@dpdk.org?subject=help>
List-Subscribe: <https://mails.dpdk.org/listinfo/test-report>,
 <mailto:test-report-request@dpdk.org?subject=subscribe>
Errors-To: test-report-bounces@dpdk.org

Test-Label: iol-unit-amd64-testing
Test-Status: PENDING
http://dpdk.org/patch/142421

_Testing pending_

Submitter: Wathsala Vithanage <wathsala.vithanage@arm.com>
Date: Monday, July 15 2024 22:53:05 
DPDK git baseline: Repo:dpdk
  Branch: master
  CommitID:fa8d2f7f28524a6c8defa3dcd94f5aa131aae084

142418-142421 --> testing pending

Test environment and result as below:

+---------------------+----------------+
|     Environment     | dpdk_unit_test |
+=====================+================+
| Windows Server 2019 | PASS           |
+---------------------+----------------+
| Windows Server 2022 | PASS           |
+---------------------+----------------+
| CentOS Stream 8     | PASS           |
+---------------------+----------------+
| CentOS Stream 9     | PASS           |
+---------------------+----------------+
| Debian Bullseye     | PASS           |
+---------------------+----------------+
| Debian 12           | PEND           |
+---------------------+----------------+
| Fedora 37           | PEND           |
+---------------------+----------------+
| Fedora 38           | PEND           |
+---------------------+----------------+
| Fedora 39 (Clang)   | PEND           |
+---------------------+----------------+
| Fedora 38 (Clang)   | PEND           |
+---------------------+----------------+
| Fedora 39           | PEND           |
+---------------------+----------------+
| Fedora 40           | PEND           |
+---------------------+----------------+
| Fedora 40 (Clang)   | PEND           |
+---------------------+----------------+
| RHEL8               | PEND           |
+---------------------+----------------+
| openSUSE Leap 15    | PEND           |
+---------------------+----------------+
| RHEL9               | PEND           |
+---------------------+----------------+
| Ubuntu 20.04        | PEND           |
+---------------------+----------------+
| Ubuntu 22.04        | PEND           |
+---------------------+----------------+
| Ubuntu 24.04        | PEND           |
+---------------------+----------------+


Windows Server 2019
	Kernel: 10.0.17763
	Compiler: clang 14.0 and gcc 8.1.0 (MinGW)

Windows Server 2022
	Kernel: 10.0.20348.2031
	Compiler: clang 15.0.7, gcc 8.1.0 (MinGW), and MSVC VS 17.9

CentOS Stream 8
	Kernel: 5.4.0-167-generic
	Compiler: gcc 8.5.0 20210514

CentOS Stream 9
	Kernel: 5.4.0-167-generic
	Compiler: gcc 11.4.1 20230605

Debian Bullseye
	Kernel: 5.4.0-167-generic
	Compiler: gcc 10.2.1-6

Debian 12
	Kernel: Container Host Kernel
	Compiler: gcc 12.2.0

Fedora 37
	Kernel: Depends on container host system
	Compiler: gcc 12.3.1

Fedora 38
	Kernel: Depends on container host
	Compiler: gcc 13.2.1

Fedora 39 (Clang)
	Kernel: Depends on container host
	Compiler: clang 17.0.6

Fedora 38 (Clang)
	Kernel: Depends on container host
	Compiler: clang 16.0.6

Fedora 39
	Kernel: Depends on container host
	Compiler: gcc 13.2.1

Fedora 40
	Kernel: Depends on container host
	Compiler: gcc 14.1.1

Fedora 40 (Clang)
	Kernel: Depends on container host
	Compiler: clang 18.1.6

RHEL8
	Kernel: 5.4.0-167-generic
	Compiler: gcc 8.5.0 20210514 (Red Hat 8.5.0-20)

openSUSE Leap 15
	Kernel: 5.4.0-167-generic
	Compiler: gcc 7.5.0

RHEL9
	Kernel: Depends on container host
	Compiler: gcc 11.4.1

Ubuntu 20.04
	Kernel: 5.4.0-167-generic
	Compiler: gcc 9.4.0-1ubuntu1~20.04.1

Ubuntu 22.04
	Kernel: 5.4.0-167-generic
	Compiler: gcc 11.4.0

Ubuntu 24.04
	Kernel: 5.4.0-167-generic
	Compiler: gcc 13.2.0

To view detailed results, visit:
https://lab.dpdk.org/results/dashboard/patchsets/30525/

UNH-IOL DPDK Community Lab

To manage your email subscriptions, visit: 
https://lab.dpdk.org/results/dashboard/preferences/subscriptions/