From mboxrd@z Thu Jan  1 00:00:00 1970
Return-Path: <test-report-bounces@dpdk.org>
Received: from mails.dpdk.org (mails.dpdk.org [217.70.189.124])
	by inbox.dpdk.org (Postfix) with ESMTP id 77D07455D8
	for <public@inbox.dpdk.org>; Tue, 16 Jul 2024 13:24:35 +0200 (CEST)
Received: from mails.dpdk.org (localhost [127.0.0.1])
	by mails.dpdk.org (Postfix) with ESMTP id 748C440A71;
	Tue, 16 Jul 2024 13:24:35 +0200 (CEST)
Received: from mail-qt1-f226.google.com (mail-qt1-f226.google.com
 [209.85.160.226])
 by mails.dpdk.org (Postfix) with ESMTP id B21BB402AD
 for <test-report@dpdk.org>; Tue, 16 Jul 2024 13:24:34 +0200 (CEST)
Received: by mail-qt1-f226.google.com with SMTP id
 d75a77b69052e-44c2c4ccb7aso45067161cf.1
 for <test-report@dpdk.org>; Tue, 16 Jul 2024 04:24:34 -0700 (PDT)
DKIM-Signature: v=1; a=rsa-sha256; c=relaxed/relaxed;
 d=iol.unh.edu; s=unh-iol; t=1721129074; x=1721733874; darn=dpdk.org;
 h=references:in-reply-to:cc:to:from:subject:message-id:date:from:to
 :cc:subject:date:message-id:reply-to;
 bh=uZF4H7tmkD234XdxVpN3cReGXOahL37GFqUhll9n2qM=;
 b=Ulqc4uAnJiA4WsAIUdGnHMSKFoE+93wu4hXnn2ZL/k+k5ihI76H7yapW+Tz/tXIO3L
 ynwZbnXLRQGSGaVomF/y0jS5tcPWtSsjescT+PHgBDmvUloUW+8AyxguDem4zxMt0N6z
 jwlrUe4qDydX4ESubbBQdhxKlRCHIzrJiyBCs=
X-Google-DKIM-Signature: v=1; a=rsa-sha256; c=relaxed/relaxed;
 d=1e100.net; s=20230601; t=1721129074; x=1721733874;
 h=references:in-reply-to:cc:to:from:subject:message-id:date
 :x-gm-message-state:from:to:cc:subject:date:message-id:reply-to;
 bh=uZF4H7tmkD234XdxVpN3cReGXOahL37GFqUhll9n2qM=;
 b=dnGKeuzapQwPwwGBMT8W/u/mPIoMeVglqoMDzjf38fD2nRCnt4ryT0YHOkl7MfnVoy
 IjekiHkN+IOxPs6TEhGpxbx+C/edgCINz5E7UqGj8+Eu5pHtXRgFvyWQWl0zu6z5BLPt
 95VLLn4F4FB/gcKFzsv+wmfl9yshk0wZ26LMrshMZnjBsgOCDl4OCxtd8GCgB4PkhWex
 glD6P5TlBqY+ArIy9bhQdEDhfsrUMcM3g97BcLIbEu2WtkrMF9QQWezne/NWiP/XthGY
 SHjgEtHf6jrdje0gYgoL11saIuHfY3LgNSbwfLiqOhu2pj+3ZQNK/8yd3bOg23CGcOnP
 k8Iw==
X-Gm-Message-State: AOJu0Yy9Wxyx03W75sWu9CwVEzP1s5US2eQxBPEtP+YbxuWoA8NtpdGP
 e2nuDB4YBMqss/7PJQi1dK2cLRT3YjyZv00d/cy44SEcDoDOmZLJh7rxwxmh2KpBwYweOWugT+T
 ZWppg3v9cDS9ZPcQxyTMgs3ki1xko29qdb688TYmA
X-Google-Smtp-Source: AGHT+IFYZwr/82WENIcMaP6gtR3/M71kxhiBmxxay6pgSTJOyN88lWIXDWyrRktPUZu7IN8aKspI0fy1CQmO
X-Received: by 2002:a05:6214:f0f:b0:6b5:8913:d63a with SMTP id
 6a1803df08f44-6b780fb74c6mr24861206d6.12.1721129073947; 
 Tue, 16 Jul 2024 04:24:33 -0700 (PDT)
Received: from postal.iol.unh.edu (postal.iol.unh.edu. [132.177.123.84])
 by smtp-relay.gmail.com with ESMTPS id
 6a1803df08f44-6b761a5cd40sm3590476d6.66.2024.07.16.04.24.33
 (version=TLS1_2 cipher=ECDHE-ECDSA-AES128-GCM-SHA256 bits=128/128);
 Tue, 16 Jul 2024 04:24:33 -0700 (PDT)
X-Relaying-Domain: iol.unh.edu
Date: Tue, 16 Jul 2024 04:24:33 -0700 (PDT)
Message-ID: <66965871.050a0220.b9563.238bSMTPIN_ADDED_MISSING@mx.google.com>
Received: from [172.21.0.6] (unknown [172.18.0.240])
 by postal.iol.unh.edu (Postfix) with ESMTP id A3A9D6052500;
 Tue, 16 Jul 2024 07:24:33 -0400 (EDT)
Subject: |PENDING| pw142418-142421 [PATCH] [v3,4/4] eal: describe Arm CPU fea
From: dpdklab@iol.unh.edu
To: Test Report <test-report@dpdk.org>
Cc: dpdk-test-reports@iol.unh.edu
In-Reply-To: <20240715225305.18563-4-wathsala.vithanage@arm.com>
References: <20240715225305.18563-4-wathsala.vithanage@arm.com>
Content-Type: text/plain
X-BeenThere: test-report@dpdk.org
X-Mailman-Version: 2.1.29
Precedence: list
List-Id: automatic DPDK test reports <test-report.dpdk.org>
List-Unsubscribe: <https://mails.dpdk.org/options/test-report>,
 <mailto:test-report-request@dpdk.org?subject=unsubscribe>
List-Archive: <http://mails.dpdk.org/archives/test-report/>
List-Post: <mailto:test-report@dpdk.org>
List-Help: <mailto:test-report-request@dpdk.org?subject=help>
List-Subscribe: <https://mails.dpdk.org/listinfo/test-report>,
 <mailto:test-report-request@dpdk.org?subject=subscribe>
Errors-To: test-report-bounces@dpdk.org

Test-Label: iol-unit-amd64-testing
Test-Status: PENDING
http://dpdk.org/patch/142421

_Testing pending_

Submitter: Wathsala Vithanage <wathsala.vithanage@arm.com>
Date: Monday, July 15 2024 22:53:05 
DPDK git baseline: Repo:dpdk
  Branch: master
  CommitID:fa8d2f7f28524a6c8defa3dcd94f5aa131aae084

142418-142421 --> testing pending

Test environment and result as below:

+---------------------+----------------+
|     Environment     | dpdk_unit_test |
+=====================+================+
| Windows Server 2019 | PASS           |
+---------------------+----------------+
| Windows Server 2022 | PASS           |
+---------------------+----------------+
| CentOS Stream 8     | PASS           |
+---------------------+----------------+
| CentOS Stream 9     | PASS           |
+---------------------+----------------+
| Debian Bullseye     | PASS           |
+---------------------+----------------+
| Debian 12           | PASS           |
+---------------------+----------------+
| Fedora 37           | PASS           |
+---------------------+----------------+
| Fedora 38           | PASS           |
+---------------------+----------------+
| Fedora 39 (Clang)   | PASS           |
+---------------------+----------------+
| Fedora 38 (Clang)   | PEND           |
+---------------------+----------------+
| Fedora 39           | PASS           |
+---------------------+----------------+
| Fedora 40           | PASS           |
+---------------------+----------------+
| Fedora 40 (Clang)   | PEND           |
+---------------------+----------------+
| RHEL8               | PEND           |
+---------------------+----------------+
| openSUSE Leap 15    | PEND           |
+---------------------+----------------+
| RHEL9               | PEND           |
+---------------------+----------------+
| Ubuntu 20.04        | PEND           |
+---------------------+----------------+
| Ubuntu 22.04        | PEND           |
+---------------------+----------------+
| Ubuntu 24.04        | PEND           |
+---------------------+----------------+


Windows Server 2019
	Kernel: 10.0.17763
	Compiler: clang 14.0 and gcc 8.1.0 (MinGW)

Windows Server 2022
	Kernel: 10.0.20348.2031
	Compiler: clang 15.0.7, gcc 8.1.0 (MinGW), and MSVC VS 17.9

CentOS Stream 8
	Kernel: 5.4.0-167-generic
	Compiler: gcc 8.5.0 20210514

CentOS Stream 9
	Kernel: 5.4.0-167-generic
	Compiler: gcc 11.4.1 20230605

Debian Bullseye
	Kernel: 5.4.0-167-generic
	Compiler: gcc 10.2.1-6

Debian 12
	Kernel: Container Host Kernel
	Compiler: gcc 12.2.0

Fedora 37
	Kernel: Depends on container host system
	Compiler: gcc 12.3.1

Fedora 38
	Kernel: Depends on container host
	Compiler: gcc 13.2.1

Fedora 39 (Clang)
	Kernel: Depends on container host
	Compiler: clang 17.0.6

Fedora 38 (Clang)
	Kernel: Depends on container host
	Compiler: clang 16.0.6

Fedora 39
	Kernel: Depends on container host
	Compiler: gcc 13.2.1

Fedora 40
	Kernel: Depends on container host
	Compiler: gcc 14.1.1

Fedora 40 (Clang)
	Kernel: Depends on container host
	Compiler: clang 18.1.6

RHEL8
	Kernel: 5.4.0-167-generic
	Compiler: gcc 8.5.0 20210514 (Red Hat 8.5.0-20)

openSUSE Leap 15
	Kernel: 5.4.0-167-generic
	Compiler: gcc 7.5.0

RHEL9
	Kernel: Depends on container host
	Compiler: gcc 11.4.1

Ubuntu 20.04
	Kernel: 5.4.0-167-generic
	Compiler: gcc 9.4.0-1ubuntu1~20.04.1

Ubuntu 22.04
	Kernel: 5.4.0-167-generic
	Compiler: gcc 11.4.0

Ubuntu 24.04
	Kernel: 5.4.0-167-generic
	Compiler: gcc 13.2.0

To view detailed results, visit:
https://lab.dpdk.org/results/dashboard/patchsets/30525/

UNH-IOL DPDK Community Lab

To manage your email subscriptions, visit: 
https://lab.dpdk.org/results/dashboard/preferences/subscriptions/